BEGIN:VCALENDAR
VERSION:2.0
PRODID:-//EZFacility.com, Inc.//EZL 2.5.5.28621
BEGIN:VEVENT
UID:10704102@ezleagues.ezfacility.com
DTSTAMP:20260422T110939Z
CREATED:20260422T110939Z
DTSTART:20170922T011500Z
DTEND:20170922T015500Z
LOCATION:LG Field 1
CONTACT:
SUMMARY:Pirates VS. Tulsa Rovers 
DESCRIPTION:League Name: Men's Over 30 - FALL\nGame Type: Regular\nGame Sta
 tus: Complete\nHome Team: Pirates\nAway Team: Tulsa Rovers \nHome Score: 5
 \nAway Score: 6
END:VEVENT
BEGIN:VEVENT
UID:10704106@ezleagues.ezfacility.com
DTSTAMP:20260422T110939Z
CREATED:20260422T110939Z
DTSTART:20170929T020000Z
DTEND:20170929T024000Z
LOCATION:LG Field 1
CONTACT:
SUMMARY:FC Roberto  VS. Pirates
DESCRIPTION:League Name: Men's Over 30 - FALL\nGame Type: Regular\nGame Sta
 tus: Complete\nHome Team: FC Roberto \nAway Team: Pirates\nHome Score: 3\n
 Away Score: 9
END:VEVENT
BEGIN:VEVENT
UID:10704114@ezleagues.ezfacility.com
DTSTAMP:20260422T110939Z
CREATED:20260422T110939Z
DTSTART:20171006T020000Z
DTEND:20171006T024000Z
LOCATION:LG Field 2
CONTACT:
SUMMARY:Pirates VS. Heisenberg
DESCRIPTION:League Name: Men's Over 30 - FALL\nGame Type: Regular\nGame Sta
 tus: Complete\nHome Team: Pirates\nAway Team: Heisenberg\nHome Score: 1\nA
 way Score: 3
END:VEVENT
BEGIN:VEVENT
UID:10704125@ezleagues.ezfacility.com
DTSTAMP:20260422T110939Z
CREATED:20260422T110939Z
DTSTART:20171013T024500Z
DTEND:20171013T032500Z
LOCATION:LG Field 2
CONTACT:
SUMMARY:Pirates VS. Lions of the Desert
DESCRIPTION:League Name: Men's Over 30 - FALL\nGame Type: Regular\nGame Sta
 tus: Complete\nHome Team: Pirates\nAway Team: Lions of the Desert\nHome Sc
 ore: 5\nAway Score: 5
END:VEVENT
BEGIN:VEVENT
UID:10704127@ezleagues.ezfacility.com
DTSTAMP:20260422T110939Z
CREATED:20260422T110939Z
DTSTART:20171020T024500Z
DTEND:20171020T032500Z
LOCATION:LG Field 2
CONTACT:
SUMMARY:Pirates VS. Jesters
DESCRIPTION:League Name: Men's Over 30 - FALL\nGame Type: Regular\nGame Sta
 tus: Complete\nHome Team: Pirates\nAway Team: Jesters\nHome Score: 2\nAway
  Score: 4
END:VEVENT
BEGIN:VEVENT
UID:10704134@ezleagues.ezfacility.com
DTSTAMP:20260422T110939Z
CREATED:20260422T110939Z
DTSTART:20171027T011500Z
DTEND:20171027T015500Z
LOCATION:LG Field 2
CONTACT:
SUMMARY:Pirates VS. Waterboys 
DESCRIPTION:League Name: Men's Over 30 - FALL\nGame Type: Regular\nGame Sta
 tus: Complete\nHome Team: Pirates\nAway Team: Waterboys \nHome Score: 6\nA
 way Score: 3
END:VEVENT
BEGIN:VEVENT
UID:10704142@ezleagues.ezfacility.com
DTSTAMP:20260422T110939Z
CREATED:20260422T110939Z
DTSTART:20171103T033000Z
DTEND:20171103T041000Z
LOCATION:LG Field 2
CONTACT:
SUMMARY:Needs Improvement VS. Pirates
DESCRIPTION:League Name: Men's Over 30 - FALL\nGame Type: Regular\nGame Sta
 tus: Complete\nHome Team: Needs Improvement\nAway Team: Pirates\nHome Scor
 e: 6\nAway Score: 5
END:VEVENT
BEGIN:VEVENT
UID:10704150@ezleagues.ezfacility.com
DTSTAMP:20260422T110939Z
CREATED:20260422T110939Z
DTSTART:20171110T034500Z
DTEND:20171110T042500Z
LOCATION:LG Field 1
CONTACT:
SUMMARY:Pirates VS. Epic FC 
DESCRIPTION:League Name: Men's Over 30 - FALL\nGame Type: Regular\nGame Sta
 tus: Complete\nHome Team: Pirates\nAway Team: Epic FC \nHome Score: 10\nAw
 ay Score: 0
END:VEVENT
END:VCALENDAR
