BEGIN:VCALENDAR
VERSION:2.0
PRODID:-//EZFacility.com, Inc.//EZL 2.5.5.28621
BEGIN:VEVENT
UID:10725790@ezleagues.ezfacility.com
DTSTAMP:20260426T035059Z
CREATED:20260426T035059Z
DTSTART:20170925T023500Z
DTEND:20170925T033000Z
LOCATION:PFFC Field House - A
CONTACT:
SUMMARY:DizzleDat FC VS. Prestige FC 
DESCRIPTION:League Name: MSL Soccer - Sunday Men's Division #3 South\nGame 
 Type: Regular\nGame Status: Complete\nHome Team: DizzleDat FC\nAway Team: 
 Prestige FC \nHome Score: 10\nAway Score: 1
END:VEVENT
BEGIN:VEVENT
UID:10725832@ezleagues.ezfacility.com
DTSTAMP:20260426T035059Z
CREATED:20260426T035059Z
DTSTART:20171001T210500Z
DTEND:20171001T220000Z
LOCATION:PFFC Field House - B
CONTACT:
SUMMARY:Mississauga Benfica VS. Prestige FC 
DESCRIPTION:League Name: MSL Soccer - Sunday Men's Division #3 South\nGame 
 Type: Regular\nGame Status: Complete\nHome Team: Mississauga Benfica\nAway
  Team: Prestige FC \nHome Score: 3\nAway Score: 1
END:VEVENT
BEGIN:VEVENT
UID:10726119@ezleagues.ezfacility.com
DTSTAMP:20260426T035059Z
CREATED:20260426T035059Z
DTSTART:20171014T165500Z
DTEND:20171014T175000Z
LOCATION:PFFC Field House - A
CONTACT:
SUMMARY:Prestige FC  VS. Mississauga Benfica
DESCRIPTION:League Name: MSL Soccer - Sunday Men's Division #3 South\nGame 
 Type: Regular\nGame Status: Rescheduled\nHome Team: Prestige FC \nAway Tea
 m: Mississauga Benfica\n
END:VEVENT
BEGIN:VEVENT
UID:10725916@ezleagues.ezfacility.com
DTSTAMP:20260426T035059Z
CREATED:20260426T035059Z
DTSTART:20171015T172500Z
DTEND:20171015T182000Z
LOCATION:PFFC Field House - C
CONTACT:
SUMMARY:El Parche FC VS. Prestige FC 
DESCRIPTION:League Name: MSL Soccer - Sunday Men's Division #3 South\nGame 
 Type: Regular\nGame Status: Complete\nHome Team: El Parche FC\nAway Team: 
 Prestige FC \nHome Score: 7\nAway Score: 3
END:VEVENT
BEGIN:VEVENT
UID:10725957@ezleagues.ezfacility.com
DTSTAMP:20260426T035059Z
CREATED:20260426T035059Z
DTSTART:20171023T010500Z
DTEND:20171023T020000Z
LOCATION:PFFC Dome - 1
CONTACT:
SUMMARY:Prestige FC  VS. #freeRene
DESCRIPTION:League Name: MSL Soccer - Sunday Men's Division #3 South\nGame 
 Type: Regular\nGame Status: Rescheduled\nHome Team: Prestige FC \nAway Tea
 m: #freeRene\n
END:VEVENT
BEGIN:VEVENT
UID:10796386@ezleagues.ezfacility.com
DTSTAMP:20260426T035059Z
CREATED:20260426T035059Z
DTSTART:20171026T005000Z
DTEND:20171026T014500Z
LOCATION:PFFC Dome - 4
CONTACT:
SUMMARY:Prestige FC  VS. Mississauga Benfica
DESCRIPTION:League Name: MSL Soccer - Sunday Men's Division #3 South\nGame 
 Type: Regular\nGame Status: Complete\nHome Team: Prestige FC \nAway Team: 
 Mississauga Benfica\nHome Score: 3\nAway Score: 4
END:VEVENT
BEGIN:VEVENT
UID:10827011@ezleagues.ezfacility.com
DTSTAMP:20260426T035059Z
CREATED:20260426T035059Z
DTSTART:20171028T010000Z
DTEND:20171028T015500Z
LOCATION:PFFC Dome - 3
CONTACT:
SUMMARY:Prestige FC  VS. #freeRene
DESCRIPTION:League Name: MSL Soccer - Sunday Men's Division #3 South\nGame 
 Type: Regular\nGame Status: Complete\nHome Team: Prestige FC \nAway Team: 
 #freeRene\nHome Score: 1\nAway Score: 5
END:VEVENT
BEGIN:VEVENT
UID:10725997@ezleagues.ezfacility.com
DTSTAMP:20260426T035059Z
CREATED:20260426T035059Z
DTSTART:20171030T023500Z
DTEND:20171030T033000Z
LOCATION:PFFC Field House - D
CONTACT:
SUMMARY:Prestige FC  VS. NK Neretva
DESCRIPTION:League Name: MSL Soccer - Sunday Men's Division #3 South\nGame 
 Type: Regular\nGame Status: Complete\nHome Team: Prestige FC \nAway Team: 
 NK Neretva\nHome Score: 6\nAway Score: 7
END:VEVENT
BEGIN:VEVENT
UID:10726037@ezleagues.ezfacility.com
DTSTAMP:20260426T035059Z
CREATED:20260426T035059Z
DTSTART:20171106T030000Z
DTEND:20171106T035500Z
LOCATION:PFFC Dome - 4
CONTACT:
SUMMARY:Prestige FC  VS. Pinnies FC
DESCRIPTION:League Name: MSL Soccer - Sunday Men's Division #3 South\nGame 
 Type: Regular\nGame Status: Complete\nHome Team: Prestige FC \nAway Team: 
 Pinnies FC\nHome Score: 4\nAway Score: 5
END:VEVENT
BEGIN:VEVENT
UID:10726077@ezleagues.ezfacility.com
DTSTAMP:20260426T035059Z
CREATED:20260426T035059Z
DTSTART:20171113T005000Z
DTEND:20171113T014500Z
LOCATION:PFFC Field House - D
CONTACT:
SUMMARY:Prestige FC  VS. DizzleDat FC
DESCRIPTION:League Name: MSL Soccer - Sunday Men's Division #3 South\nGame 
 Type: Regular\nGame Status: Complete\nHome Team: Prestige FC \nAway Team: 
 DizzleDat FC\nHome Score: 0\nAway Score: 7
END:VEVENT
BEGIN:VEVENT
UID:10726161@ezleagues.ezfacility.com
DTSTAMP:20260426T035059Z
CREATED:20260426T035059Z
DTSTART:20171126T235500Z
DTEND:20171127T005000Z
LOCATION:PFFC Field House - B
CONTACT:
SUMMARY:Prestige FC  VS. NK Norval
DESCRIPTION:League Name: MSL Soccer - Sunday Men's Division #3 South\nGame 
 Type: Regular\nGame Status: Complete\nHome Team: Prestige FC \nAway Team: 
 NK Norval\nHome Score: 2\nAway Score: 4
END:VEVENT
BEGIN:VEVENT
UID:10726203@ezleagues.ezfacility.com
DTSTAMP:20260426T035059Z
CREATED:20260426T035059Z
DTSTART:20171203T235500Z
DTEND:20171204T005000Z
LOCATION:PFFC Field House - B
CONTACT:
SUMMARY:Prestige FC  VS. El Parche FC
DESCRIPTION:League Name: MSL Soccer - Sunday Men's Division #3 South\nGame 
 Type: Regular\nGame Status: Complete\nHome Team: Prestige FC \nAway Team: 
 El Parche FC\nHome Score: 1\nAway Score: 3
END:VEVENT
BEGIN:VEVENT
UID:10726244@ezleagues.ezfacility.com
DTSTAMP:20260426T035059Z
CREATED:20260426T035059Z
DTSTART:20171210T235500Z
DTEND:20171211T005000Z
LOCATION:PFFC Field House - C
CONTACT:
SUMMARY:#freeRene VS. Prestige FC 
DESCRIPTION:League Name: MSL Soccer - Sunday Men's Division #3 South\nGame 
 Type: Regular\nGame Status: Complete\nHome Team: #freeRene\nAway Team: Pre
 stige FC \nHome Score: 5\nAway Score: 1
END:VEVENT
BEGIN:VEVENT
UID:10726284@ezleagues.ezfacility.com
DTSTAMP:20260426T035059Z
CREATED:20260426T035059Z
DTSTART:20171218T033500Z
DTEND:20171218T043000Z
LOCATION:PFFC Field House - A
CONTACT:
SUMMARY:NK Neretva VS. Prestige FC 
DESCRIPTION:League Name: MSL Soccer - Sunday Men's Division #3 South\nGame 
 Type: Regular\nGame Status: Complete\nHome Team: NK Neretva\nAway Team: Pr
 estige FC \nHome Score: 3\nAway Score: 1
END:VEVENT
BEGIN:VEVENT
UID:10726324@ezleagues.ezfacility.com
DTSTAMP:20260426T035059Z
CREATED:20260426T035059Z
DTSTART:20171230T160500Z
DTEND:20171230T170000Z
LOCATION:PFFC Field House - A
CONTACT:
SUMMARY:Pinnies FC VS. Prestige FC 
DESCRIPTION:League Name: MSL Soccer - Sunday Men's Division #3 South\nGame 
 Type: Regular\nGame Status: Complete\nHome Team: Pinnies FC\nAway Team: Pr
 estige FC \nHome Score: 6\nAway Score: 1
END:VEVENT
BEGIN:VEVENT
UID:10725874@ezleagues.ezfacility.com
DTSTAMP:20260426T035059Z
CREATED:20260426T035059Z
DTSTART:20180107T235500Z
DTEND:20180108T005000Z
LOCATION:PFFC Field House - B
CONTACT:
SUMMARY:NK Norval VS. Prestige FC 
DESCRIPTION:League Name: MSL Soccer - Sunday Men's Division #3 South\nGame 
 Type: Regular\nGame Status: Complete\nHome Team: NK Norval\nAway Team: Pre
 stige FC \nHome Score: 5\nAway Score: 0
END:VEVENT
BEGIN:VEVENT
UID:10981158@ezleagues.ezfacility.com
DTSTAMP:20260426T035059Z
CREATED:20260426T035059Z
DTSTART:20180114T221000Z
DTEND:20180114T230000Z
LOCATION:PFFC Field House - A
CONTACT:
SUMMARY:DizzleDat FC VS. Prestige FC 
DESCRIPTION:League Name: MSL Soccer - Sunday Men's Division #3 South\nGame 
 Type: Postseason\nGame Status: Complete\nHome Team: DizzleDat FC\nAway Tea
 m: Prestige FC \nHome Score: 6\nAway Score: 0
END:VEVENT
END:VCALENDAR
