BEGIN:VCALENDAR
VERSION:2.0
PRODID:-//EZFacility.com, Inc.//EZL 2.5.5.28621
BEGIN:VEVENT
UID:10732349@ezleagues.ezfacility.com
DTSTAMP:20260426T035129Z
CREATED:20260426T035129Z
DTSTART:20170926T005000Z
DTEND:20170926T014500Z
LOCATION:PFFC Field House - B
CONTACT:
SUMMARY:  XX-XY United VS.   Scotalia
DESCRIPTION:League Name: MSL Soccer - Co-Ed Ronaldinho Division\nGame Type:
  Regular\nGame Status: Complete\nHome Team:   XX-XY United\nAway Team:   S
 cotalia\nHome Score: 4\nAway Score: 5
END:VEVENT
BEGIN:VEVENT
UID:10732382@ezleagues.ezfacility.com
DTSTAMP:20260426T035129Z
CREATED:20260426T035129Z
DTSTART:20171003T024000Z
DTEND:20171003T033500Z
LOCATION:PFFC Field House - A
CONTACT:
SUMMARY:Where's Field B FC VS.   Scotalia
DESCRIPTION:League Name: MSL Soccer - Co-Ed Ronaldinho Division\nGame Type:
  Regular\nGame Status: Complete\nHome Team: Where's Field B FC\nAway Team:
    Scotalia\nHome Score: 3\nAway Score: 3
END:VEVENT
BEGIN:VEVENT
UID:10732415@ezleagues.ezfacility.com
DTSTAMP:20260426T035129Z
CREATED:20260426T035129Z
DTSTART:20171010T033500Z
DTEND:20171010T043000Z
LOCATION:PFFC Field House - D
CONTACT:
SUMMARY:  Cherry Pickers FC VS.   Scotalia
DESCRIPTION:League Name: MSL Soccer - Co-Ed Ronaldinho Division\nGame Type:
  Regular\nGame Status: Complete\nHome Team:   Cherry Pickers FC\nAway Team
 :   Scotalia\nHome Score: 5\nAway Score: 2
END:VEVENT
BEGIN:VEVENT
UID:10732447@ezleagues.ezfacility.com
DTSTAMP:20260426T035129Z
CREATED:20260426T035129Z
DTSTART:20171016T235500Z
DTEND:20171017T005000Z
LOCATION:PFFC Field House - C
CONTACT:
SUMMARY:  Scotalia VS.   Precision in Motion
DESCRIPTION:League Name: MSL Soccer - Co-Ed Ronaldinho Division\nGame Type:
  Regular\nGame Status: Complete\nHome Team:   Scotalia\nAway Team:   Preci
 sion in Motion\nHome Score: 2\nAway Score: 4
END:VEVENT
BEGIN:VEVENT
UID:10732478@ezleagues.ezfacility.com
DTSTAMP:20260426T035129Z
CREATED:20260426T035129Z
DTSTART:20171024T014500Z
DTEND:20171024T024000Z
LOCATION:PFFC Field House - A
CONTACT:
SUMMARY:  Scotalia VS. No Offsides FC 
DESCRIPTION:League Name: MSL Soccer - Co-Ed Ronaldinho Division\nGame Type:
  Regular\nGame Status: Complete\nHome Team:   Scotalia\nAway Team: No Offs
 ides FC \nHome Score: 0\nAway Score: 3
END:VEVENT
BEGIN:VEVENT
UID:10732509@ezleagues.ezfacility.com
DTSTAMP:20260426T035129Z
CREATED:20260426T035129Z
DTSTART:20171031T015500Z
DTEND:20171031T025000Z
LOCATION:PFFC Dome - 2
CONTACT:
SUMMARY:  Scotalia VS. Queens Park Strangers 
DESCRIPTION:League Name: MSL Soccer - Co-Ed Ronaldinho Division\nGame Type:
  Regular\nGame Status: Complete\nHome Team:   Scotalia\nAway Team: Queens 
 Park Strangers \nHome Score: 3\nAway Score: 5
END:VEVENT
BEGIN:VEVENT
UID:10732540@ezleagues.ezfacility.com
DTSTAMP:20260426T035129Z
CREATED:20260426T035129Z
DTSTART:20171106T230500Z
DTEND:20171107T000000Z
LOCATION:PFFC Field House - D
CONTACT:
SUMMARY:  Vintages FC VS.   Scotalia
DESCRIPTION:League Name: MSL Soccer - Co-Ed Ronaldinho Division\nGame Type:
  Regular\nGame Status: Complete\nHome Team:   Vintages FC\nAway Team:   Sc
 otalia\nHome Score: 2\nAway Score: 2
END:VEVENT
BEGIN:VEVENT
UID:10732573@ezleagues.ezfacility.com
DTSTAMP:20260426T035129Z
CREATED:20260426T035129Z
DTSTART:20171117T005500Z
DTEND:20171117T015000Z
LOCATION:PFFC Field House - A
CONTACT:
SUMMARY:  Scotalia VS.   XX-XY United
DESCRIPTION:League Name: MSL Soccer - Co-Ed Ronaldinho Division\nGame Type:
  Regular\nGame Status: Complete\nHome Team:   Scotalia\nAway Team:   XX-XY
  United\nHome Score: 2\nAway Score: 10
END:VEVENT
BEGIN:VEVENT
UID:10732606@ezleagues.ezfacility.com
DTSTAMP:20260426T035129Z
CREATED:20260426T035129Z
DTSTART:20171120T230500Z
DTEND:20171121T000000Z
LOCATION:PFFC Field House - B
CONTACT:
SUMMARY:  Scotalia VS. Where's Field B FC
DESCRIPTION:League Name: MSL Soccer - Co-Ed Ronaldinho Division\nGame Type:
  Regular\nGame Status: Complete\nHome Team:   Scotalia\nAway Team: Where's
  Field B FC\nHome Score: 0\nAway Score: 5
END:VEVENT
BEGIN:VEVENT
UID:10732639@ezleagues.ezfacility.com
DTSTAMP:20260426T035129Z
CREATED:20260426T035129Z
DTSTART:20171128T005500Z
DTEND:20171128T015000Z
LOCATION:PFFC Field House - B
CONTACT:
SUMMARY:  Scotalia VS.   Cherry Pickers FC
DESCRIPTION:League Name: MSL Soccer - Co-Ed Ronaldinho Division\nGame Type:
  Regular\nGame Status: Complete\nHome Team:   Scotalia\nAway Team:   Cherr
 y Pickers FC\nHome Score: 1\nAway Score: 8
END:VEVENT
BEGIN:VEVENT
UID:10732671@ezleagues.ezfacility.com
DTSTAMP:20260426T035129Z
CREATED:20260426T035129Z
DTSTART:20171205T005500Z
DTEND:20171205T015000Z
LOCATION:PFFC Field House - B
CONTACT:
SUMMARY:  Precision in Motion VS.   Scotalia
DESCRIPTION:League Name: MSL Soccer - Co-Ed Ronaldinho Division\nGame Type:
  Regular\nGame Status: Complete\nHome Team:   Precision in Motion\nAway Te
 am:   Scotalia\nHome Score: 1\nAway Score: 0
END:VEVENT
BEGIN:VEVENT
UID:10732702@ezleagues.ezfacility.com
DTSTAMP:20260426T035129Z
CREATED:20260426T035129Z
DTSTART:20171211T230500Z
DTEND:20171212T000000Z
LOCATION:PFFC Field House - C
CONTACT:
SUMMARY:No Offsides FC  VS.   Scotalia
DESCRIPTION:League Name: MSL Soccer - Co-Ed Ronaldinho Division\nGame Type:
  Regular\nGame Status: Complete\nHome Team: No Offsides FC \nAway Team:   
 Scotalia\nHome Score: 3\nAway Score: 9
END:VEVENT
BEGIN:VEVENT
UID:10732733@ezleagues.ezfacility.com
DTSTAMP:20260426T035129Z
CREATED:20260426T035129Z
DTSTART:20171219T020000Z
DTEND:20171219T025500Z
LOCATION:PFFC Dome - 2
CONTACT:
SUMMARY:Queens Park Strangers  VS.   Scotalia
DESCRIPTION:League Name: MSL Soccer - Co-Ed Ronaldinho Division\nGame Type:
  Regular\nGame Status: Complete\nHome Team: Queens Park Strangers \nAway T
 eam:   Scotalia\nHome Score: 6\nAway Score: 1
END:VEVENT
BEGIN:VEVENT
UID:10732764@ezleagues.ezfacility.com
DTSTAMP:20260426T035129Z
CREATED:20260426T035129Z
DTSTART:20180109T000000Z
DTEND:20180109T005500Z
LOCATION:PFFC Field House - D
CONTACT:
SUMMARY:  Scotalia VS.   Vintages FC
DESCRIPTION:League Name: MSL Soccer - Co-Ed Ronaldinho Division\nGame Type:
  Regular\nGame Status: Complete\nHome Team:   Scotalia\nAway Team:   Vinta
 ges FC\nHome Score: 5\nAway Score: 2
END:VEVENT
BEGIN:VEVENT
UID:11081050@ezleagues.ezfacility.com
DTSTAMP:20260426T035129Z
CREATED:20260426T035129Z
DTSTART:20180119T015000Z
DTEND:20180119T024500Z
LOCATION:PFFC Field House - D
CONTACT:
SUMMARY:  XX-XY United VS.   Scotalia
DESCRIPTION:League Name: MSL Soccer - Co-Ed Ronaldinho Division\nGame Type:
  Postseason\nGame Status: Complete\nHome Team:   XX-XY United\nAway Team: 
   Scotalia\nHome Score: 3\nAway Score: 2
END:VEVENT
END:VCALENDAR
