BEGIN:VCALENDAR
VERSION:2.0
PRODID:-//EZFacility.com, Inc.//EZL 2.5.5.28621
BEGIN:VEVENT
UID:10734295@ezleagues.ezfacility.com
DTSTAMP:20260421T154832Z
CREATED:20260421T154832Z
DTSTART:20170926T230000Z
DTEND:20170926T235500Z
LOCATION:PFFC Field House - D
CONTACT:
SUMMARY:MJ United VS. Team Removed
DESCRIPTION:League Name: MSL Soccer - Ladies Competitive Division\nGame Typ
 e: Regular\nGame Status: Complete\nHome Team: MJ United\nAway Team: Team R
 emoved\nHome Score: 8\nAway Score: 0
END:VEVENT
BEGIN:VEVENT
UID:10734310@ezleagues.ezfacility.com
DTSTAMP:20260421T154832Z
CREATED:20260421T154832Z
DTSTART:20171003T235500Z
DTEND:20171004T005000Z
LOCATION:PFFC Field House - A
CONTACT:
SUMMARY:MJ United VS. Mississauga FC
DESCRIPTION:League Name: MSL Soccer - Ladies Competitive Division\nGame Typ
 e: Regular\nGame Status: Complete\nHome Team: MJ United\nAway Team: Missis
 sauga FC\nHome Score: 2\nAway Score: 3
END:VEVENT
BEGIN:VEVENT
UID:10734325@ezleagues.ezfacility.com
DTSTAMP:20260421T154832Z
CREATED:20260421T154832Z
DTSTART:20171011T005000Z
DTEND:20171011T014500Z
LOCATION:PFFC Field House - C
CONTACT:
SUMMARY:Just For Kicks VS. MJ United
DESCRIPTION:League Name: MSL Soccer - Ladies Competitive Division\nGame Typ
 e: Regular\nGame Status: Complete\nHome Team: Just For Kicks\nAway Team: M
 J United\nHome Score: 1\nAway Score: 0
END:VEVENT
BEGIN:VEVENT
UID:10734342@ezleagues.ezfacility.com
DTSTAMP:20260421T154832Z
CREATED:20260421T154832Z
DTSTART:20171018T014500Z
DTEND:20171018T024000Z
LOCATION:PFFC Field House - C
CONTACT:
SUMMARY:Red Reign VS. MJ United
DESCRIPTION:League Name: MSL Soccer - Ladies Competitive Division\nGame Typ
 e: Regular\nGame Status: Complete\nHome Team: Red Reign\nAway Team: MJ Uni
 ted\nHome Score: 4\nAway Score: 3
END:VEVENT
BEGIN:VEVENT
UID:10734359@ezleagues.ezfacility.com
DTSTAMP:20260421T154832Z
CREATED:20260421T154832Z
DTSTART:20171024T230000Z
DTEND:20171024T235500Z
LOCATION:PFFC Field House - B
CONTACT:
SUMMARY:BOA FC VS. MJ United
DESCRIPTION:League Name: MSL Soccer - Ladies Competitive Division\nGame Typ
 e: Regular\nGame Status: Complete\nHome Team: BOA FC\nAway Team: MJ United
 \nHome Score: 1\nAway Score: 4
END:VEVENT
BEGIN:VEVENT
UID:10734375@ezleagues.ezfacility.com
DTSTAMP:20260421T154832Z
CREATED:20260421T154832Z
DTSTART:20171031T230000Z
DTEND:20171031T235500Z
LOCATION:PFFC Field House - B
CONTACT:
SUMMARY:Team Removed VS. MJ United
DESCRIPTION:League Name: MSL Soccer - Ladies Competitive Division\nGame Typ
 e: Regular\nGame Status: Complete\nHome Team: Team Removed\nAway Team: MJ 
 United\nHome Score: 0\nAway Score: 6
END:VEVENT
BEGIN:VEVENT
UID:10734390@ezleagues.ezfacility.com
DTSTAMP:20260421T154832Z
CREATED:20260421T154832Z
DTSTART:20171108T000000Z
DTEND:20171108T005500Z
LOCATION:PFFC Field House - A
CONTACT:
SUMMARY:Mississauga FC VS. MJ United
DESCRIPTION:League Name: MSL Soccer - Ladies Competitive Division\nGame Typ
 e: Regular\nGame Status: Complete\nHome Team: Mississauga FC\nAway Team: M
 J United\nHome Score: 5\nAway Score: 1
END:VEVENT
BEGIN:VEVENT
UID:10734405@ezleagues.ezfacility.com
DTSTAMP:20260421T154832Z
CREATED:20260421T154832Z
DTSTART:20171114T230500Z
DTEND:20171115T000000Z
LOCATION:PFFC Field House - D
CONTACT:
SUMMARY:MJ United VS. Just For Kicks
DESCRIPTION:League Name: MSL Soccer - Ladies Competitive Division\nGame Typ
 e: Regular\nGame Status: Complete\nHome Team: MJ United\nAway Team: Just F
 or Kicks\nHome Score: 1\nAway Score: 6
END:VEVENT
BEGIN:VEVENT
UID:10734422@ezleagues.ezfacility.com
DTSTAMP:20260421T154832Z
CREATED:20260421T154832Z
DTSTART:20171122T024500Z
DTEND:20171122T034000Z
LOCATION:PFFC Field House - B
CONTACT:
SUMMARY:MJ United VS. Red Reign
DESCRIPTION:League Name: MSL Soccer - Ladies Competitive Division\nGame Typ
 e: Regular\nGame Status: Complete\nHome Team: MJ United\nAway Team: Red Re
 ign\nHome Score: 0\nAway Score: 4
END:VEVENT
BEGIN:VEVENT
UID:10734439@ezleagues.ezfacility.com
DTSTAMP:20260421T154832Z
CREATED:20260421T154832Z
DTSTART:20171129T024500Z
DTEND:20171129T034000Z
LOCATION:PFFC Field House - C
CONTACT:
SUMMARY:MJ United VS. BOA FC
DESCRIPTION:League Name: MSL Soccer - Ladies Competitive Division\nGame Typ
 e: Regular\nGame Status: Complete\nHome Team: MJ United\nAway Team: BOA FC
 \nHome Score: 2\nAway Score: 5
END:VEVENT
BEGIN:VEVENT
UID:10734470@ezleagues.ezfacility.com
DTSTAMP:20260421T154832Z
CREATED:20260421T154832Z
DTSTART:20171213T005500Z
DTEND:20171213T015000Z
LOCATION:PFFC Field House - D
CONTACT:
SUMMARY:Mississauga FC VS. MJ United
DESCRIPTION:League Name: MSL Soccer - Ladies Competitive Division\nGame Typ
 e: Regular\nGame Status: Complete\nHome Team: Mississauga FC\nAway Team: M
 J United\nHome Score: 5\nAway Score: 1
END:VEVENT
BEGIN:VEVENT
UID:10904134@ezleagues.ezfacility.com
DTSTAMP:20260421T154832Z
CREATED:20260421T154832Z
DTSTART:20171213T024500Z
DTEND:20171213T034000Z
LOCATION:PFFC Field House - D
CONTACT:
SUMMARY:Red Reign VS. MJ United
DESCRIPTION:League Name: MSL Soccer - Ladies Competitive Division\nGame Typ
 e: Regular\nGame Status: Complete\nHome Team: Red Reign\nAway Team: MJ Uni
 ted\nHome Score: 2\nAway Score: 1
END:VEVENT
BEGIN:VEVENT
UID:10734485@ezleagues.ezfacility.com
DTSTAMP:20260421T154832Z
CREATED:20260421T154832Z
DTSTART:20171220T000000Z
DTEND:20171220T005500Z
LOCATION:PFFC Field House - B
CONTACT:
SUMMARY:MJ United VS. Just For Kicks
DESCRIPTION:League Name: MSL Soccer - Ladies Competitive Division\nGame Typ
 e: Regular\nGame Status: Complete\nHome Team: MJ United\nAway Team: Just F
 or Kicks\nHome Score: 1\nAway Score: 3
END:VEVENT
BEGIN:VEVENT
UID:10734502@ezleagues.ezfacility.com
DTSTAMP:20260421T154832Z
CREATED:20260421T154832Z
DTSTART:20180103T024500Z
DTEND:20180103T034000Z
LOCATION:PFFC Field House - A
CONTACT:
SUMMARY:MJ United VS. Red Reign
DESCRIPTION:League Name: MSL Soccer - Ladies Competitive Division\nGame Typ
 e: Regular\nGame Status: Complete\nHome Team: MJ United\nAway Team: Red Re
 ign\nHome Score: 1\nAway Score: 1
END:VEVENT
BEGIN:VEVENT
UID:11009679@ezleagues.ezfacility.com
DTSTAMP:20260421T154832Z
CREATED:20260421T154832Z
DTSTART:20180110T000500Z
DTEND:20180110T010000Z
LOCATION:PFFC Field House - A
CONTACT:
SUMMARY:Red Reign VS. MJ United
DESCRIPTION:League Name: MSL Soccer - Ladies Competitive Division\nGame Typ
 e: Postseason\nGame Status: Complete\nHome Team: Red Reign\nAway Team: MJ 
 United\nHome Score: 3\nAway Score: 1
END:VEVENT
END:VCALENDAR
