BEGIN:VCALENDAR
VERSION:2.0
PRODID:-//EZFacility.com, Inc.//EZL 2.5.5.28621
BEGIN:VEVENT
UID:10715006@ezleagues.ezfacility.com
DTSTAMP:20260426T035438Z
CREATED:20260426T035438Z
DTSTART:20170925T010000Z
DTEND:20170925T014000Z
LOCATION:LG Field 1
CONTACT:
SUMMARY:La Nopalera VS. Orange Crushers 
DESCRIPTION:League Name: Coed Rec (Blue) - FALL\nGame Type: Regular\nGame S
 tatus: Complete\nHome Team: La Nopalera\nAway Team: Orange Crushers \nHome
  Score: 8\nAway Score: 7
END:VEVENT
BEGIN:VEVENT
UID:10715023@ezleagues.ezfacility.com
DTSTAMP:20260426T035438Z
CREATED:20260426T035438Z
DTSTART:20171001T220000Z
DTEND:20171001T224000Z
LOCATION:LG Field 1
CONTACT:
SUMMARY:Orange Crushers  VS. Trust The Process
DESCRIPTION:League Name: Coed Rec (Blue) - FALL\nGame Type: Regular\nGame S
 tatus: Complete\nHome Team: Orange Crushers \nAway Team: Trust The Process
 \nHome Score: 3\nAway Score: 4
END:VEVENT
BEGIN:VEVENT
UID:10715040@ezleagues.ezfacility.com
DTSTAMP:20260426T035438Z
CREATED:20260426T035438Z
DTSTART:20171008T211500Z
DTEND:20171008T215500Z
LOCATION:LG Field 1
CONTACT:
SUMMARY:The Amazing Greengos  VS. Orange Crushers 
DESCRIPTION:League Name: Coed Rec (Blue) - FALL\nGame Type: Regular\nGame S
 tatus: Complete\nHome Team: The Amazing Greengos \nAway Team: Orange Crush
 ers \nHome Score: 3\nAway Score: 13
END:VEVENT
BEGIN:VEVENT
UID:10715057@ezleagues.ezfacility.com
DTSTAMP:20260426T035438Z
CREATED:20260426T035438Z
DTSTART:20171015T211500Z
DTEND:20171015T215500Z
LOCATION:LG Field 2
CONTACT:
SUMMARY:Orange Crushers  VS. CLS
DESCRIPTION:League Name: Coed Rec (Blue) - FALL\nGame Type: Regular\nGame S
 tatus: Complete\nHome Team: Orange Crushers \nAway Team: CLS\nHome Score: 
 12\nAway Score: 2
END:VEVENT
BEGIN:VEVENT
UID:10715073@ezleagues.ezfacility.com
DTSTAMP:20260426T035438Z
CREATED:20260426T035438Z
DTSTART:20171022T233000Z
DTEND:20171023T001000Z
LOCATION:LG Field 1
CONTACT:
SUMMARY:Orange Crushers  VS. Crayon Killers
DESCRIPTION:League Name: Coed Rec (Blue) - FALL\nGame Type: Regular\nGame S
 tatus: Complete\nHome Team: Orange Crushers \nAway Team: Crayon Killers\nH
 ome Score: 3\nAway Score: 5
END:VEVENT
BEGIN:VEVENT
UID:10715088@ezleagues.ezfacility.com
DTSTAMP:20260426T035438Z
CREATED:20260426T035438Z
DTSTART:20171029T220000Z
DTEND:20171029T224000Z
LOCATION:LG Field 1
CONTACT:
SUMMARY:Real McNellies  VS. Orange Crushers 
DESCRIPTION:League Name: Coed Rec (Blue) - FALL\nGame Type: Regular\nGame S
 tatus: Complete\nHome Team: Real McNellies \nAway Team: Orange Crushers \n
 Home Score: 9\nAway Score: 7
END:VEVENT
BEGIN:VEVENT
UID:10715103@ezleagues.ezfacility.com
DTSTAMP:20260426T035438Z
CREATED:20260426T035438Z
DTSTART:20171105T221500Z
DTEND:20171105T225500Z
LOCATION:LG Field 2
CONTACT:
SUMMARY:Orange Crushers  VS. That Just Happened 
DESCRIPTION:League Name: Coed Rec (Blue) - FALL\nGame Type: Regular\nGame S
 tatus: Complete\nHome Team: Orange Crushers \nAway Team: That Just Happene
 d \nHome Score: 1\nAway Score: 11
END:VEVENT
BEGIN:VEVENT
UID:10715118@ezleagues.ezfacility.com
DTSTAMP:20260426T035438Z
CREATED:20260426T035438Z
DTSTART:20171113T003000Z
DTEND:20171113T011000Z
LOCATION:LG Field 2
CONTACT:
SUMMARY:Mad Hatters  VS. Orange Crushers 
DESCRIPTION:League Name: Coed Rec (Blue) - FALL\nGame Type: Regular\nGame S
 tatus: Complete\nHome Team: Mad Hatters \nAway Team: Orange Crushers \nHom
 e Score: 8\nAway Score: 12
END:VEVENT
END:VCALENDAR
