BEGIN:VCALENDAR
VERSION:2.0
PRODID:-//EZFacility.com, Inc.//EZL 2.5.5.28621
BEGIN:VEVENT
UID:10715005@ezleagues.ezfacility.com
DTSTAMP:20260423T031534Z
CREATED:20260423T031534Z
DTSTART:20170924T173000Z
DTEND:20170924T181000Z
LOCATION:LG Field 1
CONTACT:
SUMMARY:Goal Goal Power Rangers VS. Crayon Killers
DESCRIPTION:League Name: Coed Rec (Blue) - FALL\nGame Type: Regular\nGame S
 tatus: Complete\nHome Team: Goal Goal Power Rangers\nAway Team: Crayon Kil
 lers\nHome Score: 1\nAway Score: 3
END:VEVENT
BEGIN:VEVENT
UID:10715022@ezleagues.ezfacility.com
DTSTAMP:20260423T031534Z
CREATED:20260423T031534Z
DTSTART:20171001T173000Z
DTEND:20171001T181000Z
LOCATION:LG Field 2
CONTACT:
SUMMARY:Crayon Killers VS. Real McNellies 
DESCRIPTION:League Name: Coed Rec (Blue) - FALL\nGame Type: Regular\nGame S
 tatus: Complete\nHome Team: Crayon Killers\nAway Team: Real McNellies \nHo
 me Score: 3\nAway Score: 4
END:VEVENT
BEGIN:VEVENT
UID:10715039@ezleagues.ezfacility.com
DTSTAMP:20260423T031534Z
CREATED:20260423T031534Z
DTSTART:20171008T190000Z
DTEND:20171008T194000Z
LOCATION:LG Field 2
CONTACT:
SUMMARY:That Just Happened  VS. Crayon Killers
DESCRIPTION:League Name: Coed Rec (Blue) - FALL\nGame Type: Regular\nGame S
 tatus: Complete\nHome Team: That Just Happened \nAway Team: Crayon Killers
 \nHome Score: 1\nAway Score: 2
END:VEVENT
BEGIN:VEVENT
UID:10715056@ezleagues.ezfacility.com
DTSTAMP:20260423T031534Z
CREATED:20260423T031534Z
DTSTART:20171015T190000Z
DTEND:20171015T194000Z
LOCATION:LG Field 2
CONTACT:
SUMMARY:Crayon Killers VS. Mad Hatters 
DESCRIPTION:League Name: Coed Rec (Blue) - FALL\nGame Type: Regular\nGame S
 tatus: Complete\nHome Team: Crayon Killers\nAway Team: Mad Hatters \nHome 
 Score: 6\nAway Score: 3
END:VEVENT
BEGIN:VEVENT
UID:10715073@ezleagues.ezfacility.com
DTSTAMP:20260423T031534Z
CREATED:20260423T031534Z
DTSTART:20171022T233000Z
DTEND:20171023T001000Z
LOCATION:LG Field 1
CONTACT:
SUMMARY:Orange Crushers  VS. Crayon Killers
DESCRIPTION:League Name: Coed Rec (Blue) - FALL\nGame Type: Regular\nGame S
 tatus: Complete\nHome Team: Orange Crushers \nAway Team: Crayon Killers\nH
 ome Score: 3\nAway Score: 5
END:VEVENT
BEGIN:VEVENT
UID:10715089@ezleagues.ezfacility.com
DTSTAMP:20260423T031534Z
CREATED:20260423T031534Z
DTSTART:20171029T224500Z
DTEND:20171029T232500Z
LOCATION:LG Field 1
CONTACT:
SUMMARY:Crayon Killers VS. La Nopalera
DESCRIPTION:League Name: Coed Rec (Blue) - FALL\nGame Type: Regular\nGame S
 tatus: Complete\nHome Team: Crayon Killers\nAway Team: La Nopalera\nHome S
 core: 7\nAway Score: 3
END:VEVENT
BEGIN:VEVENT
UID:10715104@ezleagues.ezfacility.com
DTSTAMP:20260423T031534Z
CREATED:20260423T031534Z
DTSTART:20171105T183000Z
DTEND:20171105T191000Z
LOCATION:LG Field 2
CONTACT:
SUMMARY:Crayon Killers VS. Trust The Process
DESCRIPTION:League Name: Coed Rec (Blue) - FALL\nGame Type: Regular\nGame S
 tatus: Complete\nHome Team: Crayon Killers\nAway Team: Trust The Process\n
 Home Score: 5\nAway Score: 3
END:VEVENT
BEGIN:VEVENT
UID:10715119@ezleagues.ezfacility.com
DTSTAMP:20260423T031534Z
CREATED:20260423T031534Z
DTSTART:20171112T183000Z
DTEND:20171112T191000Z
LOCATION:LG Field 2
CONTACT:
SUMMARY:The Amazing Greengos  VS. Crayon Killers
DESCRIPTION:League Name: Coed Rec (Blue) - FALL\nGame Type: Regular\nGame S
 tatus: Complete\nHome Team: The Amazing Greengos \nAway Team: Crayon Kille
 rs\nHome Score: 1\nAway Score: 9
END:VEVENT
END:VCALENDAR
