BEGIN:VCALENDAR
VERSION:2.0
PRODID:-//EZFacility.com, Inc.//EZL 2.5.5.28621
BEGIN:VEVENT
UID:10715008@ezleagues.ezfacility.com
DTSTAMP:20260422T144225Z
CREATED:20260422T144225Z
DTSTART:20170924T181500Z
DTEND:20170924T185500Z
LOCATION:LG Field 2
CONTACT:
SUMMARY:Trust The Process VS. Mad Hatters 
DESCRIPTION:League Name: Coed Rec (Blue) - FALL\nGame Type: Regular\nGame S
 tatus: Complete\nHome Team: Trust The Process\nAway Team: Mad Hatters \nHo
 me Score: 13\nAway Score: 3
END:VEVENT
BEGIN:VEVENT
UID:10715025@ezleagues.ezfacility.com
DTSTAMP:20260422T144225Z
CREATED:20260422T144225Z
DTSTART:20171001T211500Z
DTEND:20171001T215500Z
LOCATION:LG Field 2
CONTACT:
SUMMARY:Mad Hatters  VS. The Amazing Greengos 
DESCRIPTION:League Name: Coed Rec (Blue) - FALL\nGame Type: Regular\nGame S
 tatus: Complete\nHome Team: Mad Hatters \nAway Team: The Amazing Greengos 
 \nHome Score: 6\nAway Score: 7
END:VEVENT
BEGIN:VEVENT
UID:10715041@ezleagues.ezfacility.com
DTSTAMP:20260422T144225Z
CREATED:20260422T144225Z
DTSTART:20171008T211500Z
DTEND:20171008T215500Z
LOCATION:LG Field 2
CONTACT:
SUMMARY:Mad Hatters  VS. CLS
DESCRIPTION:League Name: Coed Rec (Blue) - FALL\nGame Type: Regular\nGame S
 tatus: Complete\nHome Team: Mad Hatters \nAway Team: CLS\nHome Score: 2\nA
 way Score: 1
END:VEVENT
BEGIN:VEVENT
UID:10715056@ezleagues.ezfacility.com
DTSTAMP:20260422T144225Z
CREATED:20260422T144225Z
DTSTART:20171015T190000Z
DTEND:20171015T194000Z
LOCATION:LG Field 2
CONTACT:
SUMMARY:Crayon Killers VS. Mad Hatters 
DESCRIPTION:League Name: Coed Rec (Blue) - FALL\nGame Type: Regular\nGame S
 tatus: Complete\nHome Team: Crayon Killers\nAway Team: Mad Hatters \nHome 
 Score: 6\nAway Score: 3
END:VEVENT
BEGIN:VEVENT
UID:10715071@ezleagues.ezfacility.com
DTSTAMP:20260422T144225Z
CREATED:20260422T144225Z
DTSTART:20171022T173000Z
DTEND:20171022T181000Z
LOCATION:LG Field 1
CONTACT:
SUMMARY:Mad Hatters  VS. Real McNellies 
DESCRIPTION:League Name: Coed Rec (Blue) - FALL\nGame Type: Regular\nGame S
 tatus: Complete\nHome Team: Mad Hatters \nAway Team: Real McNellies \nHome
  Score: 1\nAway Score: 8
END:VEVENT
BEGIN:VEVENT
UID:10715086@ezleagues.ezfacility.com
DTSTAMP:20260422T144225Z
CREATED:20260422T144225Z
DTSTART:20171029T173000Z
DTEND:20171029T181000Z
LOCATION:LG Field 2
CONTACT:
SUMMARY:That Just Happened  VS. Mad Hatters 
DESCRIPTION:League Name: Coed Rec (Blue) - FALL\nGame Type: Regular\nGame S
 tatus: Complete\nHome Team: That Just Happened \nAway Team: Mad Hatters \n
 Home Score: 8\nAway Score: 5
END:VEVENT
BEGIN:VEVENT
UID:10715101@ezleagues.ezfacility.com
DTSTAMP:20260422T144225Z
CREATED:20260422T144225Z
DTSTART:20171105T183000Z
DTEND:20171105T191000Z
LOCATION:LG Field 1
CONTACT:
SUMMARY:Goal Goal Power Rangers VS. Mad Hatters 
DESCRIPTION:League Name: Coed Rec (Blue) - FALL\nGame Type: Regular\nGame S
 tatus: Complete\nHome Team: Goal Goal Power Rangers\nAway Team: Mad Hatter
 s \nHome Score: 10\nAway Score: 0
END:VEVENT
BEGIN:VEVENT
UID:10715118@ezleagues.ezfacility.com
DTSTAMP:20260422T144225Z
CREATED:20260422T144225Z
DTSTART:20171113T003000Z
DTEND:20171113T011000Z
LOCATION:LG Field 2
CONTACT:
SUMMARY:Mad Hatters  VS. Orange Crushers 
DESCRIPTION:League Name: Coed Rec (Blue) - FALL\nGame Type: Regular\nGame S
 tatus: Complete\nHome Team: Mad Hatters \nAway Team: Orange Crushers \nHom
 e Score: 8\nAway Score: 12
END:VEVENT
END:VCALENDAR
