BEGIN:VCALENDAR
VERSION:2.0
PRODID:-//EZFacility.com, Inc.//EZL 2.5.5.28621
BEGIN:VEVENT
UID:10739559@ezleagues.ezfacility.com
DTSTAMP:20260426T034115Z
CREATED:20260426T034115Z
DTSTART:20170927T220500Z
DTEND:20170927T230000Z
LOCATION:PFFC Field House - B
CONTACT:
SUMMARY:Pack a punch VS. Leicester
DESCRIPTION:League Name: MSL Soccer - W/T Men's Division #6 West\nGame Type
 : Regular\nGame Status: Complete\nHome Team: Pack a punch\nAway Team: Leic
 ester\nHome Score: 2\nAway Score: 0
END:VEVENT
BEGIN:VEVENT
UID:10739597@ezleagues.ezfacility.com
DTSTAMP:20260426T034115Z
CREATED:20260426T034115Z
DTSTART:20171006T024000Z
DTEND:20171006T033500Z
LOCATION:PFFC Field House - D
CONTACT:
SUMMARY:Pack a punch VS. Sauga Reds
DESCRIPTION:League Name: MSL Soccer - W/T Men's Division #6 West\nGame Type
 : Regular\nGame Status: Complete\nHome Team: Pack a punch\nAway Team: Saug
 a Reds\nHome Score: 1\nAway Score: 9
END:VEVENT
BEGIN:VEVENT
UID:10739635@ezleagues.ezfacility.com
DTSTAMP:20260426T034115Z
CREATED:20260426T034115Z
DTSTART:20171012T230000Z
DTEND:20171012T235500Z
LOCATION:PFFC Field House - B
CONTACT:
SUMMARY:Pack a punch VS. Random
DESCRIPTION:League Name: MSL Soccer - W/T Men's Division #6 West\nGame Type
 : Regular\nGame Status: Complete\nHome Team: Pack a punch\nAway Team: Rand
 om\nHome Score: 1\nAway Score: 2
END:VEVENT
BEGIN:VEVENT
UID:10739673@ezleagues.ezfacility.com
DTSTAMP:20260426T034115Z
CREATED:20260426T034115Z
DTSTART:20171019T005000Z
DTEND:20171019T014500Z
LOCATION:PFFC Field House - C
CONTACT:
SUMMARY:Pack a punch VS. Mississauga Wednesday 
DESCRIPTION:League Name: MSL Soccer - W/T Men's Division #6 West\nGame Type
 : Regular\nGame Status: Complete\nHome Team: Pack a punch\nAway Team: Miss
 issauga Wednesday \nHome Score: 4\nAway Score: 4
END:VEVENT
BEGIN:VEVENT
UID:10739711@ezleagues.ezfacility.com
DTSTAMP:20260426T034115Z
CREATED:20260426T034115Z
DTSTART:20171026T230000Z
DTEND:20171026T235500Z
LOCATION:PFFC Field House - C
CONTACT:
SUMMARY:Pack a punch VS. MSL FC 
DESCRIPTION:League Name: MSL Soccer - W/T Men's Division #6 West\nGame Type
 : Regular\nGame Status: Complete\nHome Team: Pack a punch\nAway Team: MSL 
 FC \nHome Score: 1\nAway Score: 4
END:VEVENT
BEGIN:VEVENT
UID:10739749@ezleagues.ezfacility.com
DTSTAMP:20260426T034115Z
CREATED:20260426T034115Z
DTSTART:20171102T005000Z
DTEND:20171102T014500Z
LOCATION:PFFC Field House - A
CONTACT:
SUMMARY:Pack a punch VS. FC Gowads
DESCRIPTION:League Name: MSL Soccer - W/T Men's Division #6 West\nGame Type
 : Regular\nGame Status: Complete\nHome Team: Pack a punch\nAway Team: FC G
 owads\nHome Score: 5\nAway Score: 4
END:VEVENT
BEGIN:VEVENT
UID:10739787@ezleagues.ezfacility.com
DTSTAMP:20260426T034115Z
CREATED:20260426T034115Z
DTSTART:20171109T024500Z
DTEND:20171109T034000Z
LOCATION:PFFC Field House - A
CONTACT:
SUMMARY:Pack a punch VS. SHSF FC
DESCRIPTION:League Name: MSL Soccer - W/T Men's Division #6 West\nGame Type
 : Regular\nGame Status: Complete\nHome Team: Pack a punch\nAway Team: SHSF
  FC\nHome Score: 2\nAway Score: 2
END:VEVENT
BEGIN:VEVENT
UID:10739825@ezleagues.ezfacility.com
DTSTAMP:20260426T034115Z
CREATED:20260426T034115Z
DTSTART:20171116T024500Z
DTEND:20171116T034000Z
LOCATION:PFFC Field House - B
CONTACT:
SUMMARY:RFC 2.0 VS. Pack a punch
DESCRIPTION:League Name: MSL Soccer - W/T Men's Division #6 West\nGame Type
 : Regular\nGame Status: Complete\nHome Team: RFC 2.0\nAway Team: Pack a pu
 nch\nHome Score: 4\nAway Score: 1
END:VEVENT
BEGIN:VEVENT
UID:10739863@ezleagues.ezfacility.com
DTSTAMP:20260426T034115Z
CREATED:20260426T034115Z
DTSTART:20171124T000000Z
DTEND:20171124T005500Z
LOCATION:PFFC Field House - C
CONTACT:
SUMMARY:Schwarzgelb United VS. Pack a punch
DESCRIPTION:League Name: MSL Soccer - W/T Men's Division #6 West\nGame Type
 : Regular\nGame Status: Complete\nHome Team: Schwarzgelb United\nAway Team
 : Pack a punch\nHome Score: 1\nAway Score: 7
END:VEVENT
BEGIN:VEVENT
UID:10739901@ezleagues.ezfacility.com
DTSTAMP:20260426T034115Z
CREATED:20260426T034115Z
DTSTART:20171201T005500Z
DTEND:20171201T015000Z
LOCATION:PFFC Field House - B
CONTACT:
SUMMARY:Leicester VS. Pack a punch
DESCRIPTION:League Name: MSL Soccer - W/T Men's Division #6 West\nGame Type
 : Regular\nGame Status: Complete\nHome Team: Leicester\nAway Team: Pack a 
 punch\nHome Score: 4\nAway Score: 1
END:VEVENT
BEGIN:VEVENT
UID:10739939@ezleagues.ezfacility.com
DTSTAMP:20260426T034115Z
CREATED:20260426T034115Z
DTSTART:20171208T024500Z
DTEND:20171208T034000Z
LOCATION:PFFC Field House - A
CONTACT:
SUMMARY:Sauga Reds VS. Pack a punch
DESCRIPTION:League Name: MSL Soccer - W/T Men's Division #6 West\nGame Type
 : Regular\nGame Status: Complete\nHome Team: Sauga Reds\nAway Team: Pack a
  punch\nHome Score: 5\nAway Score: 5
END:VEVENT
BEGIN:VEVENT
UID:10739977@ezleagues.ezfacility.com
DTSTAMP:20260426T034115Z
CREATED:20260426T034115Z
DTSTART:20171214T024500Z
DTEND:20171214T034000Z
LOCATION:PFFC Field House - C
CONTACT:
SUMMARY:Random VS. Pack a punch
DESCRIPTION:League Name: MSL Soccer - W/T Men's Division #6 West\nGame Type
 : Regular\nGame Status: Complete\nHome Team: Random\nAway Team: Pack a pun
 ch\nHome Score: 7\nAway Score: 2
END:VEVENT
BEGIN:VEVENT
UID:10740015@ezleagues.ezfacility.com
DTSTAMP:20260426T034115Z
CREATED:20260426T034115Z
DTSTART:20171222T000000Z
DTEND:20171222T005500Z
LOCATION:PFFC Field House - C
CONTACT:
SUMMARY:Mississauga Wednesday  VS. Pack a punch
DESCRIPTION:League Name: MSL Soccer - W/T Men's Division #6 West\nGame Type
 : Regular\nGame Status: Complete\nHome Team: Mississauga Wednesday \nAway 
 Team: Pack a punch\nHome Score: 0\nAway Score: 3
END:VEVENT
BEGIN:VEVENT
UID:10740053@ezleagues.ezfacility.com
DTSTAMP:20260426T034115Z
CREATED:20260426T034115Z
DTSTART:20171229T040000Z
DTEND:20171229T045500Z
LOCATION:PFFC Dome - 2
CONTACT:
SUMMARY:MSL FC  VS. Pack a punch
DESCRIPTION:League Name: MSL Soccer - W/T Men's Division #6 West\nGame Type
 : Regular\nGame Status: Complete\nHome Team: MSL FC \nAway Team: Pack a pu
 nch\nHome Score: 0\nAway Score: 3
END:VEVENT
BEGIN:VEVENT
UID:11022033@ezleagues.ezfacility.com
DTSTAMP:20260426T034115Z
CREATED:20260426T034115Z
DTSTART:20180103T231500Z
DTEND:20180104T001000Z
LOCATION:PFFC Field House - A
CONTACT:
SUMMARY:Pack a punch VS. MSL FC 
DESCRIPTION:League Name: MSL Soccer - W/T Men's Division #6 West\nGame Type
 : Postseason\nGame Status: Complete\nHome Team: Pack a punch\nAway Team: M
 SL FC \nHome Score: 3\nAway Score: 0
END:VEVENT
BEGIN:VEVENT
UID:11022064@ezleagues.ezfacility.com
DTSTAMP:20260426T034115Z
CREATED:20260426T034115Z
DTSTART:20180105T014500Z
DTEND:20180105T024000Z
LOCATION:PFFC Field House - C
CONTACT:
SUMMARY:Sauga Reds VS. Pack a punch
DESCRIPTION:League Name: MSL Soccer - W/T Men's Division #6 West\nGame Type
 : Postseason\nGame Status: Complete\nHome Team: Sauga Reds\nAway Team: Pac
 k a punch\nHome Score: 10\nAway Score: 1
END:VEVENT
END:VCALENDAR
