BEGIN:VCALENDAR
VERSION:2.0
PRODID:-//EZFacility.com, Inc.//EZL 2.5.5.28621
BEGIN:VEVENT
UID:10730228@ezleagues.ezfacility.com
DTSTAMP:20260421T174401Z
CREATED:20260421T174401Z
DTSTART:20171001T140000Z
DTEND:20171001T150000Z
LOCATION:Zone Court 3
CONTACT:
SUMMARY:Portage 4th VS. Triton 4th/5th
DESCRIPTION:League Name: ZONE '17 FALL HOOPS LEAGUE 4TH/5TH GRADE GIRLS\nGa
 me Type: Regular\nGame Status: Complete\nHome Team: Portage 4th\nAway Team
 : Triton 4th/5th\nHome Score: 10\nAway Score: 5
END:VEVENT
BEGIN:VEVENT
UID:10730402@ezleagues.ezfacility.com
DTSTAMP:20260421T174401Z
CREATED:20260421T174401Z
DTSTART:20171001T160000Z
DTEND:20171001T170000Z
LOCATION:Zone Court 3
CONTACT:
SUMMARY:Portage 4th VS. Zone 5th RED
DESCRIPTION:League Name: ZONE '17 FALL HOOPS LEAGUE 4TH/5TH GRADE GIRLS\nGa
 me Type: Regular\nGame Status: Complete\nHome Team: Portage 4th\nAway Team
 : Zone 5th RED\nHome Score: 6\nAway Score: 12
END:VEVENT
BEGIN:VEVENT
UID:10743661@ezleagues.ezfacility.com
DTSTAMP:20260421T174401Z
CREATED:20260421T174401Z
DTSTART:20171008T140000Z
DTEND:20171008T150000Z
LOCATION:Zone Court 4
CONTACT:
SUMMARY:Portage 4th VS. Mentone 5th
DESCRIPTION:League Name: ZONE '17 FALL HOOPS LEAGUE 4TH/5TH GRADE GIRLS\nGa
 me Type: Regular\nGame Status: Complete\nHome Team: Portage 4th\nAway Team
 : Mentone 5th\nHome Score: 24\nAway Score: 10
END:VEVENT
BEGIN:VEVENT
UID:10743650@ezleagues.ezfacility.com
DTSTAMP:20260421T174401Z
CREATED:20260421T174401Z
DTSTART:20171008T150000Z
DTEND:20171008T160000Z
LOCATION:Zone Court 3
CONTACT:
SUMMARY:Zone 4th/5th BLACK VS. Portage 4th
DESCRIPTION:League Name: ZONE '17 FALL HOOPS LEAGUE 4TH/5TH GRADE GIRLS\nGa
 me Type: Regular\nGame Status: Complete\nHome Team: Zone 4th/5th BLACK\nAw
 ay Team: Portage 4th\nHome Score: 19\nAway Score: 10
END:VEVENT
BEGIN:VEVENT
UID:10730256@ezleagues.ezfacility.com
DTSTAMP:20260421T174401Z
CREATED:20260421T174401Z
DTSTART:20171022T150000Z
DTEND:20171022T160000Z
LOCATION:Zone Court 3
CONTACT:
SUMMARY:Triton 4th/5th VS. Portage 4th
DESCRIPTION:League Name: ZONE '17 FALL HOOPS LEAGUE 4TH/5TH GRADE GIRLS\nGa
 me Type: Regular\nGame Status: Complete\nHome Team: Triton 4th/5th\nAway T
 eam: Portage 4th\nHome Score: 9\nAway Score: 12
END:VEVENT
BEGIN:VEVENT
UID:10761398@ezleagues.ezfacility.com
DTSTAMP:20260421T174401Z
CREATED:20260421T174401Z
DTSTART:20171022T170000Z
DTEND:20171022T180000Z
LOCATION:Zone Court 4
CONTACT:
SUMMARY:Zone 5th RED VS. Portage 4th
DESCRIPTION:League Name: ZONE '17 FALL HOOPS LEAGUE 4TH/5TH GRADE GIRLS\nGa
 me Type: Regular\nGame Status: Complete\nHome Team: Zone 5th RED\nAway Tea
 m: Portage 4th\nHome Score: 21\nAway Score: 5
END:VEVENT
END:VCALENDAR
