BEGIN:VCALENDAR
VERSION:2.0
PRODID:-//EZFacility.com, Inc.//EZL 2.5.5.28621
BEGIN:VEVENT
UID:10957211@ezleagues.ezfacility.com
DTSTAMP:20260426T033850Z
CREATED:20260426T033850Z
DTSTART:20171202T120000Z
DTEND:20171202T125500Z
LOCATION:Harmans Premier Field #4
CONTACT:
SUMMARY:SESC Warriors VS. HES United
DESCRIPTION:League Name: Youth (WINTER 1) SD2 Sat/Sun 2010 U8 Boys SILVER\n
 Game Type: Regular\nGame Status: Complete\nHome Team: SESC Warriors\nAway 
 Team: HES United\nHome Score: 6\nAway Score: 4
END:VEVENT
BEGIN:VEVENT
UID:10957258@ezleagues.ezfacility.com
DTSTAMP:20260426T033850Z
CREATED:20260426T033850Z
DTSTART:20171210T220500Z
DTEND:20171210T230000Z
LOCATION:Harmans Premier Field #5
CONTACT:
SUMMARY:HES United VS. Strikers
DESCRIPTION:League Name: Youth (WINTER 1) SD2 Sat/Sun 2010 U8 Boys SILVER\n
 Game Type: Regular\nGame Status: Complete\nHome Team: HES United\nAway Tea
 m: Strikers\nHome Score: 7\nAway Score: 2
END:VEVENT
BEGIN:VEVENT
UID:10957305@ezleagues.ezfacility.com
DTSTAMP:20260426T033850Z
CREATED:20260426T033850Z
DTSTART:20171217T125500Z
DTEND:20171217T135000Z
LOCATION:Harmans Premier Field #4
CONTACT:
SUMMARY:SESC Lady Spurs VS. HES United
DESCRIPTION:League Name: Youth (WINTER 1) SD2 Sat/Sun 2010 U8 Boys SILVER\n
 Game Type: Regular\nGame Status: Complete\nHome Team: SESC Lady Spurs\nAwa
 y Team: HES United\nHome Score: 3\nAway Score: 8
END:VEVENT
BEGIN:VEVENT
UID:10957441@ezleagues.ezfacility.com
DTSTAMP:20260426T033850Z
CREATED:20260426T033850Z
DTSTART:20180106T150000Z
DTEND:20180106T155500Z
LOCATION:Harmans Premier Field #5
CONTACT:
SUMMARY:HES United VS. SESC Warriors
DESCRIPTION:League Name: Youth (WINTER 1) SD2 Sat/Sun 2010 U8 Boys SILVER\n
 Game Type: Regular\nGame Status: Complete\nHome Team: HES United\nAway Tea
 m: SESC Warriors\nHome Score: 6\nAway Score: 1
END:VEVENT
BEGIN:VEVENT
UID:10957488@ezleagues.ezfacility.com
DTSTAMP:20260426T033850Z
CREATED:20260426T033850Z
DTSTART:20180114T154000Z
DTEND:20180114T163500Z
LOCATION:Harmans Premier Field #5
CONTACT:
SUMMARY:HES United VS. Strikers
DESCRIPTION:League Name: Youth (WINTER 1) SD2 Sat/Sun 2010 U8 Boys SILVER\n
 Game Type: Regular\nGame Status: Complete\nHome Team: HES United\nAway Tea
 m: Strikers\nHome Score: 4\nAway Score: 2
END:VEVENT
BEGIN:VEVENT
UID:10957535@ezleagues.ezfacility.com
DTSTAMP:20260426T033850Z
CREATED:20260426T033850Z
DTSTART:20180121T154000Z
DTEND:20180121T163500Z
LOCATION:Harmans Premier Field #4
CONTACT:
SUMMARY:HES United VS. SESC Lady Spurs
DESCRIPTION:League Name: Youth (WINTER 1) SD2 Sat/Sun 2010 U8 Boys SILVER\n
 Game Type: Regular\nGame Status: Complete\nHome Team: HES United\nAway Tea
 m: SESC Lady Spurs\nHome Score: 8\nAway Score: 0
END:VEVENT
BEGIN:VEVENT
UID:10957351@ezleagues.ezfacility.com
DTSTAMP:20260426T033850Z
CREATED:20260426T033850Z
DTSTART:20180127T130000Z
DTEND:20180127T135500Z
LOCATION:Harmans Premier Field #4
CONTACT:
SUMMARY:SAC United Vipers VS. HES United
DESCRIPTION:League Name: Youth (WINTER 1) SD2 Sat/Sun 2010 U8 Boys SILVER\n
 Game Type: Regular\nGame Status: Complete\nHome Team: SAC United Vipers\nA
 way Team: HES United\nHome Score: 4\nAway Score: 1
END:VEVENT
BEGIN:VEVENT
UID:10957396@ezleagues.ezfacility.com
DTSTAMP:20260426T033850Z
CREATED:20260426T033850Z
DTSTART:20180204T135000Z
DTEND:20180204T144500Z
LOCATION:Harmans Premier Field #4
CONTACT:
SUMMARY:Meteors VS. HES United
DESCRIPTION:League Name: Youth (WINTER 1) SD2 Sat/Sun 2010 U8 Boys SILVER\n
 Game Type: Regular\nGame Status: Complete\nHome Team: Meteors\nAway Team: 
 HES United\nHome Score: 2\nAway Score: 8
END:VEVENT
END:VCALENDAR
