BEGIN:VCALENDAR
VERSION:2.0
PRODID:-//EZFacility.com, Inc.//EZL 2.5.5.28621
BEGIN:VEVENT
UID:10737853@ezleagues.ezfacility.com
DTSTAMP:20260421T102356Z
CREATED:20260421T102356Z
DTSTART:20171006T003000Z
DTEND:20171006T013000Z
LOCATION:Total Turf
CONTACT:
SUMMARY:Team 01 Philly Warriors VS. Team 02 GCHS V
DESCRIPTION:League Name: High School Skip Given Fall 2017\nGame Type: Regul
 ar\nGame Status: Complete\nHome Team: Team 01 Philly Warriors\nAway Team: 
 Team 02 GCHS V\nHome Score: 68\nAway Score: 50
END:VEVENT
BEGIN:VEVENT
UID:10737859@ezleagues.ezfacility.com
DTSTAMP:20260421T102356Z
CREATED:20260421T102356Z
DTSTART:20171013T003000Z
DTEND:20171013T013000Z
LOCATION:Total Turf
CONTACT:
SUMMARY:Team 01 Philly Warriors VS. Team 06 BASELINE HOOPS
DESCRIPTION:League Name: High School Skip Given Fall 2017\nGame Type: Regul
 ar\nGame Status: Complete\nHome Team: Team 01 Philly Warriors\nAway Team: 
 Team 06 BASELINE HOOPS\nHome Score: 80\nAway Score: 50
END:VEVENT
BEGIN:VEVENT
UID:10737863@ezleagues.ezfacility.com
DTSTAMP:20260421T102356Z
CREATED:20260421T102356Z
DTSTART:20171018T233000Z
DTEND:20171019T003000Z
LOCATION:Total Turf
CONTACT:
SUMMARY:Team 01 Philly Warriors VS. Team 04 Mease -orange
DESCRIPTION:League Name: High School Skip Given Fall 2017\nGame Type: Regul
 ar\nGame Status: Complete\nHome Team: Team 01 Philly Warriors\nAway Team: 
 Team 04 Mease -orange\nHome Score: 71\nAway Score: 54
END:VEVENT
BEGIN:VEVENT
UID:10797647@ezleagues.ezfacility.com
DTSTAMP:20260421T102356Z
CREATED:20260421T102356Z
DTSTART:20171019T003000Z
DTEND:20171019T013000Z
LOCATION:Total Turf
CONTACT:
SUMMARY:Team 01 Philly Warriors VS. Team 05 WASHINGTON TWP
DESCRIPTION:League Name: High School Skip Given Fall 2017\nGame Type: Regul
 ar\nGame Status: Complete\nHome Team: Team 01 Philly Warriors\nAway Team: 
 Team 05 WASHINGTON TWP\nHome Score: 89\nAway Score: 59
END:VEVENT
BEGIN:VEVENT
UID:10798583@ezleagues.ezfacility.com
DTSTAMP:20260421T102356Z
CREATED:20260421T102356Z
DTSTART:20171023T231500Z
DTEND:20171024T001500Z
LOCATION:Total Turf
CONTACT:
SUMMARY:Team 01 Philly Warriors VS. Team 04 Mease -orange
DESCRIPTION:League Name: High School Skip Given Fall 2017\nGame Type: Regul
 ar\nGame Status: Complete\nHome Team: Team 01 Philly Warriors\nAway Team: 
 Team 04 Mease -orange\nHome Score: 90\nAway Score: 76
END:VEVENT
BEGIN:VEVENT
UID:10798589@ezleagues.ezfacility.com
DTSTAMP:20260421T102356Z
CREATED:20260421T102356Z
DTSTART:20171102T233000Z
DTEND:20171103T003000Z
LOCATION:Total Turf
CONTACT:
SUMMARY:Team 01 Philly Warriors VS. Team 03 GCHS JV
DESCRIPTION:League Name: High School Skip Given Fall 2017\nGame Type: Regul
 ar\nGame Status: Complete\nHome Team: Team 01 Philly Warriors\nAway Team: 
 Team 03 GCHS JV\nHome Score: 115\nAway Score: 70
END:VEVENT
BEGIN:VEVENT
UID:10798601@ezleagues.ezfacility.com
DTSTAMP:20260421T102356Z
CREATED:20260421T102356Z
DTSTART:20171104T003000Z
DTEND:20171104T013000Z
LOCATION:Total Turf
CONTACT:
SUMMARY:Team 01 Philly Warriors VS. Team 06 BASELINE HOOPS
DESCRIPTION:League Name: High School Skip Given Fall 2017\nGame Type: Regul
 ar\nGame Status: Pending\nHome Team: Team 01 Philly Warriors\nAway Team: T
 eam 06 BASELINE HOOPS\n
END:VEVENT
BEGIN:VEVENT
UID:10798595@ezleagues.ezfacility.com
DTSTAMP:20260421T102356Z
CREATED:20260421T102356Z
DTSTART:20171108T003000Z
DTEND:20171108T013000Z
LOCATION:Total Turf
CONTACT:
SUMMARY:Team 02 GCHS V VS. Team 01 Philly Warriors
DESCRIPTION:League Name: High School Skip Given Fall 2017\nGame Type: Regul
 ar\nGame Status: Complete\nHome Team: Team 02 GCHS V\nAway Team: Team 01 P
 hilly Warriors\nHome Score: 67\nAway Score: 81
END:VEVENT
BEGIN:VEVENT
UID:10874633@ezleagues.ezfacility.com
DTSTAMP:20260421T102356Z
CREATED:20260421T102356Z
DTSTART:20171110T013000Z
DTEND:20171110T023000Z
LOCATION:Total Turf
CONTACT:
SUMMARY:Team 01 Philly Warriors VS. Team 06 BASELINE HOOPS
DESCRIPTION:League Name: High School Skip Given Fall 2017\nGame Type: Regul
 ar\nGame Status: Complete\nHome Team: Team 01 Philly Warriors\nAway Team: 
 Team 06 BASELINE HOOPS\nHome Score: 87\nAway Score: 61
END:VEVENT
BEGIN:VEVENT
UID:10905541@ezleagues.ezfacility.com
DTSTAMP:20260421T102356Z
CREATED:20260421T102356Z
DTSTART:20171116T013000Z
DTEND:20171116T023000Z
LOCATION:Total Turf
CONTACT:
SUMMARY:Team 01 Philly Warriors VS. Team 04 Mease -orange
DESCRIPTION:League Name: High School Skip Given Fall 2017\nGame Type: Regul
 ar\nGame Status: Pending\nHome Team: Team 01 Philly Warriors\nAway Team: T
 eam 04 Mease -orange\n
END:VEVENT
END:VCALENDAR
