BEGIN:VCALENDAR
VERSION:2.0
PRODID:-//EZFacility.com, Inc.//EZL 2.5.5.28621
BEGIN:VEVENT
UID:10754841@ezleagues.ezfacility.com
DTSTAMP:20260420T124922Z
CREATED:20260420T124922Z
DTSTART:20171013T233700Z
DTEND:20171014T002900Z
LOCATION:Field   ID 3
CONTACT:
SUMMARY:Tide Too  VS. Still Kicking
DESCRIPTION:League Name: Fall Indoor 2017  Coed 40+ East\nGame Type: Regula
 r\nGame Status: Complete\nHome Team: Tide Too \nAway Team: Still Kicking\n
 Home Score: 1\nAway Score: 10
END:VEVENT
BEGIN:VEVENT
UID:10782222@ezleagues.ezfacility.com
DTSTAMP:20260420T124922Z
CREATED:20260420T124922Z
DTSTART:20171028T002900Z
DTEND:20171028T012100Z
LOCATION:Field   ID 1
CONTACT:
SUMMARY:Still Kicking VS. Quasars
DESCRIPTION:League Name: Fall Indoor 2017  Coed 40+ East\nGame Type: Regula
 r\nGame Status: Complete\nHome Team: Still Kicking\nAway Team: Quasars\nHo
 me Score: 1\nAway Score: 1
END:VEVENT
BEGIN:VEVENT
UID:10782000@ezleagues.ezfacility.com
DTSTAMP:20260420T124922Z
CREATED:20260420T124922Z
DTSTART:20171103T233700Z
DTEND:20171104T002900Z
LOCATION:Field   ID 3
CONTACT:
SUMMARY:At It Again VS. Still Kicking
DESCRIPTION:League Name: Fall Indoor 2017  Coed 40+ East\nGame Type: Regula
 r\nGame Status: Complete\nHome Team: At It Again\nAway Team: Still Kicking
 \nHome Score: 2\nAway Score: 2
END:VEVENT
BEGIN:VEVENT
UID:10782216@ezleagues.ezfacility.com
DTSTAMP:20260420T124922Z
CREATED:20260420T124922Z
DTSTART:20171111T012900Z
DTEND:20171111T022100Z
LOCATION:Field   ID 3
CONTACT:
SUMMARY:Still Kicking VS. Tide Free
DESCRIPTION:League Name: Fall Indoor 2017  Coed 40+ East\nGame Type: Regula
 r\nGame Status: Complete\nHome Team: Still Kicking\nAway Team: Tide Free\n
 Home Score: 3\nAway Score: 1
END:VEVENT
BEGIN:VEVENT
UID:10782326@ezleagues.ezfacility.com
DTSTAMP:20260420T124922Z
CREATED:20260420T124922Z
DTSTART:20171118T031300Z
DTEND:20171118T040500Z
LOCATION:Field   ID 3
CONTACT:
SUMMARY:Still Kicking VS. Score-pions
DESCRIPTION:League Name: Fall Indoor 2017  Coed 40+ East\nGame Type: Regula
 r\nGame Status: Complete\nHome Team: Still Kicking\nAway Team: Score-pions
 \nHome Score: 5\nAway Score: 8
END:VEVENT
BEGIN:VEVENT
UID:10782224@ezleagues.ezfacility.com
DTSTAMP:20260420T124922Z
CREATED:20260420T124922Z
DTSTART:20171202T031300Z
DTEND:20171202T040500Z
LOCATION:Field   ID 1
CONTACT:
SUMMARY:Chaos VS. Still Kicking
DESCRIPTION:League Name: Fall Indoor 2017  Coed 40+ East\nGame Type: Regula
 r\nGame Status: Complete\nHome Team: Chaos\nAway Team: Still Kicking\nHome
  Score: 1\nAway Score: 6
END:VEVENT
BEGIN:VEVENT
UID:10782002@ezleagues.ezfacility.com
DTSTAMP:20260420T124922Z
CREATED:20260420T124922Z
DTSTART:20171209T003700Z
DTEND:20171209T012900Z
LOCATION:Field   ID 3
CONTACT:
SUMMARY:Still Kicking VS. Tide Too 
DESCRIPTION:League Name: Fall Indoor 2017  Coed 40+ East\nGame Type: Regula
 r\nGame Status: Complete\nHome Team: Still Kicking\nAway Team: Tide Too \n
 Home Score: 6\nAway Score: 2
END:VEVENT
BEGIN:VEVENT
UID:10782110@ezleagues.ezfacility.com
DTSTAMP:20260420T124922Z
CREATED:20260420T124922Z
DTSTART:20171223T012900Z
DTEND:20171223T022100Z
LOCATION:Field   ID 3
CONTACT:
SUMMARY:Quasars VS. Still Kicking
DESCRIPTION:League Name: Fall Indoor 2017  Coed 40+ East\nGame Type: Regula
 r\nGame Status: Complete\nHome Team: Quasars\nAway Team: Still Kicking\nHo
 me Score: 3\nAway Score: 3
END:VEVENT
BEGIN:VEVENT
UID:10781907@ezleagues.ezfacility.com
DTSTAMP:20260420T124922Z
CREATED:20260420T124922Z
DTSTART:20171230T003700Z
DTEND:20171230T012900Z
LOCATION:Field   ID 2
CONTACT:
SUMMARY:Tide Free VS. Still Kicking
DESCRIPTION:League Name: Fall Indoor 2017  Coed 40+ East\nGame Type: Regula
 r\nGame Status: Complete\nHome Team: Tide Free\nAway Team: Still Kicking\n
 Home Score: 5\nAway Score: 2
END:VEVENT
END:VCALENDAR
