BEGIN:VCALENDAR
VERSION:2.0
PRODID:-//EZFacility.com, Inc.//EZL 2.5.5.28621
BEGIN:VEVENT
UID:10754843@ezleagues.ezfacility.com
DTSTAMP:20260420T024451Z
CREATED:20260420T024451Z
DTSTART:20171014T002900Z
DTEND:20171014T012100Z
LOCATION:Field   ID 2
CONTACT:
SUMMARY:Wookie Nation VS. Antiques
DESCRIPTION:League Name: Fall Indoor 2017  Coed 40+  North\nGame Type: Regu
 lar\nGame Status: Complete\nHome Team: Wookie Nation\nAway Team: Antiques\
 nHome Score: 1\nAway Score: 1
END:VEVENT
BEGIN:VEVENT
UID:10768390@ezleagues.ezfacility.com
DTSTAMP:20260420T024451Z
CREATED:20260420T024451Z
DTSTART:20171021T012100Z
DTEND:20171021T021300Z
LOCATION:Field   ID 2
CONTACT:
SUMMARY:Antiques VS. Flying Scots
DESCRIPTION:League Name: Fall Indoor 2017  Coed 40+  North\nGame Type: Regu
 lar\nGame Status: Complete\nHome Team: Antiques\nAway Team: Flying Scots\n
 Home Score: 4\nAway Score: 0
END:VEVENT
BEGIN:VEVENT
UID:10781733@ezleagues.ezfacility.com
DTSTAMP:20260420T024451Z
CREATED:20260420T024451Z
DTSTART:20171104T002900Z
DTEND:20171104T012100Z
LOCATION:Field   ID 1
CONTACT:
SUMMARY:Speed of Slight VS. Antiques
DESCRIPTION:League Name: Fall Indoor 2017  Coed 40+  North\nGame Type: Regu
 lar\nGame Status: Complete\nHome Team: Speed of Slight\nAway Team: Antique
 s\nHome Score: 3\nAway Score: 7
END:VEVENT
BEGIN:VEVENT
UID:10781737@ezleagues.ezfacility.com
DTSTAMP:20260420T024451Z
CREATED:20260420T024451Z
DTSTART:20171111T012900Z
DTEND:20171111T022100Z
LOCATION:Field   ID 1
CONTACT:
SUMMARY:Antiques VS. Kickmaster
DESCRIPTION:League Name: Fall Indoor 2017  Coed 40+  North\nGame Type: Regu
 lar\nGame Status: Complete\nHome Team: Antiques\nAway Team: Kickmaster\nHo
 me Score: 1\nAway Score: 6
END:VEVENT
BEGIN:VEVENT
UID:10781740@ezleagues.ezfacility.com
DTSTAMP:20260420T024451Z
CREATED:20260420T024451Z
DTSTART:20171118T012900Z
DTEND:20171118T022100Z
LOCATION:Field   ID 3
CONTACT:
SUMMARY:Drinking Team w/a Soccer Problem VS. Antiques
DESCRIPTION:League Name: Fall Indoor 2017  Coed 40+  North\nGame Type: Regu
 lar\nGame Status: Complete\nHome Team: Drinking Team w/a Soccer Problem\nA
 way Team: Antiques\nHome Score: 6\nAway Score: 3
END:VEVENT
BEGIN:VEVENT
UID:10781795@ezleagues.ezfacility.com
DTSTAMP:20260420T024451Z
CREATED:20260420T024451Z
DTSTART:20171202T022100Z
DTEND:20171202T031300Z
LOCATION:Field   ID 2
CONTACT:
SUMMARY:Antiques VS. Wookie Nation
DESCRIPTION:League Name: Fall Indoor 2017  Coed 40+  North\nGame Type: Regu
 lar\nGame Status: Complete\nHome Team: Antiques\nAway Team: Wookie Nation\
 nHome Score: 5\nAway Score: 6
END:VEVENT
BEGIN:VEVENT
UID:10781799@ezleagues.ezfacility.com
DTSTAMP:20260420T024451Z
CREATED:20260420T024451Z
DTSTART:20171209T031300Z
DTEND:20171209T040500Z
LOCATION:Field   ID 2
CONTACT:
SUMMARY:Flying Scots VS. Antiques
DESCRIPTION:League Name: Fall Indoor 2017  Coed 40+  North\nGame Type: Regu
 lar\nGame Status: Complete\nHome Team: Flying Scots\nAway Team: Antiques\n
 Home Score: 4\nAway Score: 7
END:VEVENT
BEGIN:VEVENT
UID:10781801@ezleagues.ezfacility.com
DTSTAMP:20260420T024451Z
CREATED:20260420T024451Z
DTSTART:20171216T031300Z
DTEND:20171216T040500Z
LOCATION:Field   ID 1
CONTACT:
SUMMARY:Xylan VS. Antiques
DESCRIPTION:League Name: Fall Indoor 2017  Coed 40+  North\nGame Type: Regu
 lar\nGame Status: Complete\nHome Team: Xylan\nAway Team: Antiques\nHome Sc
 ore: 2\nAway Score: 7
END:VEVENT
BEGIN:VEVENT
UID:10781787@ezleagues.ezfacility.com
DTSTAMP:20260420T024451Z
CREATED:20260420T024451Z
DTSTART:20171230T022100Z
DTEND:20171230T031300Z
LOCATION:_
CONTACT:
SUMMARY:Antiques VS. Speed of Slight
DESCRIPTION:League Name: Fall Indoor 2017  Coed 40+  North\nGame Type: Regu
 lar\nGame Status: Rescheduled\nHome Team: Antiques\nAway Team: Speed of Sl
 ight\n
END:VEVENT
BEGIN:VEVENT
UID:11016425@ezleagues.ezfacility.com
DTSTAMP:20260420T024451Z
CREATED:20260420T024451Z
DTSTART:20180106T010400Z
DTEND:20180106T015600Z
LOCATION:Field   ID 1
CONTACT:
SUMMARY:Antiques VS. Speed of Slight
DESCRIPTION:League Name: Fall Indoor 2017  Coed 40+  North\nGame Type: Regu
 lar\nGame Status: Complete\nHome Team: Antiques\nAway Team: Speed of Sligh
 t\nHome Score: 4\nAway Score: 4
END:VEVENT
END:VCALENDAR
