BEGIN:VCALENDAR
VERSION:2.0
PRODID:-//EZFacility.com, Inc.//EZL 2.5.5.28621
BEGIN:VEVENT
UID:10754844@ezleagues.ezfacility.com
DTSTAMP:20260424T043942Z
CREATED:20260424T043942Z
DTSTART:20171014T002900Z
DTEND:20171014T012100Z
LOCATION:Field   ID 1
CONTACT:
SUMMARY:Speed of Slight VS. Drinking Team w/a Soccer Problem
DESCRIPTION:League Name: Fall Indoor 2017  Coed 40+  North\nGame Type: Regu
 lar\nGame Status: Complete\nHome Team: Speed of Slight\nAway Team: Drinkin
 g Team w/a Soccer Problem\nHome Score: 3\nAway Score: 5
END:VEVENT
BEGIN:VEVENT
UID:10768389@ezleagues.ezfacility.com
DTSTAMP:20260424T043942Z
CREATED:20260424T043942Z
DTSTART:20171020T233700Z
DTEND:20171021T002900Z
LOCATION:Field   ID 1
CONTACT:
SUMMARY:Speed of Slight VS. Wookie Nation
DESCRIPTION:League Name: Fall Indoor 2017  Coed 40+  North\nGame Type: Regu
 lar\nGame Status: Complete\nHome Team: Speed of Slight\nAway Team: Wookie 
 Nation\nHome Score: 2\nAway Score: 9
END:VEVENT
BEGIN:VEVENT
UID:10781726@ezleagues.ezfacility.com
DTSTAMP:20260424T043942Z
CREATED:20260424T043942Z
DTSTART:20171028T002900Z
DTEND:20171028T012100Z
LOCATION:Field   ID 2
CONTACT:
SUMMARY:Flying Scots VS. Speed of Slight
DESCRIPTION:League Name: Fall Indoor 2017  Coed 40+  North\nGame Type: Regu
 lar\nGame Status: Complete\nHome Team: Flying Scots\nAway Team: Speed of S
 light\nHome Score: 2\nAway Score: 1
END:VEVENT
BEGIN:VEVENT
UID:10781733@ezleagues.ezfacility.com
DTSTAMP:20260424T043942Z
CREATED:20260424T043942Z
DTSTART:20171104T002900Z
DTEND:20171104T012100Z
LOCATION:Field   ID 1
CONTACT:
SUMMARY:Speed of Slight VS. Antiques
DESCRIPTION:League Name: Fall Indoor 2017  Coed 40+  North\nGame Type: Regu
 lar\nGame Status: Complete\nHome Team: Speed of Slight\nAway Team: Antique
 s\nHome Score: 3\nAway Score: 7
END:VEVENT
BEGIN:VEVENT
UID:10781739@ezleagues.ezfacility.com
DTSTAMP:20260424T043942Z
CREATED:20260424T043942Z
DTSTART:20171118T012900Z
DTEND:20171118T022100Z
LOCATION:Field   ID 1
CONTACT:
SUMMARY:Speed of Slight VS. Xylan
DESCRIPTION:League Name: Fall Indoor 2017  Coed 40+  North\nGame Type: Regu
 lar\nGame Status: Complete\nHome Team: Speed of Slight\nAway Team: Xylan\n
 Home Score: 4\nAway Score: 5
END:VEVENT
BEGIN:VEVENT
UID:10781760@ezleagues.ezfacility.com
DTSTAMP:20260424T043942Z
CREATED:20260424T043942Z
DTSTART:20171202T012900Z
DTEND:20171202T022100Z
LOCATION:Field   ID 2
CONTACT:
SUMMARY:Drinking Team w/a Soccer Problem VS. Speed of Slight
DESCRIPTION:League Name: Fall Indoor 2017  Coed 40+  North\nGame Type: Regu
 lar\nGame Status: Complete\nHome Team: Drinking Team w/a Soccer Problem\nA
 way Team: Speed of Slight\nHome Score: 3\nAway Score: 1
END:VEVENT
BEGIN:VEVENT
UID:10781800@ezleagues.ezfacility.com
DTSTAMP:20260424T043942Z
CREATED:20260424T043942Z
DTSTART:20171209T031300Z
DTEND:20171209T040500Z
LOCATION:Field   ID 1
CONTACT:
SUMMARY:Wookie Nation VS. Speed of Slight
DESCRIPTION:League Name: Fall Indoor 2017  Coed 40+  North\nGame Type: Regu
 lar\nGame Status: Complete\nHome Team: Wookie Nation\nAway Team: Speed of 
 Slight\nHome Score: 6\nAway Score: 1
END:VEVENT
BEGIN:VEVENT
UID:10781777@ezleagues.ezfacility.com
DTSTAMP:20260424T043942Z
CREATED:20260424T043942Z
DTSTART:20171216T012900Z
DTEND:20171216T022100Z
LOCATION:Field   ID 3
CONTACT:
SUMMARY:Kickmaster VS. Speed of Slight
DESCRIPTION:League Name: Fall Indoor 2017  Coed 40+  North\nGame Type: Regu
 lar\nGame Status: Complete\nHome Team: Kickmaster\nAway Team: Speed of Sli
 ght\nHome Score: 10\nAway Score: 3
END:VEVENT
BEGIN:VEVENT
UID:10781780@ezleagues.ezfacility.com
DTSTAMP:20260424T043942Z
CREATED:20260424T043942Z
DTSTART:20171223T012900Z
DTEND:20171223T022100Z
LOCATION:Field   ID 1
CONTACT:
SUMMARY:Speed of Slight VS. Flying Scots
DESCRIPTION:League Name: Fall Indoor 2017  Coed 40+  North\nGame Type: Regu
 lar\nGame Status: Complete\nHome Team: Speed of Slight\nAway Team: Flying 
 Scots\nHome Score: 9\nAway Score: 3
END:VEVENT
BEGIN:VEVENT
UID:10781787@ezleagues.ezfacility.com
DTSTAMP:20260424T043942Z
CREATED:20260424T043942Z
DTSTART:20171230T022100Z
DTEND:20171230T031300Z
LOCATION:_
CONTACT:
SUMMARY:Antiques VS. Speed of Slight
DESCRIPTION:League Name: Fall Indoor 2017  Coed 40+  North\nGame Type: Regu
 lar\nGame Status: Rescheduled\nHome Team: Antiques\nAway Team: Speed of Sl
 ight\n
END:VEVENT
BEGIN:VEVENT
UID:11016425@ezleagues.ezfacility.com
DTSTAMP:20260424T043942Z
CREATED:20260424T043942Z
DTSTART:20180106T010400Z
DTEND:20180106T015600Z
LOCATION:Field   ID 1
CONTACT:
SUMMARY:Antiques VS. Speed of Slight
DESCRIPTION:League Name: Fall Indoor 2017  Coed 40+  North\nGame Type: Regu
 lar\nGame Status: Complete\nHome Team: Antiques\nAway Team: Speed of Sligh
 t\nHome Score: 4\nAway Score: 4
END:VEVENT
END:VCALENDAR
