BEGIN:VCALENDAR
VERSION:2.0
PRODID:-//EZFacility.com, Inc.//EZL 2.5.5.28621
BEGIN:VEVENT
UID:10754844@ezleagues.ezfacility.com
DTSTAMP:20260421T171803Z
CREATED:20260421T171803Z
DTSTART:20171014T002900Z
DTEND:20171014T012100Z
LOCATION:Field   ID 1
CONTACT:
SUMMARY:Speed of Slight VS. Drinking Team w/a Soccer Problem
DESCRIPTION:League Name: Fall Indoor 2017  Coed 40+  North\nGame Type: Regu
 lar\nGame Status: Complete\nHome Team: Speed of Slight\nAway Team: Drinkin
 g Team w/a Soccer Problem\nHome Score: 3\nAway Score: 5
END:VEVENT
BEGIN:VEVENT
UID:10768388@ezleagues.ezfacility.com
DTSTAMP:20260421T171803Z
CREATED:20260421T171803Z
DTSTART:20171020T224500Z
DTEND:20171020T233700Z
LOCATION:Field   ID 2
CONTACT:
SUMMARY:Drinking Team w/a Soccer Problem VS. Kickmaster
DESCRIPTION:League Name: Fall Indoor 2017  Coed 40+  North\nGame Type: Regu
 lar\nGame Status: Complete\nHome Team: Drinking Team w/a Soccer Problem\nA
 way Team: Kickmaster\nHome Score: 0\nAway Score: 1
END:VEVENT
BEGIN:VEVENT
UID:10781723@ezleagues.ezfacility.com
DTSTAMP:20260421T171803Z
CREATED:20260421T171803Z
DTSTART:20171027T233700Z
DTEND:20171028T002900Z
LOCATION:Field   ID 1
CONTACT:
SUMMARY:Xylan VS. Drinking Team w/a Soccer Problem
DESCRIPTION:League Name: Fall Indoor 2017  Coed 40+  North\nGame Type: Regu
 lar\nGame Status: Complete\nHome Team: Xylan\nAway Team: Drinking Team w/a
  Soccer Problem\nHome Score: 6\nAway Score: 1
END:VEVENT
BEGIN:VEVENT
UID:10781794@ezleagues.ezfacility.com
DTSTAMP:20260421T171803Z
CREATED:20260421T171803Z
DTSTART:20171111T022100Z
DTEND:20171111T031300Z
LOCATION:Field   ID 2
CONTACT:
SUMMARY:Drinking Team w/a Soccer Problem VS. Wookie Nation
DESCRIPTION:League Name: Fall Indoor 2017  Coed 40+  North\nGame Type: Regu
 lar\nGame Status: Complete\nHome Team: Drinking Team w/a Soccer Problem\nA
 way Team: Wookie Nation\nHome Score: 5\nAway Score: 2
END:VEVENT
BEGIN:VEVENT
UID:10781740@ezleagues.ezfacility.com
DTSTAMP:20260421T171803Z
CREATED:20260421T171803Z
DTSTART:20171118T012900Z
DTEND:20171118T022100Z
LOCATION:Field   ID 3
CONTACT:
SUMMARY:Drinking Team w/a Soccer Problem VS. Antiques
DESCRIPTION:League Name: Fall Indoor 2017  Coed 40+  North\nGame Type: Regu
 lar\nGame Status: Complete\nHome Team: Drinking Team w/a Soccer Problem\nA
 way Team: Antiques\nHome Score: 6\nAway Score: 3
END:VEVENT
BEGIN:VEVENT
UID:10781760@ezleagues.ezfacility.com
DTSTAMP:20260421T171803Z
CREATED:20260421T171803Z
DTSTART:20171202T012900Z
DTEND:20171202T022100Z
LOCATION:Field   ID 2
CONTACT:
SUMMARY:Drinking Team w/a Soccer Problem VS. Speed of Slight
DESCRIPTION:League Name: Fall Indoor 2017  Coed 40+  North\nGame Type: Regu
 lar\nGame Status: Complete\nHome Team: Drinking Team w/a Soccer Problem\nA
 way Team: Speed of Slight\nHome Score: 3\nAway Score: 1
END:VEVENT
BEGIN:VEVENT
UID:10781776@ezleagues.ezfacility.com
DTSTAMP:20260421T171803Z
CREATED:20260421T171803Z
DTSTART:20171209T012900Z
DTEND:20171209T022100Z
LOCATION:Field   ID 1
CONTACT:
SUMMARY:Kickmaster VS. Drinking Team w/a Soccer Problem
DESCRIPTION:League Name: Fall Indoor 2017  Coed 40+  North\nGame Type: Regu
 lar\nGame Status: Complete\nHome Team: Kickmaster\nAway Team: Drinking Tea
 m w/a Soccer Problem\nHome Score: 3\nAway Score: 3
END:VEVENT
BEGIN:VEVENT
UID:10781724@ezleagues.ezfacility.com
DTSTAMP:20260421T171803Z
CREATED:20260421T171803Z
DTSTART:20171216T003700Z
DTEND:20171216T012900Z
LOCATION:Field   ID 3
CONTACT:
SUMMARY:Flying Scots VS. Drinking Team w/a Soccer Problem
DESCRIPTION:League Name: Fall Indoor 2017  Coed 40+  North\nGame Type: Regu
 lar\nGame Status: Complete\nHome Team: Flying Scots\nAway Team: Drinking T
 eam w/a Soccer Problem\nHome Score: 3\nAway Score: 6
END:VEVENT
BEGIN:VEVENT
UID:10781725@ezleagues.ezfacility.com
DTSTAMP:20260421T171803Z
CREATED:20260421T171803Z
DTSTART:20171223T003700Z
DTEND:20171223T012900Z
LOCATION:Field   ID 2
CONTACT:
SUMMARY:Drinking Team w/a Soccer Problem VS. Xylan
DESCRIPTION:League Name: Fall Indoor 2017  Coed 40+  North\nGame Type: Regu
 lar\nGame Status: Complete\nHome Team: Drinking Team w/a Soccer Problem\nA
 way Team: Xylan\nHome Score: 3\nAway Score: 4
END:VEVENT
END:VCALENDAR
