BEGIN:VCALENDAR
VERSION:2.0
PRODID:-//EZFacility.com, Inc.//EZL 2.5.5.28621
BEGIN:VEVENT
UID:10758946@ezleagues.ezfacility.com
DTSTAMP:20260424T044050Z
CREATED:20260424T044050Z
DTSTART:20171015T140300Z
DTEND:20171015T145500Z
LOCATION:Field   ID 2
CONTACT:
SUMMARY:Pounders VS. Gigondas
DESCRIPTION:League Name: Fall Indoor 2017  Men's 40+\nGame Type: Regular\nG
 ame Status: Complete\nHome Team: Pounders\nAway Team: Gigondas\nHome Score
 : 3\nAway Score: 7
END:VEVENT
BEGIN:VEVENT
UID:10784390@ezleagues.ezfacility.com
DTSTAMP:20260424T044050Z
CREATED:20260424T044050Z
DTSTART:20171022T131200Z
DTEND:20171022T140400Z
LOCATION:_
CONTACT:
SUMMARY:Gigondas VS. Atrophy
DESCRIPTION:League Name: Fall Indoor 2017  Men's 40+\nGame Type: Regular\nG
 ame Status: Complete\nHome Team: Gigondas\nAway Team: Atrophy\nHome Score:
  5\nAway Score: 4
END:VEVENT
BEGIN:VEVENT
UID:10784394@ezleagues.ezfacility.com
DTSTAMP:20260424T044050Z
CREATED:20260424T044050Z
DTSTART:20171029T140400Z
DTEND:20171029T145600Z
LOCATION:Field   ID 2
CONTACT:
SUMMARY:Gigondas VS. Chaos
DESCRIPTION:League Name: Fall Indoor 2017  Men's 40+\nGame Type: Regular\nG
 ame Status: Complete\nHome Team: Gigondas\nAway Team: Chaos\nHome Score: 4
 \nAway Score: 2
END:VEVENT
BEGIN:VEVENT
UID:10835904@ezleagues.ezfacility.com
DTSTAMP:20260424T044050Z
CREATED:20260424T044050Z
DTSTART:20171105T132000Z
DTEND:20171105T141200Z
LOCATION:Field   ID 1
CONTACT:
SUMMARY:Gigondas VS. Columbus Football Club
DESCRIPTION:League Name: Fall Indoor 2017  Men's 40+\nGame Type: Regular\nG
 ame Status: Complete\nHome Team: Gigondas\nAway Team: Columbus Football Cl
 ub\nHome Score: 3\nAway Score: 0
END:VEVENT
BEGIN:VEVENT
UID:10846899@ezleagues.ezfacility.com
DTSTAMP:20260424T044050Z
CREATED:20260424T044050Z
DTSTART:20171112T141400Z
DTEND:20171112T150600Z
LOCATION:Field   ID 3
CONTACT:
SUMMARY:Graywolves VS. Gigondas
DESCRIPTION:League Name: Fall Indoor 2017  Men's 40+\nGame Type: Regular\nG
 ame Status: Complete\nHome Team: Graywolves\nAway Team: Gigondas\nHome Sco
 re: 7\nAway Score: 4
END:VEVENT
BEGIN:VEVENT
UID:10846909@ezleagues.ezfacility.com
DTSTAMP:20260424T044050Z
CREATED:20260424T044050Z
DTSTART:20171119T135600Z
DTEND:20171119T144800Z
LOCATION:Field   ID 1
CONTACT:
SUMMARY:Green Dragons FC VS. Gigondas
DESCRIPTION:League Name: Fall Indoor 2017  Men's 40+\nGame Type: Regular\nG
 ame Status: Complete\nHome Team: Green Dragons FC\nAway Team: Gigondas\nHo
 me Score: 3\nAway Score: 4
END:VEVENT
BEGIN:VEVENT
UID:10846914@ezleagues.ezfacility.com
DTSTAMP:20260424T044050Z
CREATED:20260424T044050Z
DTSTART:20171126T130400Z
DTEND:20171126T135600Z
LOCATION:_
CONTACT:
SUMMARY:United VS. Gigondas
DESCRIPTION:League Name: Fall Indoor 2017  Men's 40+\nGame Type: Regular\nG
 ame Status: Complete\nHome Team: United\nAway Team: Gigondas\nHome Score: 
 6\nAway Score: 4
END:VEVENT
BEGIN:VEVENT
UID:10846919@ezleagues.ezfacility.com
DTSTAMP:20260424T044050Z
CREATED:20260424T044050Z
DTSTART:20171203T135600Z
DTEND:20171203T144800Z
LOCATION:Field   ID 3
CONTACT:
SUMMARY:Gigondas VS. Lost Shepherd +40
DESCRIPTION:League Name: Fall Indoor 2017  Men's 40+\nGame Type: Regular\nG
 ame Status: Complete\nHome Team: Gigondas\nAway Team: Lost Shepherd +40\nH
 ome Score: 1\nAway Score: 7
END:VEVENT
BEGIN:VEVENT
UID:10846928@ezleagues.ezfacility.com
DTSTAMP:20260424T044050Z
CREATED:20260424T044050Z
DTSTART:20171210T130400Z
DTEND:20171210T135600Z
LOCATION:Field   ID 2
CONTACT:
SUMMARY:Gigondas VS. Dublin FC
DESCRIPTION:League Name: Fall Indoor 2017  Men's 40+\nGame Type: Regular\nG
 ame Status: Complete\nHome Team: Gigondas\nAway Team: Dublin FC\nHome Scor
 e: 4\nAway Score: 6
END:VEVENT
END:VCALENDAR
