BEGIN:VCALENDAR
VERSION:2.0
PRODID:-//EZFacility.com, Inc.//EZL 2.5.5.28621
BEGIN:VEVENT
UID:10764318@ezleagues.ezfacility.com
DTSTAMP:20260420T073904Z
CREATED:20260420T073904Z
DTSTART:20171017T231200Z
DTEND:20171018T000400Z
LOCATION:Field   ID 1
CONTACT:
SUMMARY:Orange Iguanas VS. Dad Bod
DESCRIPTION:League Name: Fall Indoor 2017  Men's 0pen West\nGame Type: Regu
 lar\nGame Status: Complete\nHome Team: Orange Iguanas\nAway Team: Dad Bod\
 nHome Score: 6\nAway Score: 5
END:VEVENT
BEGIN:VEVENT
UID:10785932@ezleagues.ezfacility.com
DTSTAMP:20260420T073904Z
CREATED:20260420T073904Z
DTSTART:20171025T014800Z
DTEND:20171025T024000Z
LOCATION:_
CONTACT:
SUMMARY:Barcelona VS. Orange Iguanas
DESCRIPTION:League Name: Fall Indoor 2017  Men's 0pen West\nGame Type: Regu
 lar\nGame Status: Complete\nHome Team: Barcelona\nAway Team: Orange Iguana
 s\nHome Score: 7\nAway Score: 6
END:VEVENT
BEGIN:VEVENT
UID:10785935@ezleagues.ezfacility.com
DTSTAMP:20260420T073904Z
CREATED:20260420T073904Z
DTSTART:20171101T005600Z
DTEND:20171101T014800Z
LOCATION:_
CONTACT:
SUMMARY:Fine Line VS. Orange Iguanas
DESCRIPTION:League Name: Fall Indoor 2017  Men's 0pen West\nGame Type: Regu
 lar\nGame Status: Rescheduled\nHome Team: Fine Line\nAway Team: Orange Igu
 anas\n
END:VEVENT
BEGIN:VEVENT
UID:10858292@ezleagues.ezfacility.com
DTSTAMP:20260420T073904Z
CREATED:20260420T073904Z
DTSTART:20171108T024800Z
DTEND:20171108T034000Z
LOCATION:Field   ID 2
CONTACT:
SUMMARY:Orange Iguanas VS. Club Cuervos FC
DESCRIPTION:League Name: Fall Indoor 2017  Men's 0pen West\nGame Type: Regu
 lar\nGame Status: Complete\nHome Team: Orange Iguanas\nAway Team: Club Cue
 rvos FC\nHome Score: 3\nAway Score: 1
END:VEVENT
BEGIN:VEVENT
UID:10858295@ezleagues.ezfacility.com
DTSTAMP:20260420T073904Z
CREATED:20260420T073904Z
DTSTART:20171122T001200Z
DTEND:20171122T010400Z
LOCATION:Field   ID 1
CONTACT:
SUMMARY:Dad Bod VS. Orange Iguanas
DESCRIPTION:League Name: Fall Indoor 2017  Men's 0pen West\nGame Type: Regu
 lar\nGame Status: Complete\nHome Team: Dad Bod\nAway Team: Orange Iguanas\
 nHome Score: 3\nAway Score: 0
END:VEVENT
BEGIN:VEVENT
UID:10858298@ezleagues.ezfacility.com
DTSTAMP:20260420T073904Z
CREATED:20260420T073904Z
DTSTART:20171129T015600Z
DTEND:20171129T024800Z
LOCATION:Field   ID 2
CONTACT:
SUMMARY:Orange Iguanas VS. Barcelona
DESCRIPTION:League Name: Fall Indoor 2017  Men's 0pen West\nGame Type: Regu
 lar\nGame Status: Complete\nHome Team: Orange Iguanas\nAway Team: Barcelon
 a\nHome Score: 9\nAway Score: 2
END:VEVENT
BEGIN:VEVENT
UID:10858303@ezleagues.ezfacility.com
DTSTAMP:20260420T073904Z
CREATED:20260420T073904Z
DTSTART:20171206T015600Z
DTEND:20171206T024800Z
LOCATION:_
CONTACT:
SUMMARY:Orange Iguanas VS. Fine Line
DESCRIPTION:League Name: Fall Indoor 2017  Men's 0pen West\nGame Type: Regu
 lar\nGame Status: Complete\nHome Team: Orange Iguanas\nAway Team: Fine Lin
 e\nHome Score: 10\nAway Score: 5
END:VEVENT
BEGIN:VEVENT
UID:10858301@ezleagues.ezfacility.com
DTSTAMP:20260420T073904Z
CREATED:20260420T073904Z
DTSTART:20171213T024800Z
DTEND:20171213T034000Z
LOCATION:Field   ID 2
CONTACT:
SUMMARY:Club Cuervos FC VS. Orange Iguanas
DESCRIPTION:League Name: Fall Indoor 2017  Men's 0pen West\nGame Type: Regu
 lar\nGame Status: Complete\nHome Team: Club Cuervos FC\nAway Team: Orange 
 Iguanas\nHome Score: 2\nAway Score: 6
END:VEVENT
BEGIN:VEVENT
UID:10858306@ezleagues.ezfacility.com
DTSTAMP:20260420T073904Z
CREATED:20260420T073904Z
DTSTART:20180103T015600Z
DTEND:20180103T024800Z
LOCATION:Field   ID 3
CONTACT:
SUMMARY:Orange Iguanas VS. Dad Bod
DESCRIPTION:League Name: Fall Indoor 2017  Men's 0pen West\nGame Type: Regu
 lar\nGame Status: Complete\nHome Team: Orange Iguanas\nAway Team: Dad Bod\
 nHome Score: 6\nAway Score: 3
END:VEVENT
BEGIN:VEVENT
UID:10853429@ezleagues.ezfacility.com
DTSTAMP:20260420T073904Z
CREATED:20260420T073904Z
DTSTART:20180112T010400Z
DTEND:20180112T015600Z
LOCATION:Field   ID 2
CONTACT:
SUMMARY:Fine Line VS. Orange Iguanas
DESCRIPTION:League Name: Fall Indoor 2017  Men's 0pen West\nGame Type: Regu
 lar\nGame Status: Complete\nHome Team: Fine Line\nAway Team: Orange Iguana
 s\nHome Score: 0\nAway Score: 3
END:VEVENT
END:VCALENDAR
