BEGIN:VCALENDAR
VERSION:2.0
PRODID:-//EZFacility.com, Inc.//EZL 2.5.5.28621
BEGIN:VEVENT
UID:10778015@ezleagues.ezfacility.com
DTSTAMP:20260424T044210Z
CREATED:20260424T044210Z
DTSTART:20171104T164000Z
DTEND:20171104T173500Z
LOCATION:PFFC Field House - Full Field 
CONTACT:
SUMMARY:Blue Devils VS. Bolton F.C.
DESCRIPTION:League Name: BU15 - Development\nGame Type: Regular\nGame Statu
 s: Complete\nHome Team: Blue Devils\nAway Team: Bolton F.C.\nHome Score: 1
 \nAway Score: 2
END:VEVENT
BEGIN:VEVENT
UID:10778052@ezleagues.ezfacility.com
DTSTAMP:20260424T044210Z
CREATED:20260424T044210Z
DTSTART:20171119T010000Z
DTEND:20171119T015500Z
LOCATION:PFFC Field House - Full Field 
CONTACT:
SUMMARY:Blue Devils VS. Etobicoke Energy Green
DESCRIPTION:League Name: BU15 - Development\nGame Type: Regular\nGame Statu
 s: Complete\nHome Team: Blue Devils\nAway Team: Etobicoke Energy Green\nHo
 me Score: 1\nAway Score: 4
END:VEVENT
BEGIN:VEVENT
UID:10778126@ezleagues.ezfacility.com
DTSTAMP:20260424T044210Z
CREATED:20260424T044210Z
DTSTART:20171217T020500Z
DTEND:20171217T030000Z
LOCATION:Oakville SC - Pine Glen
CONTACT:
SUMMARY:Blue Devils VS. NMSC Panthers Black
DESCRIPTION:League Name: BU15 - Development\nGame Type: Regular\nGame Statu
 s: Complete\nHome Team: Blue Devils\nAway Team: NMSC Panthers Black\nHome 
 Score: 0\nAway Score: 2
END:VEVENT
BEGIN:VEVENT
UID:10778163@ezleagues.ezfacility.com
DTSTAMP:20260424T044210Z
CREATED:20260424T044210Z
DTSTART:20180107T010000Z
DTEND:20180107T015500Z
LOCATION:PFFC Field House - Full Field 
CONTACT:
SUMMARY:Blue Devils VS. Dixie SC Blue
DESCRIPTION:League Name: BU15 - Development\nGame Type: Regular\nGame Statu
 s: Complete\nHome Team: Blue Devils\nAway Team: Dixie SC Blue\nHome Score:
  0\nAway Score: 0
END:VEVENT
BEGIN:VEVENT
UID:10778200@ezleagues.ezfacility.com
DTSTAMP:20260424T044210Z
CREATED:20260424T044210Z
DTSTART:20180120T183500Z
DTEND:20180120T193000Z
LOCATION:PFFC Field House - Full Field 
CONTACT:
SUMMARY:Blue Devils VS. Brampton East Hawks
DESCRIPTION:League Name: BU15 - Development\nGame Type: Regular\nGame Statu
 s: Complete\nHome Team: Blue Devils\nAway Team: Brampton East Hawks\nHome 
 Score: 0\nAway Score: 2
END:VEVENT
BEGIN:VEVENT
UID:10778237@ezleagues.ezfacility.com
DTSTAMP:20260424T044210Z
CREATED:20260424T044210Z
DTSTART:20180204T031500Z
DTEND:20180204T041000Z
LOCATION:PFFC Dome - Full Field
CONTACT:
SUMMARY:Blue Devils VS. Caledon United
DESCRIPTION:League Name: BU15 - Development\nGame Type: Regular\nGame Statu
 s: Complete\nHome Team: Blue Devils\nAway Team: Caledon United\nHome Score
 : 1\nAway Score: 2
END:VEVENT
BEGIN:VEVENT
UID:10778496@ezleagues.ezfacility.com
DTSTAMP:20260424T044210Z
CREATED:20260424T044210Z
DTSTART:20180210T195500Z
DTEND:20180210T205000Z
LOCATION:PFFC Dome - Full Field
CONTACT:
SUMMARY:Caledon United VS. Blue Devils
DESCRIPTION:League Name: BU15 - Development\nGame Type: Regular\nGame Statu
 s: Complete\nHome Team: Caledon United\nAway Team: Blue Devils\nHome Score
 : 1\nAway Score: 0
END:VEVENT
BEGIN:VEVENT
UID:10778274@ezleagues.ezfacility.com
DTSTAMP:20260424T044210Z
CREATED:20260424T044210Z
DTSTART:20180217T233500Z
DTEND:20180218T003000Z
LOCATION:PFFC Dome - Full Field
CONTACT:
SUMMARY:Bolton F.C. VS. Blue Devils
DESCRIPTION:League Name: BU15 - Development\nGame Type: Regular\nGame Statu
 s: Complete\nHome Team: Bolton F.C.\nAway Team: Blue Devils\nHome Score: 2
 \nAway Score: 1
END:VEVENT
BEGIN:VEVENT
UID:10778385@ezleagues.ezfacility.com
DTSTAMP:20260424T044210Z
CREATED:20260424T044210Z
DTSTART:20180401T000000Z
DTEND:20180401T005500Z
LOCATION:PFFC Field House - Full Field 
CONTACT:
SUMMARY:NMSC Panthers Black VS. Blue Devils
DESCRIPTION:League Name: BU15 - Development\nGame Type: Regular\nGame Statu
 s: Complete\nHome Team: NMSC Panthers Black\nAway Team: Blue Devils\nHome 
 Score: 4\nAway Score: 2
END:VEVENT
BEGIN:VEVENT
UID:10778088@ezleagues.ezfacility.com
DTSTAMP:20260424T044210Z
CREATED:20260424T044210Z
DTSTART:20180408T153000Z
DTEND:20180408T162500Z
LOCATION:Iceland #2 - Outdoor
CONTACT:
SUMMARY:Blue Devils VS. Milton Magic
DESCRIPTION:League Name: BU15 - Development\nGame Type: Regular\nGame Statu
 s: Postponed\nHome Team: Blue Devils\nAway Team: Milton Magic\n
END:VEVENT
BEGIN:VEVENT
UID:10778422@ezleagues.ezfacility.com
DTSTAMP:20260424T044210Z
CREATED:20260424T044210Z
DTSTART:20180415T000000Z
DTEND:20180415T005500Z
LOCATION:PFFC Field House - Full Field 
CONTACT:
SUMMARY:Dixie SC Blue VS. Blue Devils
DESCRIPTION:League Name: BU15 - Development\nGame Type: Regular\nGame Statu
 s: Complete\nHome Team: Dixie SC Blue\nAway Team: Blue Devils\nHome Score:
  2\nAway Score: 0
END:VEVENT
BEGIN:VEVENT
UID:10778459@ezleagues.ezfacility.com
DTSTAMP:20260424T044210Z
CREATED:20260424T044210Z
DTSTART:20180421T213000Z
DTEND:20180421T222500Z
LOCATION:Iceland #2 - Outdoor
CONTACT:
SUMMARY:Brampton East Hawks VS. Blue Devils
DESCRIPTION:League Name: BU15 - Development\nGame Type: Regular\nGame Statu
 s: Cancelled\nHome Team: Brampton East Hawks\nAway Team: Blue Devils\n
END:VEVENT
BEGIN:VEVENT
UID:11118258@ezleagues.ezfacility.com
DTSTAMP:20260424T044210Z
CREATED:20260424T044210Z
DTSTART:20180422T153000Z
DTEND:20180422T162500Z
LOCATION:Iceland #1 - Outdoor
CONTACT:
SUMMARY:Blue Devils VS. Milton Magic
DESCRIPTION:League Name: BU15 - Development\nGame Type: Regular\nGame Statu
 s: Cancelled\nHome Team: Blue Devils\nAway Team: Milton Magic\n
END:VEVENT
BEGIN:VEVENT
UID:10778311@ezleagues.ezfacility.com
DTSTAMP:20260424T044210Z
CREATED:20260424T044210Z
DTSTART:20180505T201500Z
DTEND:20180505T211000Z
LOCATION:PFFC Dome - Full Field
CONTACT:
SUMMARY:Etobicoke Energy Green VS. Blue Devils
DESCRIPTION:League Name: BU15 - Development\nGame Type: Regular\nGame Statu
 s: Complete\nHome Team: Etobicoke Energy Green\nAway Team: Blue Devils\nHo
 me Score: 2\nAway Score: 1
END:VEVENT
END:VCALENDAR
