BEGIN:VCALENDAR
VERSION:2.0
PRODID:-//EZFacility.com, Inc.//EZL 2.5.5.28621
BEGIN:VEVENT
UID:10811485@ezleagues.ezfacility.com
DTSTAMP:20260424T044122Z
CREATED:20260424T044122Z
DTSTART:20171027T020000Z
DTEND:20171027T030000Z
LOCATION:Full Field
CONTACT:
SUMMARY:Art n Jakes VS. Left Footers
DESCRIPTION:League Name: 1st Session 2018 - Mens Over 30\nGame Type: Regula
 r\nGame Status: Complete\nHome Team: Art n Jakes\nAway Team: Left Footers\
 nHome Score: 3\nAway Score: 2
END:VEVENT
BEGIN:VEVENT
UID:10811489@ezleagues.ezfacility.com
DTSTAMP:20260424T044122Z
CREATED:20260424T044122Z
DTSTART:20171102T010000Z
DTEND:20171102T020000Z
LOCATION:Full Field
CONTACT:
SUMMARY:San Vito VS. Left Footers
DESCRIPTION:League Name: 1st Session 2018 - Mens Over 30\nGame Type: Regula
 r\nGame Status: Complete\nHome Team: San Vito\nAway Team: Left Footers\nHo
 me Score: 3\nAway Score: 3
END:VEVENT
BEGIN:VEVENT
UID:10811493@ezleagues.ezfacility.com
DTSTAMP:20260424T044122Z
CREATED:20260424T044122Z
DTSTART:20171110T020000Z
DTEND:20171110T030000Z
LOCATION:Full Field
CONTACT:
SUMMARY:Brothers Grim VS. Left Footers
DESCRIPTION:League Name: 1st Session 2018 - Mens Over 30\nGame Type: Regula
 r\nGame Status: Complete\nHome Team: Brothers Grim\nAway Team: Left Footer
 s\nHome Score: 8\nAway Score: 5
END:VEVENT
BEGIN:VEVENT
UID:10811512@ezleagues.ezfacility.com
DTSTAMP:20260424T044122Z
CREATED:20260424T044122Z
DTSTART:20171130T020000Z
DTEND:20171130T030000Z
LOCATION:Full Field
CONTACT:
SUMMARY:Left Footers VS. San Vito
DESCRIPTION:League Name: 1st Session 2018 - Mens Over 30\nGame Type: Regula
 r\nGame Status: Complete\nHome Team: Left Footers\nAway Team: San Vito\nHo
 me Score: 6\nAway Score: 4
END:VEVENT
BEGIN:VEVENT
UID:10811517@ezleagues.ezfacility.com
DTSTAMP:20260424T044122Z
CREATED:20260424T044122Z
DTSTART:20171207T020000Z
DTEND:20171207T030000Z
LOCATION:Full Field
CONTACT:
SUMMARY:Left Footers VS. Boaters
DESCRIPTION:League Name: 1st Session 2018 - Mens Over 30\nGame Type: Regula
 r\nGame Status: Complete\nHome Team: Left Footers\nAway Team: Boaters\nHom
 e Score: 12\nAway Score: 9
END:VEVENT
BEGIN:VEVENT
UID:10811505@ezleagues.ezfacility.com
DTSTAMP:20260424T044122Z
CREATED:20260424T044122Z
DTSTART:20171221T030000Z
DTEND:20171221T040000Z
LOCATION:Full Field
CONTACT:
SUMMARY:Left Footers VS. Tea Bags
DESCRIPTION:League Name: 1st Session 2018 - Mens Over 30\nGame Type: Regula
 r\nGame Status: Complete\nHome Team: Left Footers\nAway Team: Tea Bags\nHo
 me Score: 5\nAway Score: 6
END:VEVENT
BEGIN:VEVENT
UID:10831956@ezleagues.ezfacility.com
DTSTAMP:20260424T044122Z
CREATED:20260424T044122Z
DTSTART:20171228T010000Z
DTEND:20171228T020000Z
LOCATION:Full Field
CONTACT:
SUMMARY:Left Footers VS. Tea Bags
DESCRIPTION:League Name: 1st Session 2018 - Mens Over 30\nGame Type: Postse
 ason\nGame Status: Complete\nHome Team: Left Footers\nAway Team: Tea Bags\
 nHome Score: 4\nAway Score: 1
END:VEVENT
BEGIN:VEVENT
UID:10811522@ezleagues.ezfacility.com
DTSTAMP:20260424T044122Z
CREATED:20260424T044122Z
DTSTART:20171229T000000Z
DTEND:20171229T010000Z
LOCATION:Full Field
CONTACT:
SUMMARY:Detroit Eagles VS. Left Footers
DESCRIPTION:League Name: 1st Session 2018 - Mens Over 30\nGame Type: Regula
 r\nGame Status: Complete\nHome Team: Detroit Eagles\nAway Team: Left Foote
 rs\nHome Score: 8\nAway Score: 5
END:VEVENT
END:VCALENDAR
