BEGIN:VCALENDAR
VERSION:2.0
PRODID:-//EZFacility.com, Inc.//EZL 2.5.5.28621
BEGIN:VEVENT
UID:10732425@ezleagues.ezfacility.com
DTSTAMP:20260425T181444Z
CREATED:20260425T181444Z
DTSTART:20171019T230000Z
DTEND:20171019T235500Z
LOCATION:PFFC Field House - A
CONTACT:
SUMMARY:  ABCDE FC VS. Techsync
DESCRIPTION:League Name: MSL Soccer - Co-Ed Maradona Division\nGame Type: R
 egular\nGame Status: Complete\nHome Team:   ABCDE FC\nAway Team: Techsync\
 nHome Score: 8\nAway Score: 2
END:VEVENT
BEGIN:VEVENT
UID:10806786@ezleagues.ezfacility.com
DTSTAMP:20260425T181444Z
CREATED:20260425T181444Z
DTSTART:20171023T220500Z
DTEND:20171023T230000Z
LOCATION:PFFC Field House - B
CONTACT:
SUMMARY:Techsync VS. AMIGOS
DESCRIPTION:League Name: MSL Soccer - Co-Ed Maradona Division\nGame Type: R
 egular\nGame Status: Complete\nHome Team: Techsync\nAway Team: AMIGOS\nHom
 e Score: 5\nAway Score: 10
END:VEVENT
BEGIN:VEVENT
UID:10732490@ezleagues.ezfacility.com
DTSTAMP:20260425T181444Z
CREATED:20260425T181444Z
DTSTART:20171030T235500Z
DTEND:20171031T005000Z
LOCATION:PFFC Field House - D
CONTACT:
SUMMARY:Techsync VS.  Dixie FC
DESCRIPTION:League Name: MSL Soccer - Co-Ed Maradona Division\nGame Type: R
 egular\nGame Status: Complete\nHome Team: Techsync\nAway Team:  Dixie FC\n
 Home Score: 4\nAway Score: 7
END:VEVENT
BEGIN:VEVENT
UID:10806788@ezleagues.ezfacility.com
DTSTAMP:20260425T181444Z
CREATED:20260425T181444Z
DTSTART:20171107T034000Z
DTEND:20171107T043500Z
LOCATION:PFFC Field House - B
CONTACT:
SUMMARY:Techsync VS.   Average at Best
DESCRIPTION:League Name: MSL Soccer - Co-Ed Maradona Division\nGame Type: R
 egular\nGame Status: Complete\nHome Team: Techsync\nAway Team:   Average a
 t Best\nHome Score: 3\nAway Score: 7
END:VEVENT
BEGIN:VEVENT
UID:10732555@ezleagues.ezfacility.com
DTSTAMP:20260425T181444Z
CREATED:20260425T181444Z
DTSTART:20171114T000000Z
DTEND:20171114T005500Z
LOCATION:PFFC Field House - B
CONTACT:
SUMMARY:  Banana Muffins VS. Techsync
DESCRIPTION:League Name: MSL Soccer - Co-Ed Maradona Division\nGame Type: R
 egular\nGame Status: Complete\nHome Team:   Banana Muffins\nAway Team: Tec
 hsync\nHome Score: 8\nAway Score: 1
END:VEVENT
BEGIN:VEVENT
UID:10806790@ezleagues.ezfacility.com
DTSTAMP:20260425T181444Z
CREATED:20260425T181444Z
DTSTART:20171121T000000Z
DTEND:20171121T005500Z
LOCATION:PFFC Field House - C
CONTACT:
SUMMARY:Techsync VS.   Good Peeps Reunited
DESCRIPTION:League Name: MSL Soccer - Co-Ed Maradona Division\nGame Type: R
 egular\nGame Status: Complete\nHome Team: Techsync\nAway Team:   Good Peep
 s Reunited\nHome Score: 2\nAway Score: 5
END:VEVENT
BEGIN:VEVENT
UID:10806791@ezleagues.ezfacility.com
DTSTAMP:20260425T181444Z
CREATED:20260425T181444Z
DTSTART:20171128T015000Z
DTEND:20171128T024500Z
LOCATION:PFFC Field House - A
CONTACT:
SUMMARY:Techsync VS.   La Squadra United
DESCRIPTION:League Name: MSL Soccer - Co-Ed Maradona Division\nGame Type: R
 egular\nGame Status: Complete\nHome Team: Techsync\nAway Team:   La Squadr
 a United\nHome Score: 3\nAway Score: 7
END:VEVENT
BEGIN:VEVENT
UID:10806792@ezleagues.ezfacility.com
DTSTAMP:20260425T181444Z
CREATED:20260425T181444Z
DTSTART:20171208T015000Z
DTEND:20171208T024500Z
LOCATION:PFFC Field House - A
CONTACT:
SUMMARY:Techsync VS. AMIGOS
DESCRIPTION:League Name: MSL Soccer - Co-Ed Maradona Division\nGame Type: R
 egular\nGame Status: Complete\nHome Team: Techsync\nAway Team: AMIGOS\nHom
 e Score: 1\nAway Score: 11
END:VEVENT
BEGIN:VEVENT
UID:10806793@ezleagues.ezfacility.com
DTSTAMP:20260425T181444Z
CREATED:20260425T181444Z
DTSTART:20171211T230500Z
DTEND:20171212T000000Z
LOCATION:PFFC Field House - A
CONTACT:
SUMMARY:Techsync VS.   Banana Muffins
DESCRIPTION:League Name: MSL Soccer - Co-Ed Maradona Division\nGame Type: R
 egular\nGame Status: Complete\nHome Team: Techsync\nAway Team:   Banana Mu
 ffins\nHome Score: 0\nAway Score: 3
END:VEVENT
BEGIN:VEVENT
UID:10732712@ezleagues.ezfacility.com
DTSTAMP:20260425T181444Z
CREATED:20260425T181444Z
DTSTART:20171222T000000Z
DTEND:20171222T005500Z
LOCATION:PFFC Field House - A
CONTACT:
SUMMARY:Techsync VS.   Arse n all
DESCRIPTION:League Name: MSL Soccer - Co-Ed Maradona Division\nGame Type: R
 egular\nGame Status: Complete\nHome Team: Techsync\nAway Team:   Arse n al
 l\nHome Score: 2\nAway Score: 10
END:VEVENT
BEGIN:VEVENT
UID:11048637@ezleagues.ezfacility.com
DTSTAMP:20260425T181444Z
CREATED:20260425T181444Z
DTSTART:20180105T030500Z
DTEND:20180105T040000Z
LOCATION:PFFC Dome - 2
CONTACT:
SUMMARY:  Banana Muffins VS. Techsync
DESCRIPTION:League Name: MSL Soccer - Co-Ed Maradona Division\nGame Type: R
 egular\nGame Status: Complete\nHome Team:   Banana Muffins\nAway Team: Tec
 hsync\nHome Score: 9\nAway Score: 5
END:VEVENT
BEGIN:VEVENT
UID:10732744@ezleagues.ezfacility.com
DTSTAMP:20260425T181444Z
CREATED:20260425T181444Z
DTSTART:20180109T020000Z
DTEND:20180109T025500Z
LOCATION:PFFC Dome - 3
CONTACT:
SUMMARY:  Balls and Dolls VS. Techsync
DESCRIPTION:League Name: MSL Soccer - Co-Ed Maradona Division\nGame Type: R
 egular\nGame Status: Complete\nHome Team:   Balls and Dolls\nAway Team: Te
 chsync\nHome Score: 8\nAway Score: 0
END:VEVENT
BEGIN:VEVENT
UID:11080375@ezleagues.ezfacility.com
DTSTAMP:20260425T181444Z
CREATED:20260425T181444Z
DTSTART:20180116T025000Z
DTEND:20180116T034500Z
LOCATION:PFFC Dome - 2
CONTACT:
SUMMARY:  Good Peeps Reunited VS. Techsync
DESCRIPTION:League Name: MSL Soccer - Co-Ed Maradona Division\nGame Type: P
 ostseason\nGame Status: Complete\nHome Team:   Good Peeps Reunited\nAway T
 eam: Techsync\nHome Score: 8\nAway Score: 2
END:VEVENT
END:VCALENDAR
