BEGIN:VCALENDAR
VERSION:2.0
PRODID:-//EZFacility.com, Inc.//EZL 2.5.5.28621
BEGIN:VEVENT
UID:10820851@ezleagues.ezfacility.com
DTSTAMP:20260424T140315Z
CREATED:20260424T140315Z
DTSTART:20171030T093000Z
DTEND:20171030T101000Z
LOCATION: 002 Maracana
CONTACT:
SUMMARY:SDS VS. Central Coast Flakers
DESCRIPTION:League Name: *SUMMER2017* Monday Mens 7s Div 2\nGame Type: Regu
 lar\nGame Status: Complete\nHome Team: SDS\nAway Team: Central Coast Flake
 rs\nHome Score: 6\nAway Score: 7
END:VEVENT
BEGIN:VEVENT
UID:10820856@ezleagues.ezfacility.com
DTSTAMP:20260424T140315Z
CREATED:20260424T140315Z
DTSTART:20171106T071500Z
DTEND:20171106T075500Z
LOCATION: 002 Maracana
CONTACT:
SUMMARY:SDS VS. More Chili
DESCRIPTION:League Name: *SUMMER2017* Monday Mens 7s Div 2\nGame Type: Regu
 lar\nGame Status: Complete\nHome Team: SDS\nAway Team: More Chili\nHome Sc
 ore: 5\nAway Score: 6
END:VEVENT
BEGIN:VEVENT
UID:10820861@ezleagues.ezfacility.com
DTSTAMP:20260424T140315Z
CREATED:20260424T140315Z
DTSTART:20171113T080000Z
DTEND:20171113T084000Z
LOCATION: 001 Wembley Stadium
CONTACT:
SUMMARY:SDS VS. Snakes
DESCRIPTION:League Name: *SUMMER2017* Monday Mens 7s Div 2\nGame Type: Regu
 lar\nGame Status: Complete\nHome Team: SDS\nAway Team: Snakes\nHome Score:
  7\nAway Score: 6
END:VEVENT
BEGIN:VEVENT
UID:10820866@ezleagues.ezfacility.com
DTSTAMP:20260424T140315Z
CREATED:20260424T140315Z
DTSTART:20171120T080000Z
DTEND:20171120T084000Z
LOCATION: 002 Maracana
CONTACT:
SUMMARY:SDS VS. The Valley's Finest
DESCRIPTION:League Name: *SUMMER2017* Monday Mens 7s Div 2\nGame Type: Regu
 lar\nGame Status: Complete\nHome Team: SDS\nAway Team: The Valley's Finest
 \nHome Score: 6\nAway Score: 7
END:VEVENT
BEGIN:VEVENT
UID:10820871@ezleagues.ezfacility.com
DTSTAMP:20260424T140315Z
CREATED:20260424T140315Z
DTSTART:20171127T101500Z
DTEND:20171127T105500Z
LOCATION: 001 Wembley Stadium
CONTACT:
SUMMARY:SDS VS. MK Dongs
DESCRIPTION:League Name: *SUMMER2017* Monday Mens 7s Div 2\nGame Type: Regu
 lar\nGame Status: Complete\nHome Team: SDS\nAway Team: MK Dongs\nHome Scor
 e: 6\nAway Score: 7
END:VEVENT
BEGIN:VEVENT
UID:10820876@ezleagues.ezfacility.com
DTSTAMP:20260424T140315Z
CREATED:20260424T140315Z
DTSTART:20171204T071500Z
DTEND:20171204T075500Z
LOCATION: 002 Maracana
CONTACT:
SUMMARY:SDS VS. The Bellsquats
DESCRIPTION:League Name: *SUMMER2017* Monday Mens 7s Div 2\nGame Type: Regu
 lar\nGame Status: Complete\nHome Team: SDS\nAway Team: The Bellsquats\nHom
 e Score: 3\nAway Score: 6
END:VEVENT
BEGIN:VEVENT
UID:10820881@ezleagues.ezfacility.com
DTSTAMP:20260424T140315Z
CREATED:20260424T140315Z
DTSTART:20171211T093000Z
DTEND:20171211T101000Z
LOCATION: 002 Maracana
CONTACT:
SUMMARY:SDS VS. Argo FC
DESCRIPTION:League Name: *SUMMER2017* Monday Mens 7s Div 2\nGame Type: Regu
 lar\nGame Status: Complete\nHome Team: SDS\nAway Team: Argo FC\nHome Score
 : 7\nAway Score: 4
END:VEVENT
BEGIN:VEVENT
UID:10820886@ezleagues.ezfacility.com
DTSTAMP:20260424T140315Z
CREATED:20260424T140315Z
DTSTART:20171218T093000Z
DTEND:20171218T101000Z
LOCATION: 002 Maracana
CONTACT:
SUMMARY:SDS VS. Chubby Alonsos
DESCRIPTION:League Name: *SUMMER2017* Monday Mens 7s Div 2\nGame Type: Regu
 lar\nGame Status: Complete\nHome Team: SDS\nAway Team: Chubby Alonsos\nHom
 e Score: 1\nAway Score: 6
END:VEVENT
BEGIN:VEVENT
UID:10820901@ezleagues.ezfacility.com
DTSTAMP:20260424T140315Z
CREATED:20260424T140315Z
DTSTART:20180108T071500Z
DTEND:20180108T075500Z
LOCATION: 002 Maracana
CONTACT:
SUMMARY:More Chili VS. SDS
DESCRIPTION:League Name: *SUMMER2017* Monday Mens 7s Div 2\nGame Type: Regu
 lar\nGame Status: Complete\nHome Team: More Chili\nAway Team: SDS\nHome Sc
 ore: 4\nAway Score: 4
END:VEVENT
BEGIN:VEVENT
UID:10820906@ezleagues.ezfacility.com
DTSTAMP:20260424T140315Z
CREATED:20260424T140315Z
DTSTART:20180115T101500Z
DTEND:20180115T105500Z
LOCATION: 002 Maracana
CONTACT:
SUMMARY:Snakes VS. SDS
DESCRIPTION:League Name: *SUMMER2017* Monday Mens 7s Div 2\nGame Type: Regu
 lar\nGame Status: Complete\nHome Team: Snakes\nAway Team: SDS\nHome Score:
  8\nAway Score: 2
END:VEVENT
BEGIN:VEVENT
UID:10820911@ezleagues.ezfacility.com
DTSTAMP:20260424T140315Z
CREATED:20260424T140315Z
DTSTART:20180122T080000Z
DTEND:20180122T084000Z
LOCATION: 002 Maracana
CONTACT:
SUMMARY:The Valley's Finest VS. SDS
DESCRIPTION:League Name: *SUMMER2017* Monday Mens 7s Div 2\nGame Type: Regu
 lar\nGame Status: Complete\nHome Team: The Valley's Finest\nAway Team: SDS
 \nHome Score: 4\nAway Score: 7
END:VEVENT
BEGIN:VEVENT
UID:10820916@ezleagues.ezfacility.com
DTSTAMP:20260424T140315Z
CREATED:20260424T140315Z
DTSTART:20180129T101500Z
DTEND:20180129T105500Z
LOCATION: 002 Maracana
CONTACT:
SUMMARY:MK Dongs VS. SDS
DESCRIPTION:League Name: *SUMMER2017* Monday Mens 7s Div 2\nGame Type: Regu
 lar\nGame Status: Complete\nHome Team: MK Dongs\nAway Team: SDS\nHome Scor
 e: 4\nAway Score: 3
END:VEVENT
BEGIN:VEVENT
UID:10820921@ezleagues.ezfacility.com
DTSTAMP:20260424T140315Z
CREATED:20260424T140315Z
DTSTART:20180205T071500Z
DTEND:20180205T075500Z
LOCATION: 002 Maracana
CONTACT:
SUMMARY:The Bellsquats VS. SDS
DESCRIPTION:League Name: *SUMMER2017* Monday Mens 7s Div 2\nGame Type: Regu
 lar\nGame Status: Complete\nHome Team: The Bellsquats\nAway Team: SDS\nHom
 e Score: 5\nAway Score: 9
END:VEVENT
BEGIN:VEVENT
UID:10820926@ezleagues.ezfacility.com
DTSTAMP:20260424T140315Z
CREATED:20260424T140315Z
DTSTART:20180212T084500Z
DTEND:20180212T092500Z
LOCATION: 002 Maracana
CONTACT:
SUMMARY:Argo FC VS. SDS
DESCRIPTION:League Name: *SUMMER2017* Monday Mens 7s Div 2\nGame Type: Regu
 lar\nGame Status: Complete\nHome Team: Argo FC\nAway Team: SDS\nHome Score
 : 9\nAway Score: 8
END:VEVENT
BEGIN:VEVENT
UID:10820931@ezleagues.ezfacility.com
DTSTAMP:20260424T140315Z
CREATED:20260424T140315Z
DTSTART:20180219T084500Z
DTEND:20180219T092500Z
LOCATION: 002 Maracana
CONTACT:
SUMMARY:Chubby Alonsos VS. SDS
DESCRIPTION:League Name: *SUMMER2017* Monday Mens 7s Div 2\nGame Type: Regu
 lar\nGame Status: Complete\nHome Team: Chubby Alonsos\nAway Team: SDS\nHom
 e Score: 10\nAway Score: 5
END:VEVENT
BEGIN:VEVENT
UID:10820936@ezleagues.ezfacility.com
DTSTAMP:20260424T140315Z
CREATED:20260424T140315Z
DTSTART:20180226T080000Z
DTEND:20180226T084000Z
LOCATION: 002 Maracana
CONTACT:
SUMMARY:Arfgo FC VS. SDS
DESCRIPTION:League Name: *SUMMER2017* Monday Mens 7s Div 2\nGame Type: Regu
 lar\nGame Status: Complete\nHome Team: Arfgo FC\nAway Team: SDS\nHome Scor
 e: 7\nAway Score: 10
END:VEVENT
BEGIN:VEVENT
UID:10820891@ezleagues.ezfacility.com
DTSTAMP:20260424T140315Z
CREATED:20260424T140315Z
DTSTART:20180305T093000Z
DTEND:20180305T101000Z
LOCATION: 002 Maracana
CONTACT:
SUMMARY:SDS VS. Arfgo FC
DESCRIPTION:League Name: *SUMMER2017* Monday Mens 7s Div 2\nGame Type: Regu
 lar\nGame Status: Complete\nHome Team: SDS\nAway Team: Arfgo FC\nHome Scor
 e: 8\nAway Score: 8
END:VEVENT
BEGIN:VEVENT
UID:10820896@ezleagues.ezfacility.com
DTSTAMP:20260424T140315Z
CREATED:20260424T140315Z
DTSTART:20180312T080000Z
DTEND:20180312T084000Z
LOCATION: 002 Maracana
CONTACT:
SUMMARY:Central Coast Flakers VS. SDS
DESCRIPTION:League Name: *SUMMER2017* Monday Mens 7s Div 2\nGame Type: Regu
 lar\nGame Status: Complete\nHome Team: Central Coast Flakers\nAway Team: S
 DS\nHome Score: 7\nAway Score: 7
END:VEVENT
BEGIN:VEVENT
UID:10820945@ezleagues.ezfacility.com
DTSTAMP:20260424T140315Z
CREATED:20260424T140315Z
DTSTART:20180319T071500Z
DTEND:20180319T075500Z
LOCATION: 002 Maracana
CONTACT:
SUMMARY:Argo FC VS. SDS
DESCRIPTION:League Name: *SUMMER2017* Monday Mens 7s Div 2\nGame Type: Post
 season\nGame Status: Complete\nHome Team: Argo FC\nAway Team: SDS\nHome Sc
 ore: 6\nAway Score: 5
END:VEVENT
END:VCALENDAR
