BEGIN:VCALENDAR
VERSION:2.0
PRODID:-//EZFacility.com, Inc.//EZL 2.5.5.28621
BEGIN:VEVENT
UID:10869742@ezleagues.ezfacility.com
DTSTAMP:20260425T103028Z
CREATED:20260425T103028Z
DTSTART:20171116T003000Z
DTEND:20171116T013000Z
LOCATION:ESL The Albin CPA Firm\, LLC Ct
CONTACT:
SUMMARY:Outlaws (Jones) VS. ABA Supreme (Kratzer)
DESCRIPTION:League Name: Indep Winter I Session - 7th Grade Girls\nGame Typ
 e: Regular\nGame Status: Complete\nHome Team: Outlaws (Jones)\nAway Team: 
 ABA Supreme (Kratzer)\nHome Score: 4\nAway Score: 50
END:VEVENT
BEGIN:VEVENT
UID:10911750@ezleagues.ezfacility.com
DTSTAMP:20260425T103028Z
CREATED:20260425T103028Z
DTSTART:20171130T003000Z
DTEND:20171130T013000Z
LOCATION:ESL The Albin CPA Firm\, LLC Ct
CONTACT:
SUMMARY:Blazers (Slaughter) VS. Outlaws (Jones)
DESCRIPTION:League Name: Indep Winter I Session - 7th Grade Girls\nGame Typ
 e: Regular\nGame Status: Complete\nHome Team: Blazers (Slaughter)\nAway Te
 am: Outlaws (Jones)\nHome Score: 79\nAway Score: 2
END:VEVENT
BEGIN:VEVENT
UID:10911757@ezleagues.ezfacility.com
DTSTAMP:20260425T103028Z
CREATED:20260425T103028Z
DTSTART:20171207T013000Z
DTEND:20171207T023000Z
LOCATION:ESL The Albin CPA Firm\, LLC Ct
CONTACT:
SUMMARY:Outlaws (Jones) VS. KCHD 7th (Casandra)
DESCRIPTION:League Name: Indep Winter I Session - 7th Grade Girls\nGame Typ
 e: Regular\nGame Status: Complete\nHome Team: Outlaws (Jones)\nAway Team: 
 KCHD 7th (Casandra)\nHome Score: 10\nAway Score: 51
END:VEVENT
BEGIN:VEVENT
UID:10911766@ezleagues.ezfacility.com
DTSTAMP:20260425T103028Z
CREATED:20260425T103028Z
DTSTART:20171216T003000Z
DTEND:20171216T013000Z
LOCATION:SAC Main Court
CONTACT:
SUMMARY:Quirarte (Quirarte) VS. Outlaws (Jones)
DESCRIPTION:League Name: Indep Winter I Session - 7th Grade Girls\nGame Typ
 e: Regular\nGame Status: Complete\nHome Team: Quirarte (Quirarte)\nAway Te
 am: Outlaws (Jones)\nHome Score: 51\nAway Score: 2
END:VEVENT
BEGIN:VEVENT
UID:10911775@ezleagues.ezfacility.com
DTSTAMP:20260425T103028Z
CREATED:20260425T103028Z
DTSTART:20171223T023000Z
DTEND:20171223T033000Z
LOCATION:SAC Main Court
CONTACT:
SUMMARY:Wolfpack (Roe) VS. Outlaws (Jones)
DESCRIPTION:League Name: Indep Winter I Session - 7th Grade Girls\nGame Typ
 e: Regular\nGame Status: Complete\nHome Team: Wolfpack (Roe)\nAway Team: O
 utlaws (Jones)\nHome Score: 31\nAway Score: 7
END:VEVENT
BEGIN:VEVENT
UID:10911779@ezleagues.ezfacility.com
DTSTAMP:20260425T103028Z
CREATED:20260425T103028Z
DTSTART:20171229T233000Z
DTEND:20171230T003000Z
LOCATION:SAC Main Court
CONTACT:
SUMMARY:ABA Supreme (Kratzer) VS. Outlaws (Jones)
DESCRIPTION:League Name: Indep Winter I Session - 7th Grade Girls\nGame Typ
 e: Regular\nGame Status: Complete\nHome Team: ABA Supreme (Kratzer)\nAway 
 Team: Outlaws (Jones)\nHome Score: 48\nAway Score: 0
END:VEVENT
BEGIN:VEVENT
UID:10911782@ezleagues.ezfacility.com
DTSTAMP:20260425T103028Z
CREATED:20260425T103028Z
DTSTART:20180106T003000Z
DTEND:20180106T013000Z
LOCATION:ESL Stephanie Mullins DDS Ct
CONTACT:
SUMMARY:KCHD 7th (Casandra) VS. Outlaws (Jones)
DESCRIPTION:League Name: Indep Winter I Session - 7th Grade Girls\nGame Typ
 e: Regular\nGame Status: Complete\nHome Team: KCHD 7th (Casandra)\nAway Te
 am: Outlaws (Jones)\nHome Score: 48\nAway Score: 0
END:VEVENT
BEGIN:VEVENT
UID:10911794@ezleagues.ezfacility.com
DTSTAMP:20260425T103028Z
CREATED:20260425T103028Z
DTSTART:20180113T013000Z
DTEND:20180113T023000Z
LOCATION:ESL Stephanie Mullins DDS Ct
CONTACT:
SUMMARY:Outlaws (Jones) VS. Wolfpack (Roe)
DESCRIPTION:League Name: Indep Winter I Session - 7th Grade Girls\nGame Typ
 e: Regular\nGame Status: Complete\nHome Team: Outlaws (Jones)\nAway Team: 
 Wolfpack (Roe)\nHome Score: 12\nAway Score: 26
END:VEVENT
END:VCALENDAR
