BEGIN:VCALENDAR
VERSION:2.0
PRODID:-//EZFacility.com, Inc.//EZL 2.5.5.28621
BEGIN:VEVENT
UID:10828266@ezleagues.ezfacility.com
DTSTAMP:20260424T044208Z
CREATED:20260424T044208Z
DTSTART:20171102T212500Z
DTEND:20171102T221700Z
LOCATION:Field   ID 1
CONTACT:
SUMMARY:Melange SC VS. Mighty Minions
DESCRIPTION:League Name: Fall Indoor 2017 U12 Girls\nGame Type: Regular\nGa
 me Status: Complete\nHome Team: Melange SC\nAway Team: Mighty Minions\nHom
 e Score: 3\nAway Score: 4
END:VEVENT
BEGIN:VEVENT
UID:10836121@ezleagues.ezfacility.com
DTSTAMP:20260424T044208Z
CREATED:20260424T044208Z
DTSTART:20171109T222500Z
DTEND:20171109T231700Z
LOCATION:Field   ID 2
CONTACT:
SUMMARY:Violet Vipers VS. Melange SC
DESCRIPTION:League Name: Fall Indoor 2017 U12 Girls\nGame Type: Regular\nGa
 me Status: Complete\nHome Team: Violet Vipers\nAway Team: Melange SC\nHome
  Score: 0\nAway Score: 21
END:VEVENT
BEGIN:VEVENT
UID:10836138@ezleagues.ezfacility.com
DTSTAMP:20260424T044208Z
CREATED:20260424T044208Z
DTSTART:20171116T232000Z
DTEND:20171117T001200Z
LOCATION:Field   ID 2
CONTACT:
SUMMARY:Bad News Bears VS. Melange SC
DESCRIPTION:League Name: Fall Indoor 2017 U12 Girls\nGame Type: Regular\nGa
 me Status: Complete\nHome Team: Bad News Bears\nAway Team: Melange SC\nHom
 e Score: 4\nAway Score: 3
END:VEVENT
BEGIN:VEVENT
UID:10836137@ezleagues.ezfacility.com
DTSTAMP:20260424T044208Z
CREATED:20260424T044208Z
DTSTART:20171130T232000Z
DTEND:20171201T001200Z
LOCATION:Field   ID 2
CONTACT:
SUMMARY:Mighty Minions VS. Melange SC
DESCRIPTION:League Name: Fall Indoor 2017 U12 Girls\nGame Type: Regular\nGa
 me Status: Complete\nHome Team: Mighty Minions\nAway Team: Melange SC\nHom
 e Score: 2\nAway Score: 5
END:VEVENT
BEGIN:VEVENT
UID:10836135@ezleagues.ezfacility.com
DTSTAMP:20260424T044208Z
CREATED:20260424T044208Z
DTSTART:20171207T232000Z
DTEND:20171208T001200Z
LOCATION:Field   ID 2
CONTACT:
SUMMARY:Melange SC VS. Violet Vipers
DESCRIPTION:League Name: Fall Indoor 2017 U12 Girls\nGame Type: Regular\nGa
 me Status: Complete\nHome Team: Melange SC\nAway Team: Violet Vipers\nHome
  Score: 11\nAway Score: 0
END:VEVENT
BEGIN:VEVENT
UID:10836134@ezleagues.ezfacility.com
DTSTAMP:20260424T044208Z
CREATED:20260424T044208Z
DTSTART:20171214T232000Z
DTEND:20171215T001200Z
LOCATION:Field   ID 2
CONTACT:
SUMMARY:Melange SC VS. Bad News Bears
DESCRIPTION:League Name: Fall Indoor 2017 U12 Girls\nGame Type: Regular\nGa
 me Status: Complete\nHome Team: Melange SC\nAway Team: Bad News Bears\nHom
 e Score: 7\nAway Score: 2
END:VEVENT
BEGIN:VEVENT
UID:10836126@ezleagues.ezfacility.com
DTSTAMP:20260424T044208Z
CREATED:20260424T044208Z
DTSTART:20171221T222500Z
DTEND:20171221T231700Z
LOCATION:Field   ID 2
CONTACT:
SUMMARY:Mighty Minions VS. Melange SC
DESCRIPTION:League Name: Fall Indoor 2017 U12 Girls\nGame Type: Regular\nGa
 me Status: Complete\nHome Team: Mighty Minions\nAway Team: Melange SC\nHom
 e Score: 1\nAway Score: 6
END:VEVENT
BEGIN:VEVENT
UID:10836140@ezleagues.ezfacility.com
DTSTAMP:20260424T044208Z
CREATED:20260424T044208Z
DTSTART:20171229T001200Z
DTEND:20171229T010400Z
LOCATION:Field   ID 2
CONTACT:
SUMMARY:Melange SC VS. Violet Vipers
DESCRIPTION:League Name: Fall Indoor 2017 U12 Girls\nGame Type: Regular\nGa
 me Status: Complete\nHome Team: Melange SC\nAway Team: Violet Vipers\nHome
  Score: 18\nAway Score: 0
END:VEVENT
BEGIN:VEVENT
UID:10836128@ezleagues.ezfacility.com
DTSTAMP:20260424T044208Z
CREATED:20260424T044208Z
DTSTART:20180104T222500Z
DTEND:20180104T231700Z
LOCATION:Field   ID 2
CONTACT:
SUMMARY:Bad News Bears VS. Melange SC
DESCRIPTION:League Name: Fall Indoor 2017 U12 Girls\nGame Type: Regular\nGa
 me Status: Complete\nHome Team: Bad News Bears\nAway Team: Melange SC\nHom
 e Score: 2\nAway Score: 9
END:VEVENT
END:VCALENDAR
