BEGIN:VCALENDAR
VERSION:2.0
PRODID:-//EZFacility.com, Inc.//EZL 2.5.5.28621
BEGIN:VEVENT
UID:10830178@ezleagues.ezfacility.com
DTSTAMP:20260426T034041Z
CREATED:20260426T034041Z
DTSTART:20171030T080000Z
DTEND:20171030T084000Z
LOCATION:007 Celtic Park
CONTACT:
SUMMARY:Smart Fellas and Fart Smellers VS. Triple Threat
DESCRIPTION:League Name: *SUMMER2017* Monday Mixed 5s Div 1\nGame Type: Reg
 ular\nGame Status: Complete\nHome Team: Smart Fellas and Fart Smellers\nAw
 ay Team: Triple Threat\nHome Score: 9\nAway Score: 14
END:VEVENT
BEGIN:VEVENT
UID:10830182@ezleagues.ezfacility.com
DTSTAMP:20260426T034041Z
CREATED:20260426T034041Z
DTSTART:20171106T084500Z
DTEND:20171106T092500Z
LOCATION:007 Celtic Park
CONTACT:
SUMMARY:Pathetic Athletic VS. Smart Fellas and Fart Smellers
DESCRIPTION:League Name: *SUMMER2017* Monday Mixed 5s Div 1\nGame Type: Reg
 ular\nGame Status: Complete\nHome Team: Pathetic Athletic\nAway Team: Smar
 t Fellas and Fart Smellers\nHome Score: 7\nAway Score: 11
END:VEVENT
BEGIN:VEVENT
UID:10830188@ezleagues.ezfacility.com
DTSTAMP:20260426T034041Z
CREATED:20260426T034041Z
DTSTART:20171113T080000Z
DTEND:20171113T084000Z
LOCATION:010 Deepdale
CONTACT:
SUMMARY:JCCFC VS. Smart Fellas and Fart Smellers
DESCRIPTION:League Name: *SUMMER2017* Monday Mixed 5s Div 1\nGame Type: Reg
 ular\nGame Status: Complete\nHome Team: JCCFC\nAway Team: Smart Fellas and
  Fart Smellers\nHome Score: 9\nAway Score: 6
END:VEVENT
BEGIN:VEVENT
UID:10830194@ezleagues.ezfacility.com
DTSTAMP:20260426T034041Z
CREATED:20260426T034041Z
DTSTART:20171120T080000Z
DTEND:20171120T084000Z
LOCATION:007 Celtic Park
CONTACT:
SUMMARY:Sassy Feet VS. Smart Fellas and Fart Smellers
DESCRIPTION:League Name: *SUMMER2017* Monday Mixed 5s Div 1\nGame Type: Reg
 ular\nGame Status: Complete\nHome Team: Sassy Feet\nAway Team: Smart Fella
 s and Fart Smellers\nHome Score: 2\nAway Score: 15
END:VEVENT
BEGIN:VEVENT
UID:10830200@ezleagues.ezfacility.com
DTSTAMP:20260426T034041Z
CREATED:20260426T034041Z
DTSTART:20171127T080000Z
DTEND:20171127T084000Z
LOCATION:007 Celtic Park
CONTACT:
SUMMARY:Shady FC VS. Smart Fellas and Fart Smellers
DESCRIPTION:League Name: *SUMMER2017* Monday Mixed 5s Div 1\nGame Type: Reg
 ular\nGame Status: Complete\nHome Team: Shady FC\nAway Team: Smart Fellas 
 and Fart Smellers\nHome Score: 12\nAway Score: 4
END:VEVENT
BEGIN:VEVENT
UID:10830206@ezleagues.ezfacility.com
DTSTAMP:20260426T034041Z
CREATED:20260426T034041Z
DTSTART:20171204T101500Z
DTEND:20171204T105500Z
LOCATION:007 Celtic Park
CONTACT:
SUMMARY:Pink Ladies VS. Smart Fellas and Fart Smellers
DESCRIPTION:League Name: *SUMMER2017* Monday Mixed 5s Div 1\nGame Type: Reg
 ular\nGame Status: Complete\nHome Team: Pink Ladies\nAway Team: Smart Fell
 as and Fart Smellers\nHome Score: 7\nAway Score: 2
END:VEVENT
BEGIN:VEVENT
UID:10830211@ezleagues.ezfacility.com
DTSTAMP:20260426T034041Z
CREATED:20260426T034041Z
DTSTART:20171211T071500Z
DTEND:20171211T075500Z
LOCATION:007 Celtic Park
CONTACT:
SUMMARY:Smart Fellas and Fart Smellers VS. Left Right Out
DESCRIPTION:League Name: *SUMMER2017* Monday Mixed 5s Div 1\nGame Type: Reg
 ular\nGame Status: Complete\nHome Team: Smart Fellas and Fart Smellers\nAw
 ay Team: Left Right Out\nHome Score: 8\nAway Score: 4
END:VEVENT
BEGIN:VEVENT
UID:10830215@ezleagues.ezfacility.com
DTSTAMP:20260426T034041Z
CREATED:20260426T034041Z
DTSTART:20171218T093000Z
DTEND:20171218T101000Z
LOCATION:007 Celtic Park
CONTACT:
SUMMARY:Smart Fellas and Fart Smellers VS. Super Subs
DESCRIPTION:League Name: *SUMMER2017* Monday Mixed 5s Div 1\nGame Type: Reg
 ular\nGame Status: Complete\nHome Team: Smart Fellas and Fart Smellers\nAw
 ay Team: Super Subs\nHome Score: 13\nAway Score: 7
END:VEVENT
BEGIN:VEVENT
UID:10830227@ezleagues.ezfacility.com
DTSTAMP:20260426T034041Z
CREATED:20260426T034041Z
DTSTART:20180108T071500Z
DTEND:20180108T075500Z
LOCATION:005 Nou Camp
CONTACT:
SUMMARY:Smart Fellas and Fart Smellers VS. Pathetic Athletic
DESCRIPTION:League Name: *SUMMER2017* Monday Mixed 5s Div 1\nGame Type: Reg
 ular\nGame Status: Complete\nHome Team: Smart Fellas and Fart Smellers\nAw
 ay Team: Pathetic Athletic\nHome Score: 8\nAway Score: 7
END:VEVENT
BEGIN:VEVENT
UID:10830233@ezleagues.ezfacility.com
DTSTAMP:20260426T034041Z
CREATED:20260426T034041Z
DTSTART:20180115T080000Z
DTEND:20180115T084000Z
LOCATION:007 Celtic Park
CONTACT:
SUMMARY:Smart Fellas and Fart Smellers VS. JCCFC
DESCRIPTION:League Name: *SUMMER2017* Monday Mixed 5s Div 1\nGame Type: Reg
 ular\nGame Status: Complete\nHome Team: Smart Fellas and Fart Smellers\nAw
 ay Team: JCCFC\nHome Score: 13\nAway Score: 6
END:VEVENT
BEGIN:VEVENT
UID:10830239@ezleagues.ezfacility.com
DTSTAMP:20260426T034041Z
CREATED:20260426T034041Z
DTSTART:20180122T080000Z
DTEND:20180122T084000Z
LOCATION:007 Celtic Park
CONTACT:
SUMMARY:Smart Fellas and Fart Smellers VS. Left Right Out
DESCRIPTION:League Name: *SUMMER2017* Monday Mixed 5s Div 1\nGame Type: Reg
 ular\nGame Status: Complete\nHome Team: Smart Fellas and Fart Smellers\nAw
 ay Team: Left Right Out\nHome Score: 15\nAway Score: 9
END:VEVENT
BEGIN:VEVENT
UID:10830245@ezleagues.ezfacility.com
DTSTAMP:20260426T034041Z
CREATED:20260426T034041Z
DTSTART:20180129T080000Z
DTEND:20180129T084000Z
LOCATION:007 Celtic Park
CONTACT:
SUMMARY:Smart Fellas and Fart Smellers VS. Tradies and Ladies
DESCRIPTION:League Name: *SUMMER2017* Monday Mixed 5s Div 1\nGame Type: Reg
 ular\nGame Status: Complete\nHome Team: Smart Fellas and Fart Smellers\nAw
 ay Team: Tradies and Ladies\nHome Score: 11\nAway Score: 4
END:VEVENT
BEGIN:VEVENT
UID:10830251@ezleagues.ezfacility.com
DTSTAMP:20260426T034041Z
CREATED:20260426T034041Z
DTSTART:20180205T093000Z
DTEND:20180205T101000Z
LOCATION:007 Celtic Park
CONTACT:
SUMMARY:Smart Fellas and Fart Smellers VS. Pink Ladies
DESCRIPTION:League Name: *SUMMER2017* Monday Mixed 5s Div 1\nGame Type: Reg
 ular\nGame Status: Complete\nHome Team: Smart Fellas and Fart Smellers\nAw
 ay Team: Pink Ladies\nHome Score: 1\nAway Score: 7
END:VEVENT
BEGIN:VEVENT
UID:10830256@ezleagues.ezfacility.com
DTSTAMP:20260426T034041Z
CREATED:20260426T034041Z
DTSTART:20180212T084500Z
DTEND:20180212T092500Z
LOCATION:007 Celtic Park
CONTACT:
SUMMARY:Shady FC VS. Smart Fellas and Fart Smellers
DESCRIPTION:League Name: *SUMMER2017* Monday Mixed 5s Div 1\nGame Type: Reg
 ular\nGame Status: Complete\nHome Team: Shady FC\nAway Team: Smart Fellas 
 and Fart Smellers\nHome Score: 8\nAway Score: 9
END:VEVENT
BEGIN:VEVENT
UID:10830257@ezleagues.ezfacility.com
DTSTAMP:20260426T034041Z
CREATED:20260426T034041Z
DTSTART:20180219T093000Z
DTEND:20180219T101000Z
LOCATION:010 Deepdale
CONTACT:
SUMMARY:Smart Fellas and Fart Smellers VS. Pathetic Athletic
DESCRIPTION:League Name: *SUMMER2017* Monday Mixed 5s Div 1\nGame Type: Reg
 ular\nGame Status: Complete\nHome Team: Smart Fellas and Fart Smellers\nAw
 ay Team: Pathetic Athletic\nHome Score: 7\nAway Score: 7
END:VEVENT
BEGIN:VEVENT
UID:10830224@ezleagues.ezfacility.com
DTSTAMP:20260426T034041Z
CREATED:20260426T034041Z
DTSTART:20180312T080000Z
DTEND:20180312T084000Z
LOCATION:007 Celtic Park
CONTACT:
SUMMARY:Smart Fellas and Fart Smellers VS. Left Right Out
DESCRIPTION:League Name: *SUMMER2017* Monday Mixed 5s Div 1\nGame Type: Reg
 ular\nGame Status: Complete\nHome Team: Smart Fellas and Fart Smellers\nAw
 ay Team: Left Right Out\nHome Score: 9\nAway Score: 15
END:VEVENT
BEGIN:VEVENT
UID:10830273@ezleagues.ezfacility.com
DTSTAMP:20260426T034041Z
CREATED:20260426T034041Z
DTSTART:20180319T101500Z
DTEND:20180319T105500Z
LOCATION:007 Celtic Park
CONTACT:
SUMMARY:Shady FC VS. Smart Fellas and Fart Smellers
DESCRIPTION:League Name: *SUMMER2017* Monday Mixed 5s Div 1\nGame Type: Pos
 tseason\nGame Status: Complete\nHome Team: Shady FC\nAway Team: Smart Fell
 as and Fart Smellers\nHome Score: 6\nAway Score: 3
END:VEVENT
END:VCALENDAR
