BEGIN:VCALENDAR
VERSION:2.0
PRODID:-//EZFacility.com, Inc.//EZL 2.5.5.28621
BEGIN:VEVENT
UID:10834547@ezleagues.ezfacility.com
DTSTAMP:20260426T033601Z
CREATED:20260426T033601Z
DTSTART:20171029T170000Z
DTEND:20171029T180000Z
LOCATION:Field 1- South
CONTACT:
SUMMARY:Ántrax VS. América
DESCRIPTION:League Name: Futbolito\nGame Type: Regular\nGame Status: Comple
 te\nHome Team: Ántrax\nAway Team: América\nHome Score: 4\nAway Score: 4
END:VEVENT
BEGIN:VEVENT
UID:10834552@ezleagues.ezfacility.com
DTSTAMP:20260426T033601Z
CREATED:20260426T033601Z
DTSTART:20171105T170000Z
DTEND:20171105T180000Z
LOCATION:Field 1- South
CONTACT:
SUMMARY:Unión VS. América
DESCRIPTION:League Name: Futbolito\nGame Type: Regular\nGame Status: Comple
 te\nHome Team: Unión\nAway Team: América\nHome Score: 3\nAway Score: 1
END:VEVENT
BEGIN:VEVENT
UID:10834557@ezleagues.ezfacility.com
DTSTAMP:20260426T033601Z
CREATED:20260426T033601Z
DTSTART:20171112T180000Z
DTEND:20171112T190000Z
LOCATION:Field 2 - South
CONTACT:
SUMMARY:Toros del Rincón VS. América
DESCRIPTION:League Name: Futbolito\nGame Type: Regular\nGame Status: Comple
 te\nHome Team: Toros del Rincón\nAway Team: América\nHome Score: 5\nAway
  Score: 5
END:VEVENT
BEGIN:VEVENT
UID:10834561@ezleagues.ezfacility.com
DTSTAMP:20260426T033601Z
CREATED:20260426T033601Z
DTSTART:20171119T160000Z
DTEND:20171119T170000Z
LOCATION:Field 2 - South
CONTACT:
SUMMARY:América VS. FC Madrid
DESCRIPTION:League Name: Futbolito\nGame Type: Regular\nGame Status: Comple
 te\nHome Team: América\nAway Team: FC Madrid\nHome Score: 4\nAway Score: 
 5
END:VEVENT
BEGIN:VEVENT
UID:10834564@ezleagues.ezfacility.com
DTSTAMP:20260426T033601Z
CREATED:20260426T033601Z
DTSTART:20171126T170000Z
DTEND:20171126T180000Z
LOCATION:Field 2 - South
CONTACT:Carver\, Burbage
SUMMARY:América VS. Juventus 
DESCRIPTION:League Name: Futbolito\nGame Type: Regular\nGame Status: Comple
 te\nHome Team: América\nAway Team: Juventus \nHome Score: 5\nAway Score: 
 6
END:VEVENT
BEGIN:VEVENT
UID:10834567@ezleagues.ezfacility.com
DTSTAMP:20260426T033601Z
CREATED:20260426T033601Z
DTSTART:20171203T160000Z
DTEND:20171203T170000Z
LOCATION:Field 2 - South
CONTACT:Artista\, Carver
SUMMARY:América VS. Deportivo
DESCRIPTION:League Name: Futbolito\nGame Type: Regular\nGame Status: Comple
 te\nHome Team: América\nAway Team: Deportivo\nHome Score: 2\nAway Score: 
 5
END:VEVENT
BEGIN:VEVENT
UID:10834570@ezleagues.ezfacility.com
DTSTAMP:20260426T033601Z
CREATED:20260426T033601Z
DTSTART:20171210T160000Z
DTEND:20171210T170000Z
LOCATION:Field 2 - South
CONTACT:Burbage\, Carver
SUMMARY:Águilas FC VS. América
DESCRIPTION:League Name: Futbolito\nGame Type: Regular\nGame Status: Comple
 te\nHome Team: Águilas FC\nAway Team: América\nHome Score: 1\nAway Score
 : 3
END:VEVENT
BEGIN:VEVENT
UID:10834575@ezleagues.ezfacility.com
DTSTAMP:20260426T033601Z
CREATED:20260426T033601Z
DTSTART:20171217T160000Z
DTEND:20171217T170000Z
LOCATION:Field 1- South
CONTACT:Wisner\, Wooten
SUMMARY:América VS. Ántrax
DESCRIPTION:League Name: Futbolito\nGame Type: Regular\nGame Status: Comple
 te\nHome Team: América\nAway Team: Ántrax\nHome Score: 5\nAway Score: 7
END:VEVENT
BEGIN:VEVENT
UID:10834589@ezleagues.ezfacility.com
DTSTAMP:20260426T033601Z
CREATED:20260426T033601Z
DTSTART:20180107T150000Z
DTEND:20180107T160000Z
LOCATION:Field 2 - South
CONTACT:Carver\, Miller
SUMMARY:FC Madrid VS. América
DESCRIPTION:League Name: Futbolito\nGame Type: Regular\nGame Status: Comple
 te\nHome Team: FC Madrid\nAway Team: América\nHome Score: 6\nAway Score: 
 3
END:VEVENT
BEGIN:VEVENT
UID:10834592@ezleagues.ezfacility.com
DTSTAMP:20260426T033601Z
CREATED:20260426T033601Z
DTSTART:20180114T150000Z
DTEND:20180114T160000Z
LOCATION:Field 2 - South
CONTACT:Carver\, Ortiz
SUMMARY:Juventus  VS. América
DESCRIPTION:League Name: Futbolito\nGame Type: Regular\nGame Status: Comple
 te\nHome Team: Juventus \nAway Team: América\nHome Score: 5\nAway Score: 
 2
END:VEVENT
BEGIN:VEVENT
UID:10834595@ezleagues.ezfacility.com
DTSTAMP:20260426T033601Z
CREATED:20260426T033601Z
DTSTART:20180121T140000Z
DTEND:20180121T150000Z
LOCATION:Field 2 - South
CONTACT:Carver\, Geho
SUMMARY:Deportivo VS. América
DESCRIPTION:League Name: Futbolito\nGame Type: Regular\nGame Status: Comple
 te\nHome Team: Deportivo\nAway Team: América\nHome Score: 5\nAway Score: 
 4
END:VEVENT
BEGIN:VEVENT
UID:10834598@ezleagues.ezfacility.com
DTSTAMP:20260426T033601Z
CREATED:20260426T033601Z
DTSTART:20180128T160000Z
DTEND:20180128T170000Z
LOCATION:Field 2 - South
CONTACT:Burbage\, Carver
SUMMARY:América VS. Águilas FC
DESCRIPTION:League Name: Futbolito\nGame Type: Regular\nGame Status: Comple
 te\nHome Team: América\nAway Team: Águilas FC\nHome Score: 6\nAway Score
 : 7
END:VEVENT
BEGIN:VEVENT
UID:10834580@ezleagues.ezfacility.com
DTSTAMP:20260426T033601Z
CREATED:20260426T033601Z
DTSTART:20180204T140000Z
DTEND:20180204T150000Z
LOCATION:Field 2 - South
CONTACT:Carver\, Wooten
SUMMARY:América VS. Unión
DESCRIPTION:League Name: Futbolito\nGame Type: Regular\nGame Status: Comple
 te\nHome Team: América\nAway Team: Unión\nHome Score: 6\nAway Score: 6
END:VEVENT
BEGIN:VEVENT
UID:10834585@ezleagues.ezfacility.com
DTSTAMP:20260426T033601Z
CREATED:20260426T033601Z
DTSTART:20180211T160000Z
DTEND:20180211T170000Z
LOCATION:Field 2 - South
CONTACT:Burbage\, Carver
SUMMARY:América VS. Toros del Rincón
DESCRIPTION:League Name: Futbolito\nGame Type: Regular\nGame Status: Comple
 te\nHome Team: América\nAway Team: Toros del Rincón\nHome Score: 4\nAway
  Score: 6
END:VEVENT
BEGIN:VEVENT
UID:11217163@ezleagues.ezfacility.com
DTSTAMP:20260426T033601Z
CREATED:20260426T033601Z
DTSTART:20180218T133000Z
DTEND:20180218T143000Z
LOCATION:Field 2 - South
CONTACT:Burbage\, Carver
SUMMARY:Juventus  VS. América
DESCRIPTION:League Name: Futbolito\nGame Type: Postseason\nGame Status: Com
 plete\nHome Team: Juventus \nAway Team: América\nHome Score: 3\nAway Scor
 e: 4
END:VEVENT
BEGIN:VEVENT
UID:11217508@ezleagues.ezfacility.com
DTSTAMP:20260426T033601Z
CREATED:20260426T033601Z
DTSTART:20180225T150000Z
DTEND:20180225T160000Z
LOCATION:Field 2 - South
CONTACT:Burbage\, Carver
SUMMARY:América VS. Deportivo
DESCRIPTION:League Name: Futbolito\nGame Type: Postseason\nGame Status: Com
 plete\nHome Team: América\nAway Team: Deportivo\nHome Score: 6\nAway Scor
 e: 4
END:VEVENT
BEGIN:VEVENT
UID:11217524@ezleagues.ezfacility.com
DTSTAMP:20260426T033601Z
CREATED:20260426T033601Z
DTSTART:20180304T150000Z
DTEND:20180304T160000Z
LOCATION:Field 2 - South
CONTACT:Burbage\, Carver
SUMMARY:Unión VS. América
DESCRIPTION:League Name: Futbolito\nGame Type: Postseason\nGame Status: Com
 plete\nHome Team: Unión\nAway Team: América\nHome Score: 8\nAway Score: 
 2
END:VEVENT
END:VCALENDAR
