BEGIN:VCALENDAR
VERSION:2.0
PRODID:-//EZFacility.com, Inc.//EZL 2.5.5.28621
BEGIN:VEVENT
UID:10849468@ezleagues.ezfacility.com
DTSTAMP:20260424T043942Z
CREATED:20260424T043942Z
DTSTART:20171110T031500Z
DTEND:20171110T041500Z
LOCATION:Full Field - Indoor (C)
CONTACT:Knowles
SUMMARY:Sub-Par All Stars VS. Almost Pros
DESCRIPTION:League Name: Indoor Soccer Adult Coed B Session I 2017-18\nGame
  Type: Regular\nGame Status: Complete\nHome Team: Sub-Par All Stars\nAway 
 Team: Almost Pros\nHome Score: 0\nAway Score: 4
END:VEVENT
BEGIN:VEVENT
UID:10849474@ezleagues.ezfacility.com
DTSTAMP:20260424T043942Z
CREATED:20260424T043942Z
DTSTART:20171117T031500Z
DTEND:20171117T041500Z
LOCATION:Full Field - Indoor (C)
CONTACT:Jodoin
SUMMARY:Almost Pros VS. Sub-Par All Stars
DESCRIPTION:League Name: Indoor Soccer Adult Coed B Session I 2017-18\nGame
  Type: Regular\nGame Status: Complete\nHome Team: Almost Pros\nAway Team: 
 Sub-Par All Stars\nHome Score: 0\nAway Score: 5
END:VEVENT
BEGIN:VEVENT
UID:10849482@ezleagues.ezfacility.com
DTSTAMP:20260424T043942Z
CREATED:20260424T043942Z
DTSTART:20171130T031500Z
DTEND:20171130T041500Z
LOCATION:Full Field - Indoor (C)
CONTACT:NortonB\, Parker
SUMMARY:Almost Pros VS. The Domonators B
DESCRIPTION:League Name: Indoor Soccer Adult Coed B Session I 2017-18\nGame
  Type: Regular\nGame Status: Complete\nHome Team: Almost Pros\nAway Team: 
 The Domonators B\nHome Score: 4\nAway Score: 7
END:VEVENT
BEGIN:VEVENT
UID:10849486@ezleagues.ezfacility.com
DTSTAMP:20260424T043942Z
CREATED:20260424T043942Z
DTSTART:20171207T021500Z
DTEND:20171207T031500Z
LOCATION:Full Field - Indoor (C)
CONTACT:Tolosky
SUMMARY:KJ's Ice Cream VS. Almost Pros
DESCRIPTION:League Name: Indoor Soccer Adult Coed B Session I 2017-18\nGame
  Type: Regular\nGame Status: Complete\nHome Team: KJ's Ice Cream\nAway Tea
 m: Almost Pros\nHome Score: 7\nAway Score: 0
END:VEVENT
BEGIN:VEVENT
UID:10849490@ezleagues.ezfacility.com
DTSTAMP:20260424T043942Z
CREATED:20260424T043942Z
DTSTART:20171214T021500Z
DTEND:20171214T031500Z
LOCATION:Full Field - Indoor (C)
CONTACT:Tolosky\, NortonB
SUMMARY:Cornerstone Drug and Gift VS. Almost Pros
DESCRIPTION:League Name: Indoor Soccer Adult Coed B Session I 2017-18\nGame
  Type: Regular\nGame Status: Complete\nHome Team: Cornerstone Drug and Gif
 t\nAway Team: Almost Pros\nHome Score: 4\nAway Score: 6
END:VEVENT
BEGIN:VEVENT
UID:10849496@ezleagues.ezfacility.com
DTSTAMP:20260424T043942Z
CREATED:20260424T043942Z
DTSTART:20171221T031500Z
DTEND:20171221T041500Z
LOCATION:Full Field - Indoor (C)
CONTACT:Tolosky
SUMMARY:Almost Pros VS. Rush Hour
DESCRIPTION:League Name: Indoor Soccer Adult Coed B Session I 2017-18\nGame
  Type: Regular\nGame Status: Complete\nHome Team: Almost Pros\nAway Team: 
 Rush Hour\nHome Score: 5\nAway Score: 2
END:VEVENT
BEGIN:VEVENT
UID:10849478@ezleagues.ezfacility.com
DTSTAMP:20260424T043942Z
CREATED:20260424T043942Z
DTSTART:20180105T021500Z
DTEND:20180105T031500Z
LOCATION:Full Field - Indoor (C)
CONTACT:Tolosky
SUMMARY:Hurricanes VS. Almost Pros
DESCRIPTION:League Name: Indoor Soccer Adult Coed B Session I 2017-18\nGame
  Type: Regular\nGame Status: Complete\nHome Team: Hurricanes\nAway Team: A
 lmost Pros\nHome Score: 8\nAway Score: 1
END:VEVENT
BEGIN:VEVENT
UID:10849502@ezleagues.ezfacility.com
DTSTAMP:20260424T043942Z
CREATED:20260424T043942Z
DTSTART:20180112T031500Z
DTEND:20180112T041500Z
LOCATION:Full Field - Indoor (C)
CONTACT:Parker\, Tolosky
SUMMARY:L.L.I.T.T. VS. Almost Pros
DESCRIPTION:League Name: Indoor Soccer Adult Coed B Session I 2017-18\nGame
  Type: Regular\nGame Status: Complete\nHome Team: L.L.I.T.T.\nAway Team: A
 lmost Pros\nHome Score: 3\nAway Score: 2
END:VEVENT
END:VCALENDAR
