BEGIN:VCALENDAR
VERSION:2.0
PRODID:-//EZFacility.com, Inc.//EZL 2.5.5.28621
BEGIN:VEVENT
UID:10871788@ezleagues.ezfacility.com
DTSTAMP:20260420T203457Z
CREATED:20260420T203457Z
DTSTART:20171112T174200Z
DTEND:20171112T183400Z
LOCATION:Field   ID 2
CONTACT:
SUMMARY:CO U12 Belgium VS. Team Brazil I
DESCRIPTION:League Name: Fall Indoor 2017 U12 Boys North\nGame Type: Regula
 r\nGame Status: Complete\nHome Team: CO U12 Belgium\nAway Team: Team Brazi
 l I\nHome Score: 0\nAway Score: 0
END:VEVENT
BEGIN:VEVENT
UID:10871792@ezleagues.ezfacility.com
DTSTAMP:20260420T203457Z
CREATED:20260420T203457Z
DTSTART:20171119T190800Z
DTEND:20171119T200000Z
LOCATION:Field   ID 3
CONTACT:
SUMMARY:Locomotive SC VS. Team Brazil I
DESCRIPTION:League Name: Fall Indoor 2017 U12 Boys North\nGame Type: Regula
 r\nGame Status: Complete\nHome Team: Locomotive SC\nAway Team: Team Brazil
  I\nHome Score: 3\nAway Score: 13
END:VEVENT
BEGIN:VEVENT
UID:10871796@ezleagues.ezfacility.com
DTSTAMP:20260420T203457Z
CREATED:20260420T203457Z
DTSTART:20171126T163200Z
DTEND:20171126T172400Z
LOCATION:_
CONTACT:
SUMMARY:Team Brazil I VS. CO U12 England
DESCRIPTION:League Name: Fall Indoor 2017 U12 Boys North\nGame Type: Regula
 r\nGame Status: Complete\nHome Team: Team Brazil I\nAway Team: CO U12 Engl
 and\nHome Score: 4\nAway Score: 7
END:VEVENT
BEGIN:VEVENT
UID:10871795@ezleagues.ezfacility.com
DTSTAMP:20260420T203457Z
CREATED:20260420T203457Z
DTSTART:20171203T163200Z
DTEND:20171203T172400Z
LOCATION:Field   ID 3
CONTACT:
SUMMARY:Ten Yards Please VS. Team Brazil I
DESCRIPTION:League Name: Fall Indoor 2017 U12 Boys North\nGame Type: Regula
 r\nGame Status: Complete\nHome Team: Ten Yards Please\nAway Team: Team Bra
 zil I\nHome Score: 10\nAway Score: 1
END:VEVENT
BEGIN:VEVENT
UID:10871790@ezleagues.ezfacility.com
DTSTAMP:20260420T203457Z
CREATED:20260420T203457Z
DTSTART:20171210T172400Z
DTEND:20171210T181600Z
LOCATION:Field   ID 3
CONTACT:
SUMMARY:NWFC Orange VS. Team Brazil I
DESCRIPTION:League Name: Fall Indoor 2017 U12 Boys North\nGame Type: Regula
 r\nGame Status: Rescheduled\nHome Team: NWFC Orange\nAway Team: Team Brazi
 l I\n
END:VEVENT
BEGIN:VEVENT
UID:10871753@ezleagues.ezfacility.com
DTSTAMP:20260420T203457Z
CREATED:20260420T203457Z
DTSTART:20171217T150600Z
DTEND:20171217T155800Z
LOCATION:Field   ID 3
CONTACT:
SUMMARY:Team Brazil I VS. Ohio Green Hawks
DESCRIPTION:League Name: Fall Indoor 2017 U12 Boys North\nGame Type: Regula
 r\nGame Status: Complete\nHome Team: Team Brazil I\nAway Team: Ohio Green 
 Hawks\nHome Score: 3\nAway Score: 13
END:VEVENT
BEGIN:VEVENT
UID:10985313@ezleagues.ezfacility.com
DTSTAMP:20260420T203457Z
CREATED:20260420T203457Z
DTSTART:20171222T001200Z
DTEND:20171222T010400Z
LOCATION:Field   ID 2
CONTACT:
SUMMARY:NWFC Orange VS. Team Brazil I
DESCRIPTION:League Name: Fall Indoor 2017 U12 Boys North\nGame Type: Regula
 r\nGame Status: Complete\nHome Team: NWFC Orange\nAway Team: Team Brazil I
 \nHome Score: 6\nAway Score: 3
END:VEVENT
BEGIN:VEVENT
UID:10871770@ezleagues.ezfacility.com
DTSTAMP:20260420T203457Z
CREATED:20260420T203457Z
DTSTART:20180103T222700Z
DTEND:20180103T231900Z
LOCATION:Field   ID 1
CONTACT:
SUMMARY:Team Brazil I VS. Club Brazil Black
DESCRIPTION:League Name: Fall Indoor 2017 U12 Boys North\nGame Type: Regula
 r\nGame Status: Complete\nHome Team: Team Brazil I\nAway Team: Club Brazil
  Black\nHome Score: 6\nAway Score: 1
END:VEVENT
BEGIN:VEVENT
UID:10871759@ezleagues.ezfacility.com
DTSTAMP:20260420T203457Z
CREATED:20260420T203457Z
DTSTART:20180107T155800Z
DTEND:20180107T165000Z
LOCATION:Field   ID 3
CONTACT:
SUMMARY:Cyclones VS. Team Brazil I
DESCRIPTION:League Name: Fall Indoor 2017 U12 Boys North\nGame Type: Regula
 r\nGame Status: Complete\nHome Team: Cyclones\nAway Team: Team Brazil I\nH
 ome Score: 8\nAway Score: 7
END:VEVENT
BEGIN:VEVENT
UID:10871777@ezleagues.ezfacility.com
DTSTAMP:20260420T203457Z
CREATED:20260420T203457Z
DTSTART:20180110T222700Z
DTEND:20180110T231900Z
LOCATION:Field   ID 1
CONTACT:
SUMMARY:CO U12 Belgium VS. Team Brazil I
DESCRIPTION:League Name: Fall Indoor 2017 U12 Boys North\nGame Type: Regula
 r\nGame Status: Complete\nHome Team: CO U12 Belgium\nAway Team: Team Brazi
 l I\nHome Score: 16\nAway Score: 3
END:VEVENT
BEGIN:VEVENT
UID:10871764@ezleagues.ezfacility.com
DTSTAMP:20260420T203457Z
CREATED:20260420T203457Z
DTSTART:20180114T165000Z
DTEND:20180114T174200Z
LOCATION:Field   ID 3
CONTACT:
SUMMARY:Locomotive SC VS. Team Brazil I
DESCRIPTION:League Name: Fall Indoor 2017 U12 Boys North\nGame Type: Regula
 r\nGame Status: Complete\nHome Team: Locomotive SC\nAway Team: Team Brazil
  I\nHome Score: 2\nAway Score: 15
END:VEVENT
END:VCALENDAR
