BEGIN:VCALENDAR
VERSION:2.0
PRODID:-//EZFacility.com, Inc.//EZL 2.5.5.28621
BEGIN:VEVENT
UID:10868187@ezleagues.ezfacility.com
DTSTAMP:20260424T044026Z
CREATED:20260424T044026Z
DTSTART:20171114T020000Z
DTEND:20171114T025500Z
LOCATION:Field 2
CONTACT:
SUMMARY:Footclan (White) VS. A Tight Pass (Blue)
DESCRIPTION:League Name: Monday Coed Over 25 D4 - Winter 1\nGame Type: Regu
 lar\nGame Status: Complete\nHome Team: Footclan (White)\nAway Team: A Tigh
 t Pass (Blue)\nHome Score: 6\nAway Score: 4
END:VEVENT
BEGIN:VEVENT
UID:10868198@ezleagues.ezfacility.com
DTSTAMP:20260424T044026Z
CREATED:20260424T044026Z
DTSTART:20171128T020000Z
DTEND:20171128T025500Z
LOCATION:Field 2
CONTACT:
SUMMARY:Footclan (White) VS. Dolls and Balls (Black)
DESCRIPTION:League Name: Monday Coed Over 25 D4 - Winter 1\nGame Type: Regu
 lar\nGame Status: Complete\nHome Team: Footclan (White)\nAway Team: Dolls 
 and Balls (Black)\nHome Score: 5\nAway Score: 11
END:VEVENT
BEGIN:VEVENT
UID:10868203@ezleagues.ezfacility.com
DTSTAMP:20260424T044026Z
CREATED:20260424T044026Z
DTSTART:20171205T035000Z
DTEND:20171205T044500Z
LOCATION:Field 2
CONTACT:
SUMMARY:Rocket Punch VS. Footclan (White)
DESCRIPTION:League Name: Monday Coed Over 25 D4 - Winter 1\nGame Type: Regu
 lar\nGame Status: Complete\nHome Team: Rocket Punch\nAway Team: Footclan (
 White)\nHome Score: 10\nAway Score: 7
END:VEVENT
BEGIN:VEVENT
UID:10868209@ezleagues.ezfacility.com
DTSTAMP:20260424T044026Z
CREATED:20260424T044026Z
DTSTART:20171212T035000Z
DTEND:20171212T044500Z
LOCATION:Field 2
CONTACT:
SUMMARY:The Has Beens (Black) VS. Footclan (White)
DESCRIPTION:League Name: Monday Coed Over 25 D4 - Winter 1\nGame Type: Regu
 lar\nGame Status: Complete\nHome Team: The Has Beens (Black)\nAway Team: F
 ootclan (White)\nHome Score: 4\nAway Score: 6
END:VEVENT
BEGIN:VEVENT
UID:10868214@ezleagues.ezfacility.com
DTSTAMP:20260424T044026Z
CREATED:20260424T044026Z
DTSTART:20171219T010500Z
DTEND:20171219T020000Z
LOCATION:Field 2
CONTACT:
SUMMARY:Bye Week VS. Footclan (White)
DESCRIPTION:League Name: Monday Coed Over 25 D4 - Winter 1\nGame Type: Regu
 lar\nGame Status: Complete\nHome Team: Bye Week\nAway Team: Footclan (Whit
 e)\nHome Score: 6\nAway Score: 5
END:VEVENT
BEGIN:VEVENT
UID:10868193@ezleagues.ezfacility.com
DTSTAMP:20260424T044026Z
CREATED:20260424T044026Z
DTSTART:20171220T020000Z
DTEND:20171220T025500Z
LOCATION:Field 1
CONTACT:
SUMMARY:Rushden and Diamonds (Blue) VS. Footclan (White)
DESCRIPTION:League Name: Monday Coed Over 25 D4 - Winter 1\nGame Type: Regu
 lar\nGame Status: Complete\nHome Team: Rushden and Diamonds (Blue)\nAway T
 eam: Footclan (White)\nHome Score: 13\nAway Score: 4
END:VEVENT
BEGIN:VEVENT
UID:10868219@ezleagues.ezfacility.com
DTSTAMP:20260424T044026Z
CREATED:20260424T044026Z
DTSTART:20180102T025500Z
DTEND:20180102T035000Z
LOCATION:Field 2
CONTACT:
SUMMARY:Footclan (White) VS. Stimulus Package (Green)
DESCRIPTION:League Name: Monday Coed Over 25 D4 - Winter 1\nGame Type: Regu
 lar\nGame Status: Complete\nHome Team: Footclan (White)\nAway Team: Stimul
 us Package (Green)\nHome Score: 6\nAway Score: 8
END:VEVENT
BEGIN:VEVENT
UID:10868180@ezleagues.ezfacility.com
DTSTAMP:20260424T044026Z
CREATED:20260424T044026Z
DTSTART:20180109T025500Z
DTEND:20180109T035000Z
LOCATION:Field 3
CONTACT:
SUMMARY:Footclan (White) VS. All Up In It (Blue)
DESCRIPTION:League Name: Monday Coed Over 25 D4 - Winter 1\nGame Type: Regu
 lar\nGame Status: Complete\nHome Team: Footclan (White)\nAway Team: All Up
  In It (Blue)\nHome Score: 10\nAway Score: 6
END:VEVENT
END:VCALENDAR
