BEGIN:VCALENDAR
VERSION:2.0
PRODID:-//EZFacility.com, Inc.//EZL 2.5.5.28621
BEGIN:VEVENT
UID:10880775@ezleagues.ezfacility.com
DTSTAMP:20260426T033705Z
CREATED:20260426T033705Z
DTSTART:20171112T230000Z
DTEND:20171113T000000Z
LOCATION:Kingdom Field
CONTACT:Mitchell
SUMMARY:03 White VS. Hackett
DESCRIPTION:League Name: 1-2017/2018-SOCCER-HS BOYS - ALL SOCCER\nGame Type
 : Regular\nGame Status: Complete\nHome Team: 03 White\nAway Team: Hackett\
 nHome Score: 0\nAway Score: 1
END:VEVENT
BEGIN:VEVENT
UID:10880776@ezleagues.ezfacility.com
DTSTAMP:20260426T033705Z
CREATED:20260426T033705Z
DTSTART:20171119T010000Z
DTEND:20171119T020000Z
LOCATION:Red Field
CONTACT:
SUMMARY:Islanders United VS. 03 White
DESCRIPTION:League Name: 1-2017/2018-SOCCER-HS BOYS - ALL SOCCER\nGame Type
 : Regular\nGame Status: Complete\nHome Team: Islanders United\nAway Team: 
 03 White\nHome Score: 6\nAway Score: 4
END:VEVENT
BEGIN:VEVENT
UID:10854154@ezleagues.ezfacility.com
DTSTAMP:20260426T033705Z
CREATED:20260426T033705Z
DTSTART:20171126T020000Z
DTEND:20171126T030000Z
LOCATION:Red Field
CONTACT:
SUMMARY:03 White VS. GL Boys 2
DESCRIPTION:League Name: 1-2017/2018-SOCCER-HS BOYS - ALL SOCCER\nGame Type
 : Regular\nGame Status: Complete\nHome Team: 03 White\nAway Team: GL Boys 
 2\nHome Score: 5\nAway Score: 13
END:VEVENT
BEGIN:VEVENT
UID:10854157@ezleagues.ezfacility.com
DTSTAMP:20260426T033705Z
CREATED:20260426T033705Z
DTSTART:20171203T010000Z
DTEND:20171203T020000Z
LOCATION:Red Field
CONTACT:
SUMMARY:TRV VS. 03 White
DESCRIPTION:League Name: 1-2017/2018-SOCCER-HS BOYS - ALL SOCCER\nGame Type
 : Regular\nGame Status: Complete\nHome Team: TRV\nAway Team: 03 White\nHom
 e Score: 5\nAway Score: 12
END:VEVENT
END:VCALENDAR
