BEGIN:VCALENDAR
VERSION:2.0
PRODID:-//EZFacility.com, Inc.//EZL 2.5.5.28621
BEGIN:VEVENT
UID:10914974@ezleagues.ezfacility.com
DTSTAMP:20260424T081624Z
CREATED:20260424T081624Z
DTSTART:20171118T190000Z
DTEND:20171118T200000Z
LOCATION:SAC Main Court
CONTACT:
SUMMARY:Pacers (Pacers) VS. TBE (Bristow)
DESCRIPTION:League Name: Agape Hoops High School Boys Winter I Rec League\n
 Game Type: Regular\nGame Status: Complete\nHome Team: Pacers (Pacers)\nAwa
 y Team: TBE (Bristow)\nHome Score: 36\nAway Score: 50
END:VEVENT
BEGIN:VEVENT
UID:10914977@ezleagues.ezfacility.com
DTSTAMP:20260424T081624Z
CREATED:20260424T081624Z
DTSTART:20171203T010000Z
DTEND:20171203T020000Z
LOCATION:SAC Main Court
CONTACT:
SUMMARY:Pacers (Pacers) VS. The Large Baller Label (Barnett)
DESCRIPTION:League Name: Agape Hoops High School Boys Winter I Rec League\n
 Game Type: Regular\nGame Status: Complete\nHome Team: Pacers (Pacers)\nAwa
 y Team: The Large Baller Label (Barnett)\nHome Score: 40\nAway Score: 37
END:VEVENT
BEGIN:VEVENT
UID:10915061@ezleagues.ezfacility.com
DTSTAMP:20260424T081624Z
CREATED:20260424T081624Z
DTSTART:20171209T210000Z
DTEND:20171209T220000Z
LOCATION:SAC Main Court
CONTACT:
SUMMARY:CBK (Moore) VS. Pacers (Pacers)
DESCRIPTION:League Name: Agape Hoops High School Boys Winter I Rec League\n
 Game Type: Regular\nGame Status: Complete\nHome Team: CBK (Moore)\nAway Te
 am: Pacers (Pacers)\nHome Score: 54\nAway Score: 41
END:VEVENT
BEGIN:VEVENT
UID:10915101@ezleagues.ezfacility.com
DTSTAMP:20260424T081624Z
CREATED:20260424T081624Z
DTSTART:20171216T190000Z
DTEND:20171216T200000Z
LOCATION:SAC Main Court
CONTACT:
SUMMARY:Pacers (Pacers) VS. PS (Fencl)
DESCRIPTION:League Name: Agape Hoops High School Boys Winter I Rec League\n
 Game Type: Regular\nGame Status: Complete\nHome Team: Pacers (Pacers)\nAwa
 y Team: PS (Fencl)\nHome Score: 49\nAway Score: 63
END:VEVENT
BEGIN:VEVENT
UID:10915112@ezleagues.ezfacility.com
DTSTAMP:20260424T081624Z
CREATED:20260424T081624Z
DTSTART:20171230T190000Z
DTEND:20171230T200000Z
LOCATION:SAC Main Court
CONTACT:
SUMMARY:Yung Bulls (Myers) VS. Pacers (Pacers)
DESCRIPTION:League Name: Agape Hoops High School Boys Winter I Rec League\n
 Game Type: Regular\nGame Status: Complete\nHome Team: Yung Bulls (Myers)\n
 Away Team: Pacers (Pacers)\nHome Score: 35\nAway Score: 25
END:VEVENT
BEGIN:VEVENT
UID:10915166@ezleagues.ezfacility.com
DTSTAMP:20260424T081624Z
CREATED:20260424T081624Z
DTSTART:20180106T230000Z
DTEND:20180107T000000Z
LOCATION:SAC Main Court
CONTACT:
SUMMARY:Pacers (Pacers) VS. FullSend (Pace)
DESCRIPTION:League Name: Agape Hoops High School Boys Winter I Rec League\n
 Game Type: Regular\nGame Status: Complete\nHome Team: Pacers (Pacers)\nAwa
 y Team: FullSend (Pace)\nHome Score: 44\nAway Score: 41
END:VEVENT
BEGIN:VEVENT
UID:10915214@ezleagues.ezfacility.com
DTSTAMP:20260424T081624Z
CREATED:20260424T081624Z
DTSTART:20180113T200000Z
DTEND:20180113T210000Z
LOCATION:SAC Main Court
CONTACT:
SUMMARY:Pacers (Pacers) VS. TBN (Chapman)
DESCRIPTION:League Name: Agape Hoops High School Boys Winter I Rec League\n
 Game Type: Regular\nGame Status: Complete\nHome Team: Pacers (Pacers)\nAwa
 y Team: TBN (Chapman)\nHome Score: 2\nAway Score: 0
END:VEVENT
BEGIN:VEVENT
UID:10915231@ezleagues.ezfacility.com
DTSTAMP:20260424T081624Z
CREATED:20260424T081624Z
DTSTART:20180120T220000Z
DTEND:20180120T230000Z
LOCATION:SAC Main Court
CONTACT:
SUMMARY:Cuck's United (Adrales) VS. Pacers (Pacers)
DESCRIPTION:League Name: Agape Hoops High School Boys Winter I Rec League\n
 Game Type: Regular\nGame Status: Complete\nHome Team: Cuck's United (Adral
 es)\nAway Team: Pacers (Pacers)\nHome Score: 54\nAway Score: 60
END:VEVENT
END:VCALENDAR
