BEGIN:VCALENDAR
VERSION:2.0
PRODID:-//EZFacility.com, Inc.//EZL 2.5.5.28621
BEGIN:VEVENT
UID:10894078@ezleagues.ezfacility.com
DTSTAMP:20260426T035119Z
CREATED:20260426T035119Z
DTSTART:20171119T001000Z
DTEND:20171119T010500Z
LOCATION:Field 2
CONTACT:
SUMMARY:Chickasha Has Beens (Black) VS. Avengers FC (Neon Yellow)
DESCRIPTION:League Name: Coed OPEN 4 (Formerly 9) - Winter I\nGame Type: Re
 gular\nGame Status: Complete\nHome Team: Chickasha Has Beens (Black)\nAway
  Team: Avengers FC (Neon Yellow)\nHome Score: 8\nAway Score: 4
END:VEVENT
BEGIN:VEVENT
UID:10894085@ezleagues.ezfacility.com
DTSTAMP:20260426T035119Z
CREATED:20260426T035119Z
DTSTART:20171126T001000Z
DTEND:20171126T010500Z
LOCATION:Field 3
CONTACT:
SUMMARY:Chickasha Has Beens (Black) VS. Sandridge Energy (Blue)
DESCRIPTION:League Name: Coed OPEN 4 (Formerly 9) - Winter I\nGame Type: Re
 gular\nGame Status: Complete\nHome Team: Chickasha Has Beens (Black)\nAway
  Team: Sandridge Energy (Blue)\nHome Score: 7\nAway Score: 6
END:VEVENT
BEGIN:VEVENT
UID:10894093@ezleagues.ezfacility.com
DTSTAMP:20260426T035119Z
CREATED:20260426T035119Z
DTSTART:20171210T044500Z
DTEND:20171210T054000Z
LOCATION:Field 2
CONTACT:
SUMMARY:Chickasha Has Beens (Black) VS. Moore Tornadoes (Grey)
DESCRIPTION:League Name: Coed OPEN 4 (Formerly 9) - Winter I\nGame Type: Re
 gular\nGame Status: Pending\nHome Team: Chickasha Has Beens (Black)\nAway 
 Team: Moore Tornadoes (Grey)\n
END:VEVENT
BEGIN:VEVENT
UID:10894103@ezleagues.ezfacility.com
DTSTAMP:20260426T035119Z
CREATED:20260426T035119Z
DTSTART:20171217T025500Z
DTEND:20171217T035000Z
LOCATION:Field 3
CONTACT:
SUMMARY:Oklahoma Legends (Blue) VS. Chickasha Has Beens (Black)
DESCRIPTION:League Name: Coed OPEN 4 (Formerly 9) - Winter I\nGame Type: Re
 gular\nGame Status: Complete\nHome Team: Oklahoma Legends (Blue)\nAway Tea
 m: Chickasha Has Beens (Black)\nHome Score: 0\nAway Score: 10
END:VEVENT
BEGIN:VEVENT
UID:10894109@ezleagues.ezfacility.com
DTSTAMP:20260426T035119Z
CREATED:20260426T035119Z
DTSTART:20171224T020000Z
DTEND:20171224T025500Z
LOCATION:Field 3
CONTACT:
SUMMARY:New Mayer (Blue) VS. Chickasha Has Beens (Black)
DESCRIPTION:League Name: Coed OPEN 4 (Formerly 9) - Winter I\nGame Type: Re
 gular\nGame Status: Complete\nHome Team: New Mayer (Blue)\nAway Team: Chic
 kasha Has Beens (Black)\nHome Score: 2\nAway Score: 2
END:VEVENT
BEGIN:VEVENT
UID:10894115@ezleagues.ezfacility.com
DTSTAMP:20260426T035119Z
CREATED:20260426T035119Z
DTSTART:20171231T035000Z
DTEND:20171231T044500Z
LOCATION:Field 3
CONTACT:
SUMMARY:United FC (Volt) VS. Chickasha Has Beens (Black)
DESCRIPTION:League Name: Coed OPEN 4 (Formerly 9) - Winter I\nGame Type: Re
 gular\nGame Status: Complete\nHome Team: United FC (Volt)\nAway Team: Chic
 kasha Has Beens (Black)\nHome Score: 10\nAway Score: 4
END:VEVENT
BEGIN:VEVENT
UID:10894071@ezleagues.ezfacility.com
DTSTAMP:20260426T035119Z
CREATED:20260426T035119Z
DTSTART:20180107T020000Z
DTEND:20180107T025500Z
LOCATION:Field 3
CONTACT:
SUMMARY:Chickasha Has Beens (Black) VS. Bad and Boujee (Yellow)
DESCRIPTION:League Name: Coed OPEN 4 (Formerly 9) - Winter I\nGame Type: Re
 gular\nGame Status: Complete\nHome Team: Chickasha Has Beens (Black)\nAway
  Team: Bad and Boujee (Yellow)\nHome Score: 6\nAway Score: 8
END:VEVENT
BEGIN:VEVENT
UID:10894090@ezleagues.ezfacility.com
DTSTAMP:20260426T035119Z
CREATED:20260426T035119Z
DTSTART:20180114T001000Z
DTEND:20180114T010500Z
LOCATION:Field 3
CONTACT:
SUMMARY:Wii Not Fit VS. Chickasha Has Beens (Black)
DESCRIPTION:League Name: Coed OPEN 4 (Formerly 9) - Winter I\nGame Type: Re
 gular\nGame Status: Complete\nHome Team: Wii Not Fit\nAway Team: Chickasha
  Has Beens (Black)\nHome Score: 6\nAway Score: 0
END:VEVENT
END:VCALENDAR
