BEGIN:VCALENDAR
VERSION:2.0
PRODID:-//EZFacility.com, Inc.//EZL 2.5.5.28621
BEGIN:VEVENT
UID:10898190@ezleagues.ezfacility.com
DTSTAMP:20260423T031504Z
CREATED:20260423T031504Z
DTSTART:20171112T023000Z
DTEND:20171112T032000Z
LOCATION:Harmans Premier Field #5
CONTACT:
SUMMARY:D.C. Tires  VS. Jaguares De Peten
DESCRIPTION:League Name: Sat Men Open Super Liga \nGame Type: Regular\nGame
  Status: Complete\nHome Team: D.C. Tires \nAway Team: Jaguares De Peten\nH
 ome Score: 0\nAway Score: 3
END:VEVENT
BEGIN:VEVENT
UID:10898203@ezleagues.ezfacility.com
DTSTAMP:20260423T031504Z
CREATED:20260423T031504Z
DTSTART:20171119T014000Z
DTEND:20171119T023000Z
LOCATION:Harmans Premier Field #5
CONTACT:
SUMMARY:D.C. Tires  VS. Annapolis 
DESCRIPTION:League Name: Sat Men Open Super Liga \nGame Type: Regular\nGame
  Status: Complete\nHome Team: D.C. Tires \nAway Team: Annapolis \nHome Sco
 re: 2\nAway Score: 7
END:VEVENT
BEGIN:VEVENT
UID:10898215@ezleagues.ezfacility.com
DTSTAMP:20260423T031504Z
CREATED:20260423T031504Z
DTSTART:20171126T023000Z
DTEND:20171126T032000Z
LOCATION:Harmans Premier Field #5
CONTACT:
SUMMARY:The Advengers VS. D.C. Tires 
DESCRIPTION:League Name: Sat Men Open Super Liga \nGame Type: Regular\nGame
  Status: Complete\nHome Team: The Advengers\nAway Team: D.C. Tires \nHome 
 Score: 9\nAway Score: 3
END:VEVENT
BEGIN:VEVENT
UID:10898226@ezleagues.ezfacility.com
DTSTAMP:20260423T031504Z
CREATED:20260423T031504Z
DTSTART:20171203T014000Z
DTEND:20171203T023000Z
LOCATION:Harmans Premier Field #4
CONTACT:
SUMMARY:Motagua VS. D.C. Tires 
DESCRIPTION:League Name: Sat Men Open Super Liga \nGame Type: Regular\nGame
  Status: Complete\nHome Team: Motagua\nAway Team: D.C. Tires \nHome Score:
  6\nAway Score: 1
END:VEVENT
BEGIN:VEVENT
UID:10898237@ezleagues.ezfacility.com
DTSTAMP:20260423T031504Z
CREATED:20260423T031504Z
DTSTART:20171210T041000Z
DTEND:20171210T050000Z
LOCATION:Harmans Premier Field #4
CONTACT:
SUMMARY:CD Pumas VS. D.C. Tires 
DESCRIPTION:League Name: Sat Men Open Super Liga \nGame Type: Regular\nGame
  Status: Complete\nHome Team: CD Pumas\nAway Team: D.C. Tires \nHome Score
 : 9\nAway Score: 6
END:VEVENT
BEGIN:VEVENT
UID:10898248@ezleagues.ezfacility.com
DTSTAMP:20260423T031504Z
CREATED:20260423T031504Z
DTSTART:20171217T023000Z
DTEND:20171217T032000Z
LOCATION:Harmans Premier Field #4
CONTACT:
SUMMARY:Juventus VS. D.C. Tires 
DESCRIPTION:League Name: Sat Men Open Super Liga \nGame Type: Regular\nGame
  Status: Complete\nHome Team: Juventus\nAway Team: D.C. Tires \nHome Score
 : 11\nAway Score: 5
END:VEVENT
BEGIN:VEVENT
UID:10898261@ezleagues.ezfacility.com
DTSTAMP:20260423T031504Z
CREATED:20260423T031504Z
DTSTART:20180107T041000Z
DTEND:20180107T050000Z
LOCATION:Harmans Premier Field #4
CONTACT:
SUMMARY:D.C. Tires  VS. Maryland FC
DESCRIPTION:League Name: Sat Men Open Super Liga \nGame Type: Regular\nGame
  Status: Complete\nHome Team: D.C. Tires \nAway Team: Maryland FC\nHome Sc
 ore: 5\nAway Score: 8
END:VEVENT
BEGIN:VEVENT
UID:11102042@ezleagues.ezfacility.com
DTSTAMP:20260423T031504Z
CREATED:20260423T031504Z
DTSTART:20180114T041000Z
DTEND:20180114T050000Z
LOCATION:Harmans Premier Field #5
CONTACT:
SUMMARY:Motagua VS. D.C. Tires 
DESCRIPTION:League Name: Sat Men Open Super Liga \nGame Type: Regular\nGame
  Status: Complete\nHome Team: Motagua\nAway Team: D.C. Tires \nHome Score:
  7\nAway Score: 4
END:VEVENT
END:VCALENDAR
