BEGIN:VCALENDAR
VERSION:2.0
PRODID:-//EZFacility.com, Inc.//EZL 2.5.5.28621
BEGIN:VEVENT
UID:10898191@ezleagues.ezfacility.com
DTSTAMP:20260423T131911Z
CREATED:20260423T131911Z
DTSTART:20171112T041000Z
DTEND:20171112T050000Z
LOCATION:Harmans Premier Field #5
CONTACT:
SUMMARY:Annapolis  VS. CD Pumas
DESCRIPTION:League Name: Sat Men Open Super Liga \nGame Type: Regular\nGame
  Status: Complete\nHome Team: Annapolis \nAway Team: CD Pumas\nHome Score:
  3\nAway Score: 3
END:VEVENT
BEGIN:VEVENT
UID:10898202@ezleagues.ezfacility.com
DTSTAMP:20260423T131911Z
CREATED:20260423T131911Z
DTSTART:20171119T041000Z
DTEND:20171119T050000Z
LOCATION:Harmans Premier Field #4
CONTACT:
SUMMARY:The Advengers VS. CD Pumas
DESCRIPTION:League Name: Sat Men Open Super Liga \nGame Type: Regular\nGame
  Status: Complete\nHome Team: The Advengers\nAway Team: CD Pumas\nHome Sco
 re: 3\nAway Score: 3
END:VEVENT
BEGIN:VEVENT
UID:10898213@ezleagues.ezfacility.com
DTSTAMP:20260423T131911Z
CREATED:20260423T131911Z
DTSTART:20171126T041000Z
DTEND:20171126T050000Z
LOCATION:Harmans Premier Field #4
CONTACT:
SUMMARY:Motagua VS. CD Pumas
DESCRIPTION:League Name: Sat Men Open Super Liga \nGame Type: Regular\nGame
  Status: Complete\nHome Team: Motagua\nAway Team: CD Pumas\nHome Score: 2\
 nAway Score: 7
END:VEVENT
BEGIN:VEVENT
UID:10898224@ezleagues.ezfacility.com
DTSTAMP:20260423T131911Z
CREATED:20260423T131911Z
DTSTART:20171203T041000Z
DTEND:20171203T050000Z
LOCATION:Harmans Premier Field #5
CONTACT:
SUMMARY:CD Pumas VS. Juventus
DESCRIPTION:League Name: Sat Men Open Super Liga \nGame Type: Regular\nGame
  Status: Complete\nHome Team: CD Pumas\nAway Team: Juventus\nHome Score: 1
 \nAway Score: 2
END:VEVENT
BEGIN:VEVENT
UID:10898237@ezleagues.ezfacility.com
DTSTAMP:20260423T131911Z
CREATED:20260423T131911Z
DTSTART:20171210T041000Z
DTEND:20171210T050000Z
LOCATION:Harmans Premier Field #4
CONTACT:
SUMMARY:CD Pumas VS. D.C. Tires 
DESCRIPTION:League Name: Sat Men Open Super Liga \nGame Type: Regular\nGame
  Status: Complete\nHome Team: CD Pumas\nAway Team: D.C. Tires \nHome Score
 : 9\nAway Score: 6
END:VEVENT
BEGIN:VEVENT
UID:10898250@ezleagues.ezfacility.com
DTSTAMP:20260423T131911Z
CREATED:20260423T131911Z
DTSTART:20171217T041000Z
DTEND:20171217T050000Z
LOCATION:Harmans Premier Field #5
CONTACT:
SUMMARY:CD Pumas VS. Maryland FC
DESCRIPTION:League Name: Sat Men Open Super Liga \nGame Type: Regular\nGame
  Status: Complete\nHome Team: CD Pumas\nAway Team: Maryland FC\nHome Score
 : 4\nAway Score: 2
END:VEVENT
BEGIN:VEVENT
UID:10898263@ezleagues.ezfacility.com
DTSTAMP:20260423T131911Z
CREATED:20260423T131911Z
DTSTART:20180107T041000Z
DTEND:20180107T050000Z
LOCATION:Harmans Premier Field #5
CONTACT:
SUMMARY:CD Pumas VS. Jaguares De Peten
DESCRIPTION:League Name: Sat Men Open Super Liga \nGame Type: Regular\nGame
  Status: Complete\nHome Team: CD Pumas\nAway Team: Jaguares De Peten\nHome
  Score: 6\nAway Score: 5
END:VEVENT
BEGIN:VEVENT
UID:11102041@ezleagues.ezfacility.com
DTSTAMP:20260423T131911Z
CREATED:20260423T131911Z
DTSTART:20180114T041000Z
DTEND:20180114T050000Z
LOCATION:Harmans Premier Field #4
CONTACT:
SUMMARY:The Advengers VS. CD Pumas
DESCRIPTION:League Name: Sat Men Open Super Liga \nGame Type: Regular\nGame
  Status: Complete\nHome Team: The Advengers\nAway Team: CD Pumas\nHome Sco
 re: 3\nAway Score: 9
END:VEVENT
BEGIN:VEVENT
UID:11132014@ezleagues.ezfacility.com
DTSTAMP:20260423T131911Z
CREATED:20260423T131911Z
DTSTART:20180121T033000Z
DTEND:20180121T043000Z
LOCATION:Harmans Premier Field #4
CONTACT:
SUMMARY:Annapolis  VS. CD Pumas
DESCRIPTION:League Name: Sat Men Open Super Liga \nGame Type: Regular\nGame
  Status: Complete\nHome Team: Annapolis \nAway Team: CD Pumas\nHome Score:
  3\nAway Score: 5
END:VEVENT
END:VCALENDAR
