BEGIN:VCALENDAR
VERSION:2.0
PRODID:-//EZFacility.com, Inc.//EZL 2.5.5.28621
BEGIN:VEVENT
UID:10919719@ezleagues.ezfacility.com
DTSTAMP:20260424T151704Z
CREATED:20260424T151704Z
DTSTART:20171118T221500Z
DTEND:20171118T225500Z
LOCATION:LG Field 2
CONTACT:
SUMMARY:Pure Digital VS. Underdogs
DESCRIPTION:League Name: Men's Open Rec Plus - Winter 1\nGame Type: Regular
 \nGame Status: Complete\nHome Team: Pure Digital\nAway Team: Underdogs\nHo
 me Score: 14\nAway Score: 4
END:VEVENT
BEGIN:VEVENT
UID:10919735@ezleagues.ezfacility.com
DTSTAMP:20260424T151704Z
CREATED:20260424T151704Z
DTSTART:20171202T234500Z
DTEND:20171203T002500Z
LOCATION:LG Field 2
CONTACT:
SUMMARY:Tulsa Gunners VS. Pure Digital
DESCRIPTION:League Name: Men's Open Rec Plus - Winter 1\nGame Type: Regular
 \nGame Status: Complete\nHome Team: Tulsa Gunners\nAway Team: Pure Digital
 \nHome Score: 3\nAway Score: 5
END:VEVENT
BEGIN:VEVENT
UID:10919742@ezleagues.ezfacility.com
DTSTAMP:20260424T151704Z
CREATED:20260424T151704Z
DTSTART:20171210T020000Z
DTEND:20171210T024000Z
LOCATION:LG Field 2
CONTACT:
SUMMARY:Pure Digital VS. Mighty Ducks
DESCRIPTION:League Name: Men's Open Rec Plus - Winter 1\nGame Type: Regular
 \nGame Status: Complete\nHome Team: Pure Digital\nAway Team: Mighty Ducks\
 nHome Score: 5\nAway Score: 4
END:VEVENT
BEGIN:VEVENT
UID:10919738@ezleagues.ezfacility.com
DTSTAMP:20260424T151704Z
CREATED:20260424T151704Z
DTSTART:20171210T033000Z
DTEND:20171210T041000Z
LOCATION:LG Field 2
CONTACT:
SUMMARY:Pure Digital VS. Hashtag United
DESCRIPTION:League Name: Men's Open Rec Plus - Winter 1\nGame Type: Regular
 \nGame Status: Complete\nHome Team: Pure Digital\nAway Team: Hashtag Unite
 d\nHome Score: 11\nAway Score: 6
END:VEVENT
BEGIN:VEVENT
UID:10919749@ezleagues.ezfacility.com
DTSTAMP:20260424T151704Z
CREATED:20260424T151704Z
DTSTART:20171217T033000Z
DTEND:20171217T041000Z
LOCATION:LG Field 2
CONTACT:
SUMMARY:Durango FC  VS. Pure Digital
DESCRIPTION:League Name: Men's Open Rec Plus - Winter 1\nGame Type: Regular
 \nGame Status: Complete\nHome Team: Durango FC \nAway Team: Pure Digital\n
 Home Score: 5\nAway Score: 6
END:VEVENT
BEGIN:VEVENT
UID:10919751@ezleagues.ezfacility.com
DTSTAMP:20260424T151704Z
CREATED:20260424T151704Z
DTSTART:20171224T003000Z
DTEND:20171224T011000Z
LOCATION:LG Field 1
CONTACT:
SUMMARY:Pure Digital VS. Los Pollos Hermanos
DESCRIPTION:League Name: Men's Open Rec Plus - Winter 1\nGame Type: Regular
 \nGame Status: Complete\nHome Team: Pure Digital\nAway Team: Los Pollos He
 rmanos\nHome Score: 5\nAway Score: 7
END:VEVENT
BEGIN:VEVENT
UID:10919762@ezleagues.ezfacility.com
DTSTAMP:20260424T151704Z
CREATED:20260424T151704Z
DTSTART:20171230T221500Z
DTEND:20171230T225500Z
LOCATION:LG Field 2
CONTACT:
SUMMARY:The $ix VS. Pure Digital
DESCRIPTION:League Name: Men's Open Rec Plus - Winter 1\nGame Type: Regular
 \nGame Status: Complete\nHome Team: The $ix\nAway Team: Pure Digital\nHome
  Score: 10\nAway Score: 10
END:VEVENT
BEGIN:VEVENT
UID:10919768@ezleagues.ezfacility.com
DTSTAMP:20260424T151704Z
CREATED:20260424T151704Z
DTSTART:20180106T213000Z
DTEND:20180106T221000Z
LOCATION:LG Field 2
CONTACT:
SUMMARY:Homeschool Beer VS. Pure Digital
DESCRIPTION:League Name: Men's Open Rec Plus - Winter 1\nGame Type: Regular
 \nGame Status: Complete\nHome Team: Homeschool Beer\nAway Team: Pure Digit
 al\nHome Score: 2\nAway Score: 4
END:VEVENT
END:VCALENDAR
