BEGIN:VCALENDAR
VERSION:2.0
PRODID:-//EZFacility.com, Inc.//EZL 2.5.5.28621
BEGIN:VEVENT
UID:10916313@ezleagues.ezfacility.com
DTSTAMP:20260426T033902Z
CREATED:20260426T033902Z
DTSTART:20171118T191500Z
DTEND:20171118T195500Z
LOCATION:LG Field 1
CONTACT:
SUMMARY:OJO De Agua Negros 09 VS. Storm Troopers
DESCRIPTION:League Name: Boys U9/10 Rec(2009/08) - Winter 1\nGame Type: Reg
 ular\nGame Status: Complete\nHome Team: OJO De Agua Negros 09\nAway Team: 
 Storm Troopers\nHome Score: 7\nAway Score: 5
END:VEVENT
BEGIN:VEVENT
UID:10916320@ezleagues.ezfacility.com
DTSTAMP:20260426T033902Z
CREATED:20260426T033902Z
DTSTART:20171125T174500Z
DTEND:20171125T182500Z
LOCATION:LG Field 1
CONTACT:
SUMMARY:OJO De Agua Negros 09 VS. Sharks
DESCRIPTION:League Name: Boys U9/10 Rec(2009/08) - Winter 1\nGame Type: Reg
 ular\nGame Status: Complete\nHome Team: OJO De Agua Negros 09\nAway Team: 
 Sharks\nHome Score: 11\nAway Score: 1
END:VEVENT
BEGIN:VEVENT
UID:10916326@ezleagues.ezfacility.com
DTSTAMP:20260426T033902Z
CREATED:20260426T033902Z
DTSTART:20171202T134500Z
DTEND:20171202T142500Z
LOCATION:LG Field 1
CONTACT:
SUMMARY:ODA Lobos 08 VS. OJO De Agua Negros 09
DESCRIPTION:League Name: Boys U9/10 Rec(2009/08) - Winter 1\nGame Type: Reg
 ular\nGame Status: Complete\nHome Team: ODA Lobos 08\nAway Team: OJO De Ag
 ua Negros 09\nHome Score: 0\nAway Score: 4
END:VEVENT
BEGIN:VEVENT
UID:10916331@ezleagues.ezfacility.com
DTSTAMP:20260426T033902Z
CREATED:20260426T033902Z
DTSTART:20171209T183000Z
DTEND:20171209T191000Z
LOCATION:LG Field 1
CONTACT:
SUMMARY:OJO De Agua Negros 09 VS. Beastie Boys
DESCRIPTION:League Name: Boys U9/10 Rec(2009/08) - Winter 1\nGame Type: Reg
 ular\nGame Status: Complete\nHome Team: OJO De Agua Negros 09\nAway Team: 
 Beastie Boys\nHome Score: 5\nAway Score: 2
END:VEVENT
BEGIN:VEVENT
UID:10916336@ezleagues.ezfacility.com
DTSTAMP:20260426T033902Z
CREATED:20260426T033902Z
DTSTART:20171216T143000Z
DTEND:20171216T151000Z
LOCATION:LG Field 1
CONTACT:
SUMMARY:Lighting USC VS. OJO De Agua Negros 09
DESCRIPTION:League Name: Boys U9/10 Rec(2009/08) - Winter 1\nGame Type: Reg
 ular\nGame Status: Complete\nHome Team: Lighting USC\nAway Team: OJO De Ag
 ua Negros 09\nHome Score: 3\nAway Score: 13
END:VEVENT
BEGIN:VEVENT
UID:10916340@ezleagues.ezfacility.com
DTSTAMP:20260426T033902Z
CREATED:20260426T033902Z
DTSTART:20171223T174500Z
DTEND:20171223T182500Z
LOCATION:LG Field 1
CONTACT:
SUMMARY:Gators VS. OJO De Agua Negros 09
DESCRIPTION:League Name: Boys U9/10 Rec(2009/08) - Winter 1\nGame Type: Reg
 ular\nGame Status: Complete\nHome Team: Gators\nAway Team: OJO De Agua Neg
 ros 09\nHome Score: 0\nAway Score: 10
END:VEVENT
BEGIN:VEVENT
UID:10916351@ezleagues.ezfacility.com
DTSTAMP:20260426T033902Z
CREATED:20260426T033902Z
DTSTART:20180106T144500Z
DTEND:20180106T152500Z
LOCATION:LG Field 1
CONTACT:
SUMMARY:OJO De Agua Negros 09 VS. MC Saints 08
DESCRIPTION:League Name: Boys U9/10 Rec(2009/08) - Winter 1\nGame Type: Reg
 ular\nGame Status: Complete\nHome Team: OJO De Agua Negros 09\nAway Team: 
 MC Saints 08\nHome Score: 3\nAway Score: 3
END:VEVENT
BEGIN:VEVENT
UID:10916346@ezleagues.ezfacility.com
DTSTAMP:20260426T033902Z
CREATED:20260426T033902Z
DTSTART:20180113T143000Z
DTEND:20180113T151000Z
LOCATION:LG Field 1
CONTACT:
SUMMARY:Tigers VS. OJO De Agua Negros 09
DESCRIPTION:League Name: Boys U9/10 Rec(2009/08) - Winter 1\nGame Type: Reg
 ular\nGame Status: Complete\nHome Team: Tigers\nAway Team: OJO De Agua Neg
 ros 09\nHome Score: 1\nAway Score: 9
END:VEVENT
END:VCALENDAR
