BEGIN:VCALENDAR
VERSION:2.0
PRODID:-//EZFacility.com, Inc.//EZL 2.5.5.28621
BEGIN:VEVENT
UID:10916240@ezleagues.ezfacility.com
DTSTAMP:20260424T044223Z
CREATED:20260424T044223Z
DTSTART:20171125T191500Z
DTEND:20171125T195500Z
LOCATION:LG Field 2
CONTACT:
SUMMARY:NEOFC 08 VS. ODA Panteras
DESCRIPTION:League Name: Girls U9/10 (2009/08) - Winter 1\nGame Type: Regul
 ar\nGame Status: Complete\nHome Team: NEOFC 08\nAway Team: ODA Panteras\nH
 ome Score: 7\nAway Score: 3
END:VEVENT
BEGIN:VEVENT
UID:10916244@ezleagues.ezfacility.com
DTSTAMP:20260424T044223Z
CREATED:20260424T044223Z
DTSTART:20171202T143000Z
DTEND:20171202T151000Z
LOCATION:LG Field 2
CONTACT:
SUMMARY:Firecrackers VS. NEOFC 08
DESCRIPTION:League Name: Girls U9/10 (2009/08) - Winter 1\nGame Type: Regul
 ar\nGame Status: Complete\nHome Team: Firecrackers\nAway Team: NEOFC 08\nH
 ome Score: 0\nAway Score: 10
END:VEVENT
BEGIN:VEVENT
UID:10916247@ezleagues.ezfacility.com
DTSTAMP:20260424T044223Z
CREATED:20260424T044223Z
DTSTART:20171209T204500Z
DTEND:20171209T212500Z
LOCATION:LG Field 2
CONTACT:
SUMMARY:ODA Leonas VS. NEOFC 08
DESCRIPTION:League Name: Girls U9/10 (2009/08) - Winter 1\nGame Type: Regul
 ar\nGame Status: Complete\nHome Team: ODA Leonas\nAway Team: NEOFC 08\nHom
 e Score: 8\nAway Score: 5
END:VEVENT
BEGIN:VEVENT
UID:10916250@ezleagues.ezfacility.com
DTSTAMP:20260424T044223Z
CREATED:20260424T044223Z
DTSTART:20171216T200000Z
DTEND:20171216T204000Z
LOCATION:LG Field 2
CONTACT:
SUMMARY:Union Cheetahs VS. NEOFC 08
DESCRIPTION:League Name: Girls U9/10 (2009/08) - Winter 1\nGame Type: Regul
 ar\nGame Status: Complete\nHome Team: Union Cheetahs\nAway Team: NEOFC 08\
 nHome Score: 2\nAway Score: 12
END:VEVENT
BEGIN:VEVENT
UID:10916253@ezleagues.ezfacility.com
DTSTAMP:20260424T044223Z
CREATED:20260424T044223Z
DTSTART:20171223T183000Z
DTEND:20171223T191000Z
LOCATION:LG Field 2
CONTACT:
SUMMARY:NEOFC 08 VS. Fighting Tigers
DESCRIPTION:League Name: Girls U9/10 (2009/08) - Winter 1\nGame Type: Regul
 ar\nGame Status: Complete\nHome Team: NEOFC 08\nAway Team: Fighting Tigers
 \nHome Score: 10\nAway Score: 0
END:VEVENT
BEGIN:VEVENT
UID:10916258@ezleagues.ezfacility.com
DTSTAMP:20260424T044223Z
CREATED:20260424T044223Z
DTSTART:20171230T174500Z
DTEND:20171230T182500Z
LOCATION:LG Field 2
CONTACT:
SUMMARY:NEOFC 08 VS. Fort Gibson Tigers
DESCRIPTION:League Name: Girls U9/10 (2009/08) - Winter 1\nGame Type: Regul
 ar\nGame Status: Complete\nHome Team: NEOFC 08\nAway Team: Fort Gibson Tig
 ers\nHome Score: 1\nAway Score: 1
END:VEVENT
BEGIN:VEVENT
UID:10916263@ezleagues.ezfacility.com
DTSTAMP:20260424T044223Z
CREATED:20260424T044223Z
DTSTART:20180106T174500Z
DTEND:20180106T182500Z
LOCATION:LG Field 2
CONTACT:
SUMMARY:NEOFC 08 VS. Strikers
DESCRIPTION:League Name: Girls U9/10 (2009/08) - Winter 1\nGame Type: Regul
 ar\nGame Status: Complete\nHome Team: NEOFC 08\nAway Team: Strikers\nHome 
 Score: 2\nAway Score: 1
END:VEVENT
BEGIN:VEVENT
UID:10916235@ezleagues.ezfacility.com
DTSTAMP:20260424T044223Z
CREATED:20260424T044223Z
DTSTART:20180113T134500Z
DTEND:20180113T142500Z
LOCATION:LG Field 2
CONTACT:
SUMMARY:Strikers VS. NEOFC 08
DESCRIPTION:League Name: Girls U9/10 (2009/08) - Winter 1\nGame Type: Regul
 ar\nGame Status: Complete\nHome Team: Strikers\nAway Team: NEOFC 08\nHome 
 Score: 0\nAway Score: 7
END:VEVENT
END:VCALENDAR
