BEGIN:VCALENDAR
VERSION:2.0
PRODID:-//EZFacility.com, Inc.//EZL 2.5.5.28621
BEGIN:VEVENT
UID:10934704@ezleagues.ezfacility.com
DTSTAMP:20260424T063907Z
CREATED:20260424T063907Z
DTSTART:20171201T220000Z
DTEND:20171201T230000Z
LOCATION:Harmans Premier Field #5
CONTACT:
SUMMARY:Eagles VS. ASA Patriots
DESCRIPTION:League Name: Youth (WINTER 1) SD2 (M-F) HS Girls Div. 2\nGame T
 ype: Regular\nGame Status: Complete\nHome Team: Eagles\nAway Team: ASA Pat
 riots\nHome Score: 3\nAway Score: 6
END:VEVENT
BEGIN:VEVENT
UID:10934717@ezleagues.ezfacility.com
DTSTAMP:20260424T063907Z
CREATED:20260424T063907Z
DTSTART:20171206T223000Z
DTEND:20171206T233000Z
LOCATION:Harmans Premier Field #4
CONTACT:
SUMMARY:SEVP Fury VS. ASA Patriots
DESCRIPTION:League Name: Youth (WINTER 1) SD2 (M-F) HS Girls Div. 2\nGame T
 ype: Regular\nGame Status: Complete\nHome Team: SEVP Fury\nAway Team: ASA 
 Patriots\nHome Score: 2\nAway Score: 3
END:VEVENT
BEGIN:VEVENT
UID:10934730@ezleagues.ezfacility.com
DTSTAMP:20260424T063907Z
CREATED:20260424T063907Z
DTSTART:20171211T230000Z
DTEND:20171212T000000Z
LOCATION:Harmans Premier Field #4
CONTACT:
SUMMARY:Lady Warriors VS. ASA Patriots
DESCRIPTION:League Name: Youth (WINTER 1) SD2 (M-F) HS Girls Div. 2\nGame T
 ype: Regular\nGame Status: Complete\nHome Team: Lady Warriors\nAway Team: 
 ASA Patriots\nHome Score: 4\nAway Score: 4
END:VEVENT
BEGIN:VEVENT
UID:10934743@ezleagues.ezfacility.com
DTSTAMP:20260424T063907Z
CREATED:20260424T063907Z
DTSTART:20171219T230000Z
DTEND:20171220T000000Z
LOCATION:Jessup Premier Field #1
CONTACT:
SUMMARY:Knights VS. ASA Patriots
DESCRIPTION:League Name: Youth (WINTER 1) SD2 (M-F) HS Girls Div. 2\nGame T
 ype: Regular\nGame Status: Complete\nHome Team: Knights\nAway Team: ASA Pa
 triots\nHome Score: 2\nAway Score: 1
END:VEVENT
BEGIN:VEVENT
UID:10934773@ezleagues.ezfacility.com
DTSTAMP:20260424T063907Z
CREATED:20260424T063907Z
DTSTART:20180103T220000Z
DTEND:20180103T230000Z
LOCATION:Jessup Premier Field #2
CONTACT:
SUMMARY:ASA Patriots VS. Girls 2003 SAC Snow
DESCRIPTION:League Name: Youth (WINTER 1) SD2 (M-F) HS Girls Div. 2\nGame T
 ype: Regular\nGame Status: Complete\nHome Team: ASA Patriots\nAway Team: G
 irls 2003 SAC Snow\nHome Score: 4\nAway Score: 8
END:VEVENT
BEGIN:VEVENT
UID:10934788@ezleagues.ezfacility.com
DTSTAMP:20260424T063907Z
CREATED:20260424T063907Z
DTSTART:20180112T230000Z
DTEND:20180113T000000Z
LOCATION:Harmans Premier Field #5
CONTACT:
SUMMARY:ASA Patriots VS. Girls 2003 SAC Ghost
DESCRIPTION:League Name: Youth (WINTER 1) SD2 (M-F) HS Girls Div. 2\nGame T
 ype: Regular\nGame Status: Complete\nHome Team: ASA Patriots\nAway Team: G
 irls 2003 SAC Ghost\nHome Score: 2\nAway Score: 6
END:VEVENT
BEGIN:VEVENT
UID:10934803@ezleagues.ezfacility.com
DTSTAMP:20260424T063907Z
CREATED:20260424T063907Z
DTSTART:20180119T220000Z
DTEND:20180119T230000Z
LOCATION:Harmans Premier Field #5
CONTACT:
SUMMARY:ASA Patriots VS. Panthers
DESCRIPTION:League Name: Youth (WINTER 1) SD2 (M-F) HS Girls Div. 2\nGame T
 ype: Regular\nGame Status: Complete\nHome Team: ASA Patriots\nAway Team: P
 anthers\nHome Score: 3\nAway Score: 0
END:VEVENT
BEGIN:VEVENT
UID:10934758@ezleagues.ezfacility.com
DTSTAMP:20260424T063907Z
CREATED:20260424T063907Z
DTSTART:20180122T230000Z
DTEND:20180123T000000Z
LOCATION:Harmans Premier Field #5
CONTACT:
SUMMARY:ASA Patriots VS. Gophers
DESCRIPTION:League Name: Youth (WINTER 1) SD2 (M-F) HS Girls Div. 2\nGame T
 ype: Regular\nGame Status: Complete\nHome Team: ASA Patriots\nAway Team: G
 ophers\nHome Score: 5\nAway Score: 8
END:VEVENT
END:VCALENDAR
