BEGIN:VCALENDAR
VERSION:2.0
PRODID:-//EZFacility.com, Inc.//EZL 2.5.5.28621
BEGIN:VEVENT
UID:10957206@ezleagues.ezfacility.com
DTSTAMP:20260426T033628Z
CREATED:20260426T033628Z
DTSTART:20171202T210000Z
DTEND:20171202T215500Z
LOCATION:Harmans Premier Field #5
CONTACT:
SUMMARY:Nuria Girls '09  VS. PSC Fire
DESCRIPTION:League Name: Youth (WINTER 1) SD2 Sat/Sun 2009 U9 Girls SILVER\
 nGame Type: Regular\nGame Status: Complete\nHome Team: Nuria Girls '09 \nA
 way Team: PSC Fire\nHome Score: 7\nAway Score: 5
END:VEVENT
BEGIN:VEVENT
UID:10957251@ezleagues.ezfacility.com
DTSTAMP:20260426T033628Z
CREATED:20260426T033628Z
DTSTART:20171210T192000Z
DTEND:20171210T201500Z
LOCATION:Harmans Premier Field #5
CONTACT:
SUMMARY:Lightning Bolts VS. Nuria Girls '09 
DESCRIPTION:League Name: Youth (WINTER 1) SD2 Sat/Sun 2009 U9 Girls SILVER\
 nGame Type: Regular\nGame Status: Complete\nHome Team: Lightning Bolts\nAw
 ay Team: Nuria Girls '09 \nHome Score: 0\nAway Score: 6
END:VEVENT
BEGIN:VEVENT
UID:10957298@ezleagues.ezfacility.com
DTSTAMP:20260426T033628Z
CREATED:20260426T033628Z
DTSTART:20171216T210000Z
DTEND:20171216T215500Z
LOCATION:Harmans Premier Field #5
CONTACT:
SUMMARY:United Kicks VS. Nuria Girls '09 
DESCRIPTION:League Name: Youth (WINTER 1) SD2 Sat/Sun 2009 U9 Girls SILVER\
 nGame Type: Regular\nGame Status: Complete\nHome Team: United Kicks\nAway 
 Team: Nuria Girls '09 \nHome Score: 0\nAway Score: 8
END:VEVENT
BEGIN:VEVENT
UID:10957436@ezleagues.ezfacility.com
DTSTAMP:20260426T033628Z
CREATED:20260426T033628Z
DTSTART:20180107T220500Z
DTEND:20180107T230000Z
LOCATION:Harmans Premier Field #4
CONTACT:
SUMMARY:Nuria Girls '09  VS. United Kicks
DESCRIPTION:League Name: Youth (WINTER 1) SD2 Sat/Sun 2009 U9 Girls SILVER\
 nGame Type: Regular\nGame Status: Complete\nHome Team: Nuria Girls '09 \nA
 way Team: United Kicks\nHome Score: 5\nAway Score: 0
END:VEVENT
BEGIN:VEVENT
UID:10957482@ezleagues.ezfacility.com
DTSTAMP:20260426T033628Z
CREATED:20260426T033628Z
DTSTART:20180115T180000Z
DTEND:20180115T185500Z
LOCATION:Harmans Premier Field #5
CONTACT:
SUMMARY:PSC Fire VS. Nuria Girls '09 
DESCRIPTION:League Name: Youth (WINTER 1) SD2 Sat/Sun 2009 U9 Girls SILVER\
 nGame Type: Regular\nGame Status: Complete\nHome Team: PSC Fire\nAway Team
 : Nuria Girls '09 \nHome Score: 1\nAway Score: 6
END:VEVENT
BEGIN:VEVENT
UID:10957527@ezleagues.ezfacility.com
DTSTAMP:20260426T033628Z
CREATED:20260426T033628Z
DTSTART:20180120T200000Z
DTEND:20180120T205500Z
LOCATION:Harmans Premier Field #5
CONTACT:
SUMMARY:Nuria Girls '09  VS. Lightning Bolts
DESCRIPTION:League Name: Youth (WINTER 1) SD2 Sat/Sun 2009 U9 Girls SILVER\
 nGame Type: Regular\nGame Status: Complete\nHome Team: Nuria Girls '09 \nA
 way Team: Lightning Bolts\nHome Score: 3\nAway Score: 2
END:VEVENT
BEGIN:VEVENT
UID:10957344@ezleagues.ezfacility.com
DTSTAMP:20260426T033628Z
CREATED:20260426T033628Z
DTSTART:20180128T201500Z
DTEND:20180128T211000Z
LOCATION:Harmans Premier Field #4
CONTACT:
SUMMARY:PSC Fire VS. Nuria Girls '09 
DESCRIPTION:League Name: Youth (WINTER 1) SD2 Sat/Sun 2009 U9 Girls SILVER\
 nGame Type: Regular\nGame Status: Complete\nHome Team: PSC Fire\nAway Team
 : Nuria Girls '09 \nHome Score: 0\nAway Score: 5
END:VEVENT
BEGIN:VEVENT
UID:10957389@ezleagues.ezfacility.com
DTSTAMP:20260426T033628Z
CREATED:20260426T033628Z
DTSTART:20180204T144500Z
DTEND:20180204T154000Z
LOCATION:Harmans Premier Field #5
CONTACT:
SUMMARY:Nuria Girls '09  VS. Lightning Bolts
DESCRIPTION:League Name: Youth (WINTER 1) SD2 Sat/Sun 2009 U9 Girls SILVER\
 nGame Type: Regular\nGame Status: Complete\nHome Team: Nuria Girls '09 \nA
 way Team: Lightning Bolts\nHome Score: 8\nAway Score: 1
END:VEVENT
END:VCALENDAR
