BEGIN:VCALENDAR
VERSION:2.0
PRODID:-//EZFacility.com, Inc.//EZL 2.5.5.28621
BEGIN:VEVENT
UID:10957170@ezleagues.ezfacility.com
DTSTAMP:20260426T033654Z
CREATED:20260426T033654Z
DTSTART:20171202T150000Z
DTEND:20171202T155500Z
LOCATION:Jessup Premier Field #2
CONTACT:
SUMMARY:ASA Thunder Red VS. Pipeline 2008 Black
DESCRIPTION:League Name: Youth (WINTER 1) SD2 Sat/Sun 2008 U10 Girls GOLD\n
 Game Type: Regular\nGame Status: Complete\nHome Team: ASA Thunder Red\nAwa
 y Team: Pipeline 2008 Black\nHome Score: 0\nAway Score: 3
END:VEVENT
BEGIN:VEVENT
UID:10957216@ezleagues.ezfacility.com
DTSTAMP:20260426T033654Z
CREATED:20260426T033654Z
DTSTART:20171209T130000Z
DTEND:20171209T135500Z
LOCATION:Harmans Premier Field #5
CONTACT:
SUMMARY:Pipeline 2008 Black VS. ASA Thunder Blue
DESCRIPTION:League Name: Youth (WINTER 1) SD2 Sat/Sun 2008 U10 Girls GOLD\n
 Game Type: Regular\nGame Status: Complete\nHome Team: Pipeline 2008 Black\
 nAway Team: ASA Thunder Blue\nHome Score: 7\nAway Score: 0
END:VEVENT
BEGIN:VEVENT
UID:10957261@ezleagues.ezfacility.com
DTSTAMP:20260426T033654Z
CREATED:20260426T033654Z
DTSTART:20171216T140000Z
DTEND:20171216T145500Z
LOCATION:Harmans Premier Field #4
CONTACT:
SUMMARY:Pipeline 2008 Black VS. Pipeline 2008 Red
DESCRIPTION:League Name: Youth (WINTER 1) SD2 Sat/Sun 2008 U10 Girls GOLD\n
 Game Type: Regular\nGame Status: Complete\nHome Team: Pipeline 2008 Black\
 nAway Team: Pipeline 2008 Red\nHome Score: 9\nAway Score: 1
END:VEVENT
BEGIN:VEVENT
UID:10957400@ezleagues.ezfacility.com
DTSTAMP:20260426T033654Z
CREATED:20260426T033654Z
DTSTART:20180107T163500Z
DTEND:20180107T173000Z
LOCATION:Harmans Premier Field #5
CONTACT:
SUMMARY:Pipeline 2008 Black VS. ASA Thunder Red
DESCRIPTION:League Name: Youth (WINTER 1) SD2 Sat/Sun 2008 U10 Girls GOLD\n
 Game Type: Regular\nGame Status: Complete\nHome Team: Pipeline 2008 Black\
 nAway Team: ASA Thunder Red\nHome Score: 9\nAway Score: 2
END:VEVENT
BEGIN:VEVENT
UID:10957446@ezleagues.ezfacility.com
DTSTAMP:20260426T033654Z
CREATED:20260426T033654Z
DTSTART:20180113T180000Z
DTEND:20180113T185500Z
LOCATION:Harmans Premier Field #5
CONTACT:
SUMMARY:ASA Thunder Blue VS. Pipeline 2008 Black
DESCRIPTION:League Name: Youth (WINTER 1) SD2 Sat/Sun 2008 U10 Girls GOLD\n
 Game Type: Regular\nGame Status: Complete\nHome Team: ASA Thunder Blue\nAw
 ay Team: Pipeline 2008 Black\nHome Score: 1\nAway Score: 6
END:VEVENT
BEGIN:VEVENT
UID:10957491@ezleagues.ezfacility.com
DTSTAMP:20260426T033654Z
CREATED:20260426T033654Z
DTSTART:20180120T190000Z
DTEND:20180120T195500Z
LOCATION:Harmans Premier Field #4
CONTACT:
SUMMARY:Pipeline 2008 Red VS. Pipeline 2008 Black
DESCRIPTION:League Name: Youth (WINTER 1) SD2 Sat/Sun 2008 U10 Girls GOLD\n
 Game Type: Regular\nGame Status: Complete\nHome Team: Pipeline 2008 Red\nA
 way Team: Pipeline 2008 Black\nHome Score: 1\nAway Score: 9
END:VEVENT
BEGIN:VEVENT
UID:10957306@ezleagues.ezfacility.com
DTSTAMP:20260426T033654Z
CREATED:20260426T033654Z
DTSTART:20180127T160000Z
DTEND:20180127T165500Z
LOCATION:Harmans Premier Field #5
CONTACT:
SUMMARY:SPGH Stingrays VS. Pipeline 2008 Black
DESCRIPTION:League Name: Youth (WINTER 1) SD2 Sat/Sun 2008 U10 Girls GOLD\n
 Game Type: Regular\nGame Status: Complete\nHome Team: SPGH Stingrays\nAway
  Team: Pipeline 2008 Black\nHome Score: 0\nAway Score: 8
END:VEVENT
BEGIN:VEVENT
UID:10957353@ezleagues.ezfacility.com
DTSTAMP:20260426T033654Z
CREATED:20260426T033654Z
DTSTART:20180203T160000Z
DTEND:20180203T165500Z
LOCATION:Harmans Premier Field #4
CONTACT:
SUMMARY:Pipeline 2008 Black VS. Pipeline 2009 Black
DESCRIPTION:League Name: Youth (WINTER 1) SD2 Sat/Sun 2008 U10 Girls GOLD\n
 Game Type: Regular\nGame Status: Complete\nHome Team: Pipeline 2008 Black\
 nAway Team: Pipeline 2009 Black\nHome Score: 3\nAway Score: 4
END:VEVENT
END:VCALENDAR
