BEGIN:VCALENDAR
VERSION:2.0
PRODID:-//EZFacility.com, Inc.//EZL 2.5.5.28621
BEGIN:VEVENT
UID:10972624@ezleagues.ezfacility.com
DTSTAMP:20260424T044114Z
CREATED:20260424T044114Z
DTSTART:20171202T184000Z
DTEND:20171202T194000Z
LOCATION:Littlestown Basketball Courts
CONTACT:
SUMMARY:Shooting Stars Boys- Kramer VS. Shooting Stars Boys-Grap
DESCRIPTION:League Name: Future Stars 2017\nGame Type: Regular\nGame Status
 : Pending\nHome Team: Shooting Stars Boys- Kramer\nAway Team: Shooting Sta
 rs Boys-Grap\n
END:VEVENT
BEGIN:VEVENT
UID:10972628@ezleagues.ezfacility.com
DTSTAMP:20260424T044114Z
CREATED:20260424T044114Z
DTSTART:20171202T190500Z
DTEND:20171202T200500Z
LOCATION:Littlestown Basketball Courts
CONTACT:
SUMMARY:Shooting Stars Boys- Lewis VS. Shooting Stars Boys-Grap
DESCRIPTION:League Name: Future Stars 2017\nGame Type: Regular\nGame Status
 : Pending\nHome Team: Shooting Stars Boys- Lewis\nAway Team: Shooting Star
 s Boys-Grap\n
END:VEVENT
BEGIN:VEVENT
UID:10972728@ezleagues.ezfacility.com
DTSTAMP:20260424T044114Z
CREATED:20260424T044114Z
DTSTART:20171209T185500Z
DTEND:20171209T195500Z
LOCATION:Littlestown Basketball Courts
CONTACT:
SUMMARY:Shooting Stars-HYC  VS. Shooting Stars Boys-Grap
DESCRIPTION:League Name: Future Stars 2017\nGame Type: Regular\nGame Status
 : Pending\nHome Team: Shooting Stars-HYC \nAway Team: Shooting Stars Boys-
 Grap\n
END:VEVENT
BEGIN:VEVENT
UID:10972730@ezleagues.ezfacility.com
DTSTAMP:20260424T044114Z
CREATED:20260424T044114Z
DTSTART:20171209T192000Z
DTEND:20171209T202000Z
LOCATION:Littlestown Basketball Courts
CONTACT:
SUMMARY:Shooting Stars Boys- Lewis VS. Shooting Stars Boys-Grap
DESCRIPTION:League Name: Future Stars 2017\nGame Type: Regular\nGame Status
 : Pending\nHome Team: Shooting Stars Boys- Lewis\nAway Team: Shooting Star
 s Boys-Grap\n
END:VEVENT
BEGIN:VEVENT
UID:10972743@ezleagues.ezfacility.com
DTSTAMP:20260424T044114Z
CREATED:20260424T044114Z
DTSTART:20171216T194500Z
DTEND:20171216T204500Z
LOCATION:Littlestown Basketball Courts
CONTACT:
SUMMARY:Shooting Stars-HYC  VS. Shooting Stars Boys-Grap
DESCRIPTION:League Name: Future Stars 2017\nGame Type: Regular\nGame Status
 : Pending\nHome Team: Shooting Stars-HYC \nAway Team: Shooting Stars Boys-
 Grap\n
END:VEVENT
BEGIN:VEVENT
UID:10972748@ezleagues.ezfacility.com
DTSTAMP:20260424T044114Z
CREATED:20260424T044114Z
DTSTART:20171230T183000Z
DTEND:20171230T193000Z
LOCATION:Littlestown Basketball Courts
CONTACT:
SUMMARY:Shooting Stars Boys-Grap VS. Shooting Stars Boys- Edwards
DESCRIPTION:League Name: Future Stars 2017\nGame Type: Regular\nGame Status
 : Pending\nHome Team: Shooting Stars Boys-Grap\nAway Team: Shooting Stars 
 Boys- Edwards\n
END:VEVENT
BEGIN:VEVENT
UID:10972750@ezleagues.ezfacility.com
DTSTAMP:20260424T044114Z
CREATED:20260424T044114Z
DTSTART:20171230T192000Z
DTEND:20171230T202000Z
LOCATION:Littlestown Basketball Courts
CONTACT:
SUMMARY:Shooting Stars Boys-Grap VS. Shooting Stars-HYC 
DESCRIPTION:League Name: Future Stars 2017\nGame Type: Regular\nGame Status
 : Pending\nHome Team: Shooting Stars Boys-Grap\nAway Team: Shooting Stars-
 HYC \n
END:VEVENT
BEGIN:VEVENT
UID:10973049@ezleagues.ezfacility.com
DTSTAMP:20260424T044114Z
CREATED:20260424T044114Z
DTSTART:20180106T193000Z
DTEND:20180106T203000Z
LOCATION:Littlestown Basketball Courts
CONTACT:
SUMMARY:Shooting Stars Boys- Lewis VS. Shooting Stars Boys-Grap
DESCRIPTION:League Name: Future Stars 2017\nGame Type: Regular\nGame Status
 : Pending\nHome Team: Shooting Stars Boys- Lewis\nAway Team: Shooting Star
 s Boys-Grap\n
END:VEVENT
BEGIN:VEVENT
UID:10973131@ezleagues.ezfacility.com
DTSTAMP:20260424T044114Z
CREATED:20260424T044114Z
DTSTART:20180113T205500Z
DTEND:20180113T215500Z
LOCATION:Littlestown Basketball Courts
CONTACT:
SUMMARY:Shooting Stars Boys- Kramer VS. Shooting Stars Boys-Grap
DESCRIPTION:League Name: Future Stars 2017\nGame Type: Regular\nGame Status
 : Pending\nHome Team: Shooting Stars Boys- Kramer\nAway Team: Shooting Sta
 rs Boys-Grap\n
END:VEVENT
BEGIN:VEVENT
UID:10973132@ezleagues.ezfacility.com
DTSTAMP:20260424T044114Z
CREATED:20260424T044114Z
DTSTART:20180113T212000Z
DTEND:20180113T222000Z
LOCATION:Littlestown Basketball Courts
CONTACT:
SUMMARY:Shooting Stars-HYC  VS. Shooting Stars Boys-Grap
DESCRIPTION:League Name: Future Stars 2017\nGame Type: Regular\nGame Status
 : Pending\nHome Team: Shooting Stars-HYC \nAway Team: Shooting Stars Boys-
 Grap\n
END:VEVENT
BEGIN:VEVENT
UID:10973136@ezleagues.ezfacility.com
DTSTAMP:20260424T044114Z
CREATED:20260424T044114Z
DTSTART:20180120T193000Z
DTEND:20180120T203000Z
LOCATION:Littlestown Basketball Courts
CONTACT:
SUMMARY:Shooting Stars Boys- Edwards VS. Shooting Stars Boys-Grap
DESCRIPTION:League Name: Future Stars 2017\nGame Type: Regular\nGame Status
 : Pending\nHome Team: Shooting Stars Boys- Edwards\nAway Team: Shooting St
 ars Boys-Grap\n
END:VEVENT
BEGIN:VEVENT
UID:10973205@ezleagues.ezfacility.com
DTSTAMP:20260424T044114Z
CREATED:20260424T044114Z
DTSTART:20180127T205500Z
DTEND:20180127T215500Z
LOCATION:Littlestown Basketball Courts
CONTACT:
SUMMARY:Shooting Stars Boys- Lewis VS. Shooting Stars Boys-Grap
DESCRIPTION:League Name: Future Stars 2017\nGame Type: Regular\nGame Status
 : Pending\nHome Team: Shooting Stars Boys- Lewis\nAway Team: Shooting Star
 s Boys-Grap\n
END:VEVENT
BEGIN:VEVENT
UID:10973206@ezleagues.ezfacility.com
DTSTAMP:20260424T044114Z
CREATED:20260424T044114Z
DTSTART:20180127T212000Z
DTEND:20180127T222000Z
LOCATION:Littlestown Basketball Courts
CONTACT:
SUMMARY:Shooting Stars Boys- Edwards VS. Shooting Stars Boys-Grap
DESCRIPTION:League Name: Future Stars 2017\nGame Type: Regular\nGame Status
 : Pending\nHome Team: Shooting Stars Boys- Edwards\nAway Team: Shooting St
 ars Boys-Grap\n
END:VEVENT
END:VCALENDAR
