BEGIN:VCALENDAR
VERSION:2.0
PRODID:-//EZFacility.com, Inc.//EZL 2.5.5.28621
BEGIN:VEVENT
UID:11188188@ezleagues.ezfacility.com
DTSTAMP:20260426T034114Z
CREATED:20260426T034114Z
DTSTART:20180210T120000Z
DTEND:20180210T125500Z
LOCATION:Jessup Premier Field #1
CONTACT:
SUMMARY:ASA Blue Lighting VS. SAC Select Boin
DESCRIPTION:League Name: Youth (WINTER 2) SD1 Sat/Sun 2005 Boys BRONZE\nGam
 e Type: Regular\nGame Status: Complete\nHome Team: ASA Blue Lighting\nAway
  Team: SAC Select Boin\nHome Score: 0\nAway Score: 8
END:VEVENT
BEGIN:VEVENT
UID:11188223@ezleagues.ezfacility.com
DTSTAMP:20260426T034114Z
CREATED:20260426T034114Z
DTSTART:20180217T154000Z
DTEND:20180217T163500Z
LOCATION:Jessup Premier Field #2
CONTACT:
SUMMARY:ASA Galaxy VS. ASA Blue Lighting
DESCRIPTION:League Name: Youth (WINTER 2) SD1 Sat/Sun 2005 Boys BRONZE\nGam
 e Type: Regular\nGame Status: Complete\nHome Team: ASA Galaxy\nAway Team: 
 ASA Blue Lighting\nHome Score: 3\nAway Score: 0
END:VEVENT
BEGIN:VEVENT
UID:11188260@ezleagues.ezfacility.com
DTSTAMP:20260426T034114Z
CREATED:20260426T034114Z
DTSTART:20180224T182500Z
DTEND:20180224T192000Z
LOCATION:Jessup Premier Field #1
CONTACT:
SUMMARY:SAC Select Gladiators VS. ASA Blue Lighting
DESCRIPTION:League Name: Youth (WINTER 2) SD1 Sat/Sun 2005 Boys BRONZE\nGam
 e Type: Regular\nGame Status: Complete\nHome Team: SAC Select Gladiators\n
 Away Team: ASA Blue Lighting\nHome Score: 3\nAway Score: 2
END:VEVENT
BEGIN:VEVENT
UID:11188296@ezleagues.ezfacility.com
DTSTAMP:20260426T034114Z
CREATED:20260426T034114Z
DTSTART:20180303T220500Z
DTEND:20180303T230000Z
LOCATION:Jessup Premier Field #1
CONTACT:
SUMMARY:SAC Select Boin VS. ASA Blue Lighting
DESCRIPTION:League Name: Youth (WINTER 2) SD1 Sat/Sun 2005 Boys BRONZE\nGam
 e Type: Regular\nGame Status: Complete\nHome Team: SAC Select Boin\nAway T
 eam: ASA Blue Lighting\nHome Score: 10\nAway Score: 3
END:VEVENT
BEGIN:VEVENT
UID:11188331@ezleagues.ezfacility.com
DTSTAMP:20260426T034114Z
CREATED:20260426T034114Z
DTSTART:20180310T211000Z
DTEND:20180310T220500Z
LOCATION:Jessup Premier Field #2
CONTACT:
SUMMARY:ASA Blue Lighting VS. ASA Galaxy
DESCRIPTION:League Name: Youth (WINTER 2) SD1 Sat/Sun 2005 Boys BRONZE\nGam
 e Type: Regular\nGame Status: Complete\nHome Team: ASA Blue Lighting\nAway
  Team: ASA Galaxy\nHome Score: 0\nAway Score: 6
END:VEVENT
BEGIN:VEVENT
UID:11188368@ezleagues.ezfacility.com
DTSTAMP:20260426T034114Z
CREATED:20260426T034114Z
DTSTART:20180318T180000Z
DTEND:20180318T185500Z
LOCATION:Jessup Premier Field #1
CONTACT:
SUMMARY:ASA Blue Lighting VS. SAC Select Gladiators
DESCRIPTION:League Name: Youth (WINTER 2) SD1 Sat/Sun 2005 Boys BRONZE\nGam
 e Type: Regular\nGame Status: Complete\nHome Team: ASA Blue Lighting\nAway
  Team: SAC Select Gladiators\nHome Score: 0\nAway Score: 8
END:VEVENT
BEGIN:VEVENT
UID:11188404@ezleagues.ezfacility.com
DTSTAMP:20260426T034114Z
CREATED:20260426T034114Z
DTSTART:20180324T163000Z
DTEND:20180324T172500Z
LOCATION:Jessup Premier Field #2
CONTACT:
SUMMARY:Scrimmage VS. ASA Blue Lighting
DESCRIPTION:League Name: Youth (WINTER 2) SD1 Sat/Sun 2005 Boys BRONZE\nGam
 e Type: Regular\nGame Status: Complete\nHome Team: Scrimmage\nAway Team: A
 SA Blue Lighting\nHome Score: 0\nAway Score: 3
END:VEVENT
END:VCALENDAR
