BEGIN:VCALENDAR
VERSION:2.0
PRODID:-//EZFacility.com, Inc.//EZL 2.5.5.28621
BEGIN:VEVENT
UID:11145939@ezleagues.ezfacility.com
DTSTAMP:20260421T142222Z
CREATED:20260421T142222Z
DTSTART:20180127T123000Z
DTEND:20180127T132200Z
LOCATION:Field   ID 3
CONTACT:
SUMMARY:Club Phoenix VS. Orange Crush
DESCRIPTION:League Name: Winter Indoor 2018 Girl's U-08\nGame Type: Regular
 \nGame Status: Complete\nHome Team: Club Phoenix\nAway Team: Orange Crush\
 nHome Score: 2\nAway Score: 11
END:VEVENT
BEGIN:VEVENT
UID:11146060@ezleagues.ezfacility.com
DTSTAMP:20260421T142222Z
CREATED:20260421T142222Z
DTSTART:20180203T132200Z
DTEND:20180203T141400Z
LOCATION:Field   ID 2
CONTACT:
SUMMARY:Orange Crush VS. SF Academy GU8 
DESCRIPTION:League Name: Winter Indoor 2018 Girl's U-08\nGame Type: Regular
 \nGame Status: Complete\nHome Team: Orange Crush\nAway Team: SF Academy GU
 8 \nHome Score: 9\nAway Score: 1
END:VEVENT
BEGIN:VEVENT
UID:11146059@ezleagues.ezfacility.com
DTSTAMP:20260421T142222Z
CREATED:20260421T142222Z
DTSTART:20180210T123000Z
DTEND:20180210T132200Z
LOCATION:_
CONTACT:
SUMMARY:Orange Crush VS. U7 Killer Bees
DESCRIPTION:League Name: Winter Indoor 2018 Girl's U-08\nGame Type: Regular
 \nGame Status: Complete\nHome Team: Orange Crush\nAway Team: U7 Killer Bee
 s\nHome Score: 3\nAway Score: 3
END:VEVENT
BEGIN:VEVENT
UID:11147085@ezleagues.ezfacility.com
DTSTAMP:20260421T142222Z
CREATED:20260421T142222Z
DTSTART:20180217T132200Z
DTEND:20180217T141400Z
LOCATION:_
CONTACT:
SUMMARY:Buckeye’s VS. Orange Crush
DESCRIPTION:League Name: Winter Indoor 2018 Girl's U-08\nGame Type: Regular
 \nGame Status: Complete\nHome Team: Buckeye’s\nAway Team: Orange Crush\n
 Home Score: 0\nAway Score: 10
END:VEVENT
BEGIN:VEVENT
UID:11148745@ezleagues.ezfacility.com
DTSTAMP:20260421T142222Z
CREATED:20260421T142222Z
DTSTART:20180303T132200Z
DTEND:20180303T141400Z
LOCATION:_
CONTACT:
SUMMARY:SF Academy GU8  VS. Orange Crush
DESCRIPTION:League Name: Winter Indoor 2018 Girl's U-08\nGame Type: Regular
 \nGame Status: Complete\nHome Team: SF Academy GU8 \nAway Team: Orange Cru
 sh\nHome Score: 2\nAway Score: 10
END:VEVENT
BEGIN:VEVENT
UID:11148603@ezleagues.ezfacility.com
DTSTAMP:20260421T142222Z
CREATED:20260421T142222Z
DTSTART:20180310T141400Z
DTEND:20180310T150600Z
LOCATION:_
CONTACT:
SUMMARY:U7 Killer Bees VS. Orange Crush
DESCRIPTION:League Name: Winter Indoor 2018 Girl's U-08\nGame Type: Regular
 \nGame Status: Complete\nHome Team: U7 Killer Bees\nAway Team: Orange Crus
 h\nHome Score: 0\nAway Score: 12
END:VEVENT
BEGIN:VEVENT
UID:11148746@ezleagues.ezfacility.com
DTSTAMP:20260421T142222Z
CREATED:20260421T142222Z
DTSTART:20180317T122200Z
DTEND:20180317T131400Z
LOCATION:_
CONTACT:
SUMMARY:Orange Crush VS. Buckeye’s
DESCRIPTION:League Name: Winter Indoor 2018 Girl's U-08\nGame Type: Regular
 \nGame Status: Complete\nHome Team: Orange Crush\nAway Team: Buckeye’s\n
 Home Score: 11\nAway Score: 1
END:VEVENT
BEGIN:VEVENT
UID:11148748@ezleagues.ezfacility.com
DTSTAMP:20260421T142222Z
CREATED:20260421T142222Z
DTSTART:20180324T131400Z
DTEND:20180324T140600Z
LOCATION:Field   ID 1
CONTACT:
SUMMARY:Orange Crush VS. Club Phoenix
DESCRIPTION:League Name: Winter Indoor 2018 Girl's U-08\nGame Type: Regular
 \nGame Status: Complete\nHome Team: Orange Crush\nAway Team: Club Phoenix\
 nHome Score: 6\nAway Score: 3
END:VEVENT
BEGIN:VEVENT
UID:11154387@ezleagues.ezfacility.com
DTSTAMP:20260421T142222Z
CREATED:20260421T142222Z
DTSTART:20180331T131400Z
DTEND:20180331T140600Z
LOCATION:_
CONTACT:
SUMMARY:Orange Crush VS. SF Academy GU8 
DESCRIPTION:League Name: Winter Indoor 2018 Girl's U-08\nGame Type: Regular
 \nGame Status: Complete\nHome Team: Orange Crush\nAway Team: SF Academy GU
 8 \nHome Score: 7\nAway Score: 1
END:VEVENT
END:VCALENDAR
