BEGIN:VCALENDAR
VERSION:2.0
PRODID:-//EZFacility.com, Inc.//EZL 2.5.5.28621
BEGIN:VEVENT
UID:11092197@ezleagues.ezfacility.com
DTSTAMP:20260423T161340Z
CREATED:20260423T161340Z
DTSTART:20180114T020000Z
DTEND:20180114T030000Z
LOCATION:Field 1- South
CONTACT:Carver\, Sanchez
SUMMARY:Lititz Edge VS. Biglerville 2
DESCRIPTION:League Name: BU19\nGame Type: Regular\nGame Status: Complete\nH
 ome Team: Lititz Edge\nAway Team: Biglerville 2\nHome Score: 9\nAway Score
 : 4
END:VEVENT
BEGIN:VEVENT
UID:11092281@ezleagues.ezfacility.com
DTSTAMP:20260423T161340Z
CREATED:20260423T161340Z
DTSTART:20180121T010000Z
DTEND:20180121T020000Z
LOCATION:Field 1- South
CONTACT:Carver\, Sanchez
SUMMARY:Lititz Edge VS. Mustangs
DESCRIPTION:League Name: BU19\nGame Type: Regular\nGame Status: Complete\nH
 ome Team: Lititz Edge\nAway Team: Mustangs\nHome Score: 8\nAway Score: 11
END:VEVENT
BEGIN:VEVENT
UID:11092373@ezleagues.ezfacility.com
DTSTAMP:20260423T161340Z
CREATED:20260423T161340Z
DTSTART:20180128T000000Z
DTEND:20180128T010000Z
LOCATION:Field 2 - South
CONTACT:Burbage\, Preston
SUMMARY:Lititz Edge VS. New Oxford
DESCRIPTION:League Name: BU19\nGame Type: Regular\nGame Status: Complete\nH
 ome Team: Lititz Edge\nAway Team: New Oxford\nHome Score: 12\nAway Score: 
 6
END:VEVENT
BEGIN:VEVENT
UID:11092487@ezleagues.ezfacility.com
DTSTAMP:20260423T161340Z
CREATED:20260423T161340Z
DTSTART:20180204T000000Z
DTEND:20180204T010000Z
LOCATION:Field 1- South
CONTACT:Carver\, Preston
SUMMARY:Lititz Edge VS. HSC RDU 02
DESCRIPTION:League Name: BU19\nGame Type: Regular\nGame Status: Complete\nH
 ome Team: Lititz Edge\nAway Team: HSC RDU 02\nHome Score: 11\nAway Score: 
 3
END:VEVENT
BEGIN:VEVENT
UID:11092801@ezleagues.ezfacility.com
DTSTAMP:20260423T161340Z
CREATED:20260423T161340Z
DTSTART:20180211T000000Z
DTEND:20180211T010000Z
LOCATION:Field 1- South
CONTACT:Carver\, Geho
SUMMARY:Lititz Edge VS. Colonials
DESCRIPTION:League Name: BU19\nGame Type: Regular\nGame Status: Complete\nH
 ome Team: Lititz Edge\nAway Team: Colonials\nHome Score: 7\nAway Score: 2
END:VEVENT
BEGIN:VEVENT
UID:11108425@ezleagues.ezfacility.com
DTSTAMP:20260423T161340Z
CREATED:20260423T161340Z
DTSTART:20180225T010000Z
DTEND:20180225T020000Z
LOCATION:Field 1- South
CONTACT:Carver\, Sanchez
SUMMARY:Toros FC VS. Lititz Edge
DESCRIPTION:League Name: BU19\nGame Type: Regular\nGame Status: Complete\nH
 ome Team: Toros FC\nAway Team: Lititz Edge\nHome Score: 6\nAway Score: 2
END:VEVENT
BEGIN:VEVENT
UID:11093505@ezleagues.ezfacility.com
DTSTAMP:20260423T161340Z
CREATED:20260423T161340Z
DTSTART:20180303T000000Z
DTEND:20180303T010000Z
LOCATION:Field 2 - South
CONTACT:Carver\, Preston
SUMMARY:Lititz Edge VS. Biglerville
DESCRIPTION:League Name: BU19\nGame Type: Regular\nGame Status: Complete\nH
 ome Team: Lititz Edge\nAway Team: Biglerville\nHome Score: 10\nAway Score:
  5
END:VEVENT
BEGIN:VEVENT
UID:11108590@ezleagues.ezfacility.com
DTSTAMP:20260423T161340Z
CREATED:20260423T161340Z
DTSTART:20180304T010000Z
DTEND:20180304T020000Z
LOCATION:Field 2 - South
CONTACT:Miller\, Preston
SUMMARY:Lititz Edge VS. ABCDE FC
DESCRIPTION:League Name: BU19\nGame Type: Regular\nGame Status: Complete\nH
 ome Team: Lititz Edge\nAway Team: ABCDE FC\nHome Score: 1\nAway Score: 11
END:VEVENT
BEGIN:VEVENT
UID:11092831@ezleagues.ezfacility.com
DTSTAMP:20260423T161340Z
CREATED:20260423T161340Z
DTSTART:20180304T020000Z
DTEND:20180304T030000Z
LOCATION:Field 2 - South
CONTACT:Miller\, Preston
SUMMARY:Lititz Edge VS. Hanover Nighthawks
DESCRIPTION:League Name: BU19\nGame Type: Regular\nGame Status: Complete\nH
 ome Team: Lititz Edge\nAway Team: Hanover Nighthawks\nHome Score: 9\nAway 
 Score: 4
END:VEVENT
END:VCALENDAR
