BEGIN:VCALENDAR
VERSION:2.0
PRODID:-//EZFacility.com, Inc.//EZL 2.5.5.28621
BEGIN:VEVENT
UID:11188186@ezleagues.ezfacility.com
DTSTAMP:20260426T035114Z
CREATED:20260426T035114Z
DTSTART:20180211T140000Z
DTEND:20180211T145500Z
LOCATION:Jessup Premier Field #1
CONTACT:
SUMMARY:SAC Lightning FC VS. FC TW
DESCRIPTION:League Name: Youth (WINTER 2) SD1 Sat/Sun 2007 Boys BRONZE\nGam
 e Type: Regular\nGame Status: Complete\nHome Team: SAC Lightning FC\nAway 
 Team: FC TW\nHome Score: 0\nAway Score: 4
END:VEVENT
BEGIN:VEVENT
UID:11188221@ezleagues.ezfacility.com
DTSTAMP:20260426T035114Z
CREATED:20260426T035114Z
DTSTART:20180217T201500Z
DTEND:20180217T211000Z
LOCATION:Jessup Premier Field #2
CONTACT:
SUMMARY:DAA Gators 2007 White VS. FC TW
DESCRIPTION:League Name: Youth (WINTER 2) SD1 Sat/Sun 2007 Boys BRONZE\nGam
 e Type: Regular\nGame Status: Complete\nHome Team: DAA Gators 2007 White\n
 Away Team: FC TW\nHome Score: 2\nAway Score: 2
END:VEVENT
BEGIN:VEVENT
UID:11188402@ezleagues.ezfacility.com
DTSTAMP:20260426T035114Z
CREATED:20260426T035114Z
DTSTART:20180219T182500Z
DTEND:20180219T192000Z
LOCATION:Jessup Premier Field #2
CONTACT:
SUMMARY:FC TW VS. PSC
DESCRIPTION:League Name: Youth (WINTER 2) SD1 Sat/Sun 2007 Boys BRONZE\nGam
 e Type: Regular\nGame Status: Complete\nHome Team: FC TW\nAway Team: PSC\n
 Home Score: 6\nAway Score: 3
END:VEVENT
BEGIN:VEVENT
UID:11188256@ezleagues.ezfacility.com
DTSTAMP:20260426T035114Z
CREATED:20260426T035114Z
DTSTART:20180224T125500Z
DTEND:20180224T135000Z
LOCATION:Jessup Premier Field #2
CONTACT:
SUMMARY:ASA FC United 07 VS. FC TW
DESCRIPTION:League Name: Youth (WINTER 2) SD1 Sat/Sun 2007 Boys BRONZE\nGam
 e Type: Regular\nGame Status: Complete\nHome Team: ASA FC United 07\nAway 
 Team: FC TW\nHome Score: 4\nAway Score: 3
END:VEVENT
BEGIN:VEVENT
UID:11188291@ezleagues.ezfacility.com
DTSTAMP:20260426T035114Z
CREATED:20260426T035114Z
DTSTART:20180303T211000Z
DTEND:20180303T220500Z
LOCATION:Jessup Premier Field #1
CONTACT:
SUMMARY:FC TW VS. GSP Select Green
DESCRIPTION:League Name: Youth (WINTER 2) SD1 Sat/Sun 2007 Boys BRONZE\nGam
 e Type: Regular\nGame Status: Complete\nHome Team: FC TW\nAway Team: GSP S
 elect Green\nHome Score: 6\nAway Score: 3
END:VEVENT
BEGIN:VEVENT
UID:11188328@ezleagues.ezfacility.com
DTSTAMP:20260426T035114Z
CREATED:20260426T035114Z
DTSTART:20180311T130000Z
DTEND:20180311T135500Z
LOCATION:Jessup Premier Field #2
CONTACT:
SUMMARY:FC TW VS. JESTERS
DESCRIPTION:League Name: Youth (WINTER 2) SD1 Sat/Sun 2007 Boys BRONZE\nGam
 e Type: Regular\nGame Status: Complete\nHome Team: FC TW\nAway Team: JESTE
 RS\nHome Score: 3\nAway Score: 3
END:VEVENT
BEGIN:VEVENT
UID:11188365@ezleagues.ezfacility.com
DTSTAMP:20260426T035114Z
CREATED:20260426T035114Z
DTSTART:20180317T191500Z
DTEND:20180317T200300Z
LOCATION:Jessup Premier Field #1
CONTACT:
SUMMARY:FC TW VS. SAC Barca-Bees
DESCRIPTION:League Name: Youth (WINTER 2) SD1 Sat/Sun 2007 Boys BRONZE\nGam
 e Type: Regular\nGame Status: Complete\nHome Team: FC TW\nAway Team: SAC B
 arca-Bees\nHome Score: 4\nAway Score: 2
END:VEVENT
END:VCALENDAR
