BEGIN:VCALENDAR
VERSION:2.0
PRODID:-//EZFacility.com, Inc.//EZL 2.5.5.28621
BEGIN:VEVENT
UID:11104672@ezleagues.ezfacility.com
DTSTAMP:20260423T013530Z
CREATED:20260423T013530Z
DTSTART:20180117T232000Z
DTEND:20180118T001200Z
LOCATION:Field   ID 1
CONTACT:
SUMMARY:Belgium VS. Ohio Green Hawks
DESCRIPTION:League Name: Winter Indoor 2018 Boy's U-12  North\nGame Type: R
 egular\nGame Status: Complete\nHome Team: Belgium\nAway Team: Ohio Green H
 awks\nHome Score: 2\nAway Score: 5
END:VEVENT
BEGIN:VEVENT
UID:11129267@ezleagues.ezfacility.com
DTSTAMP:20260423T013530Z
CREATED:20260423T013530Z
DTSTART:20180124T222700Z
DTEND:20180124T231900Z
LOCATION:_
CONTACT:
SUMMARY:Ohio Green Hawks VS. Ohio Premier White
DESCRIPTION:League Name: Winter Indoor 2018 Boy's U-12  North\nGame Type: R
 egular\nGame Status: Complete\nHome Team: Ohio Green Hawks\nAway Team: Ohi
 o Premier White\nHome Score: 8\nAway Score: 5
END:VEVENT
BEGIN:VEVENT
UID:11149896@ezleagues.ezfacility.com
DTSTAMP:20260423T013530Z
CREATED:20260423T013530Z
DTSTART:20180204T201800Z
DTEND:20180204T211000Z
LOCATION:Field   ID 2
CONTACT:
SUMMARY:Greece VS. Ohio Green Hawks
DESCRIPTION:League Name: Winter Indoor 2018 Boy's U-12  North\nGame Type: R
 egular\nGame Status: Complete\nHome Team: Greece\nAway Team: Ohio Green Ha
 wks\nHome Score: 3\nAway Score: 6
END:VEVENT
BEGIN:VEVENT
UID:11150366@ezleagues.ezfacility.com
DTSTAMP:20260423T013530Z
CREATED:20260423T013530Z
DTSTART:20180207T222700Z
DTEND:20180207T231900Z
LOCATION:Field   ID 2
CONTACT:
SUMMARY:Blasters VS. Ohio Green Hawks
DESCRIPTION:League Name: Winter Indoor 2018 Boy's U-12  North\nGame Type: R
 egular\nGame Status: Complete\nHome Team: Blasters\nAway Team: Ohio Green 
 Hawks\nHome Score: 7\nAway Score: 5
END:VEVENT
BEGIN:VEVENT
UID:11150368@ezleagues.ezfacility.com
DTSTAMP:20260423T013530Z
CREATED:20260423T013530Z
DTSTART:20180214T222700Z
DTEND:20180214T231900Z
LOCATION:_
CONTACT:
SUMMARY:Ohio Green Hawks VS. Ten Yards Please
DESCRIPTION:League Name: Winter Indoor 2018 Boy's U-12  North\nGame Type: R
 egular\nGame Status: Complete\nHome Team: Ohio Green Hawks\nAway Team: Ten
  Yards Please\nHome Score: 2\nAway Score: 10
END:VEVENT
BEGIN:VEVENT
UID:11149726@ezleagues.ezfacility.com
DTSTAMP:20260423T013530Z
CREATED:20260423T013530Z
DTSTART:20180225T165000Z
DTEND:20180225T174200Z
LOCATION:Field   ID 2
CONTACT:
SUMMARY:Italy VS. Ohio Green Hawks
DESCRIPTION:League Name: Winter Indoor 2018 Boy's U-12  North\nGame Type: R
 egular\nGame Status: Complete\nHome Team: Italy\nAway Team: Ohio Green Haw
 ks\nHome Score: 5\nAway Score: 13
END:VEVENT
BEGIN:VEVENT
UID:11150374@ezleagues.ezfacility.com
DTSTAMP:20260423T013530Z
CREATED:20260423T013530Z
DTSTART:20180307T232000Z
DTEND:20180308T001200Z
LOCATION:Field   ID 1
CONTACT:
SUMMARY:Ohio Green Hawks VS. Belgium
DESCRIPTION:League Name: Winter Indoor 2018 Boy's U-12  North\nGame Type: R
 egular\nGame Status: Complete\nHome Team: Ohio Green Hawks\nAway Team: Bel
 gium\nHome Score: 9\nAway Score: 2
END:VEVENT
BEGIN:VEVENT
UID:11150378@ezleagues.ezfacility.com
DTSTAMP:20260423T013530Z
CREATED:20260423T013530Z
DTSTART:20180314T222000Z
DTEND:20180314T231200Z
LOCATION:Field   ID 1
CONTACT:
SUMMARY:Ohio Premier White VS. Ohio Green Hawks
DESCRIPTION:League Name: Winter Indoor 2018 Boy's U-12  North\nGame Type: R
 egular\nGame Status: Complete\nHome Team: Ohio Premier White\nAway Team: O
 hio Green Hawks\nHome Score: 4\nAway Score: 4
END:VEVENT
BEGIN:VEVENT
UID:11159640@ezleagues.ezfacility.com
DTSTAMP:20260423T013530Z
CREATED:20260423T013530Z
DTSTART:20180328T212700Z
DTEND:20180328T221900Z
LOCATION:Field   ID 1
CONTACT:
SUMMARY:Ohio Green Hawks VS. Belgium
DESCRIPTION:League Name: Winter Indoor 2018 Boy's U-12  North\nGame Type: R
 egular\nGame Status: Complete\nHome Team: Ohio Green Hawks\nAway Team: Bel
 gium\nHome Score: 7\nAway Score: 1
END:VEVENT
END:VCALENDAR
