BEGIN:VCALENDAR
VERSION:2.0
PRODID:-//EZFacility.com, Inc.//EZL 2.5.5.28621
BEGIN:VEVENT
UID:11116740@ezleagues.ezfacility.com
DTSTAMP:20260421T093225Z
CREATED:20260421T093225Z
DTSTART:20180120T123000Z
DTEND:20180120T132200Z
LOCATION:Field   ID 1
CONTACT:
SUMMARY:Dublin Force VS. Richards Robots
DESCRIPTION:League Name: Winter Indoor 2018 Boy's U-08\nGame Type: Regular\
 nGame Status: Complete\nHome Team: Dublin Force\nAway Team: Richards Robot
 s\nHome Score: 10\nAway Score: 0
END:VEVENT
BEGIN:VEVENT
UID:11145922@ezleagues.ezfacility.com
DTSTAMP:20260421T093225Z
CREATED:20260421T093225Z
DTSTART:20180127T141400Z
DTEND:20180127T150600Z
LOCATION:Field   ID 3
CONTACT:
SUMMARY:Dublin Force VS. SF Academy BU8 Red
DESCRIPTION:League Name: Winter Indoor 2018 Boy's U-08\nGame Type: Regular\
 nGame Status: Complete\nHome Team: Dublin Force\nAway Team: SF Academy BU8
  Red\nHome Score: 6\nAway Score: 2
END:VEVENT
BEGIN:VEVENT
UID:11146108@ezleagues.ezfacility.com
DTSTAMP:20260421T093225Z
CREATED:20260421T093225Z
DTSTART:20180203T132200Z
DTEND:20180203T141400Z
LOCATION:Field   ID 1
CONTACT:
SUMMARY:Olimpia USA VS. Dublin Force
DESCRIPTION:League Name: Winter Indoor 2018 Boy's U-08\nGame Type: Regular\
 nGame Status: Complete\nHome Team: Olimpia USA\nAway Team: Dublin Force\nH
 ome Score: 2\nAway Score: 4
END:VEVENT
BEGIN:VEVENT
UID:11146078@ezleagues.ezfacility.com
DTSTAMP:20260421T093225Z
CREATED:20260421T093225Z
DTSTART:20180210T123000Z
DTEND:20180210T132200Z
LOCATION:_
CONTACT:
SUMMARY:Dublin Force VS. FCNA
DESCRIPTION:League Name: Winter Indoor 2018 Boy's U-08\nGame Type: Regular\
 nGame Status: Complete\nHome Team: Dublin Force\nAway Team: FCNA\nHome Sco
 re: 1\nAway Score: 6
END:VEVENT
BEGIN:VEVENT
UID:11147111@ezleagues.ezfacility.com
DTSTAMP:20260421T093225Z
CREATED:20260421T093225Z
DTSTART:20180217T141400Z
DTEND:20180217T150600Z
LOCATION:_
CONTACT:
SUMMARY:SF Academy BU8 Navy VS. Dublin Force
DESCRIPTION:League Name: Winter Indoor 2018 Boy's U-08\nGame Type: Regular\
 nGame Status: Complete\nHome Team: SF Academy BU8 Navy\nAway Team: Dublin 
 Force\nHome Score: 1\nAway Score: 1
END:VEVENT
BEGIN:VEVENT
UID:11147114@ezleagues.ezfacility.com
DTSTAMP:20260421T093225Z
CREATED:20260421T093225Z
DTSTART:20180224T141400Z
DTEND:20180224T150600Z
LOCATION:_
CONTACT:
SUMMARY:Dublin Force VS. GCSC Knights 10
DESCRIPTION:League Name: Winter Indoor 2018 Boy's U-08\nGame Type: Regular\
 nGame Status: Complete\nHome Team: Dublin Force\nAway Team: GCSC Knights 1
 0\nHome Score: 1\nAway Score: 3
END:VEVENT
BEGIN:VEVENT
UID:11148759@ezleagues.ezfacility.com
DTSTAMP:20260421T093225Z
CREATED:20260421T093225Z
DTSTART:20180303T132200Z
DTEND:20180303T141400Z
LOCATION:_
CONTACT:
SUMMARY:Noor Thunder VS. Dublin Force
DESCRIPTION:League Name: Winter Indoor 2018 Boy's U-08\nGame Type: Regular\
 nGame Status: Complete\nHome Team: Noor Thunder\nAway Team: Dublin Force\n
 Home Score: 4\nAway Score: 5
END:VEVENT
BEGIN:VEVENT
UID:11148612@ezleagues.ezfacility.com
DTSTAMP:20260421T093225Z
CREATED:20260421T093225Z
DTSTART:20180310T165000Z
DTEND:20180310T174200Z
LOCATION:_
CONTACT:
SUMMARY:Dublin Force VS. Ohio Premier Academy
DESCRIPTION:League Name: Winter Indoor 2018 Boy's U-08\nGame Type: Regular\
 nGame Status: Complete\nHome Team: Dublin Force\nAway Team: Ohio Premier A
 cademy\nHome Score: 5\nAway Score: 5
END:VEVENT
BEGIN:VEVENT
UID:11148767@ezleagues.ezfacility.com
DTSTAMP:20260421T093225Z
CREATED:20260421T093225Z
DTSTART:20180317T140600Z
DTEND:20180317T145800Z
LOCATION:_
CONTACT:
SUMMARY:SF Academy BU8 Navy VS. Dublin Force
DESCRIPTION:League Name: Winter Indoor 2018 Boy's U-08\nGame Type: Regular\
 nGame Status: Complete\nHome Team: SF Academy BU8 Navy\nAway Team: Dublin 
 Force\nHome Score: 2\nAway Score: 5
END:VEVENT
END:VCALENDAR
