BEGIN:VCALENDAR
VERSION:2.0
PRODID:-//EZFacility.com, Inc.//EZL 2.5.5.28621
BEGIN:VEVENT
UID:11113049@ezleagues.ezfacility.com
DTSTAMP:20260426T033828Z
CREATED:20260426T033828Z
DTSTART:20180120T024800Z
DTEND:20180120T034000Z
LOCATION:Field   ID 1
CONTACT:
SUMMARY:Dutch Oven VS. SOS
DESCRIPTION:League Name: Winter Indoor 2018  Coed 40+  North\nGame Type: Re
 gular\nGame Status: Complete\nHome Team: Dutch Oven\nAway Team: SOS\nHome 
 Score: 10\nAway Score: 1
END:VEVENT
BEGIN:VEVENT
UID:11145237@ezleagues.ezfacility.com
DTSTAMP:20260426T033828Z
CREATED:20260426T033828Z
DTSTART:20180127T024800Z
DTEND:20180127T034000Z
LOCATION:Field   ID 1
CONTACT:
SUMMARY:SOS VS. Antiques
DESCRIPTION:League Name: Winter Indoor 2018  Coed 40+  North\nGame Type: Re
 gular\nGame Status: Complete\nHome Team: SOS\nAway Team: Antiques\nHome Sc
 ore: 6\nAway Score: 6
END:VEVENT
BEGIN:VEVENT
UID:11145242@ezleagues.ezfacility.com
DTSTAMP:20260426T033828Z
CREATED:20260426T033828Z
DTSTART:20180203T034000Z
DTEND:20180203T043200Z
LOCATION:Field   ID 3
CONTACT:
SUMMARY:SOS VS. Kickmaster
DESCRIPTION:League Name: Winter Indoor 2018  Coed 40+  North\nGame Type: Re
 gular\nGame Status: Complete\nHome Team: SOS\nAway Team: Kickmaster\nHome 
 Score: 3\nAway Score: 9
END:VEVENT
BEGIN:VEVENT
UID:11145127@ezleagues.ezfacility.com
DTSTAMP:20260426T033828Z
CREATED:20260426T033828Z
DTSTART:20180210T015600Z
DTEND:20180210T024800Z
LOCATION:_
CONTACT:
SUMMARY:My Team VS. SOS
DESCRIPTION:League Name: Winter Indoor 2018  Coed 40+  North\nGame Type: Re
 gular\nGame Status: Complete\nHome Team: My Team\nAway Team: SOS\nHome Sco
 re: 8\nAway Score: 0
END:VEVENT
BEGIN:VEVENT
UID:11145130@ezleagues.ezfacility.com
DTSTAMP:20260426T033828Z
CREATED:20260426T033828Z
DTSTART:20180217T015600Z
DTEND:20180217T024800Z
LOCATION:_
CONTACT:
SUMMARY:Xylan VS. SOS
DESCRIPTION:League Name: Winter Indoor 2018  Coed 40+  North\nGame Type: Re
 gular\nGame Status: Complete\nHome Team: Xylan\nAway Team: SOS\nHome Score
 : 5\nAway Score: 8
END:VEVENT
BEGIN:VEVENT
UID:11145133@ezleagues.ezfacility.com
DTSTAMP:20260426T033828Z
CREATED:20260426T033828Z
DTSTART:20180224T015600Z
DTEND:20180224T024800Z
LOCATION:Field   ID 1
CONTACT:
SUMMARY:Wookie Nation VS. SOS
DESCRIPTION:League Name: Winter Indoor 2018  Coed 40+  North\nGame Type: Re
 gular\nGame Status: Complete\nHome Team: Wookie Nation\nAway Team: SOS\nHo
 me Score: 9\nAway Score: 2
END:VEVENT
BEGIN:VEVENT
UID:11145177@ezleagues.ezfacility.com
DTSTAMP:20260426T033828Z
CREATED:20260426T033828Z
DTSTART:20180310T015600Z
DTEND:20180310T024800Z
LOCATION:Field   ID 1
CONTACT:
SUMMARY:SOS VS. Flying Scots
DESCRIPTION:League Name: Winter Indoor 2018  Coed 40+  North\nGame Type: Re
 gular\nGame Status: Complete\nHome Team: SOS\nAway Team: Flying Scots\nHom
 e Score: 7\nAway Score: 5
END:VEVENT
BEGIN:VEVENT
UID:11145259@ezleagues.ezfacility.com
DTSTAMP:20260426T033828Z
CREATED:20260426T033828Z
DTSTART:20180317T024000Z
DTEND:20180317T033200Z
LOCATION:Field   ID 2
CONTACT:
SUMMARY:SOS VS. Xylan
DESCRIPTION:League Name: Winter Indoor 2018  Coed 40+  North\nGame Type: Re
 gular\nGame Status: Complete\nHome Team: SOS\nAway Team: Xylan\nHome Score
 : 4\nAway Score: 3
END:VEVENT
BEGIN:VEVENT
UID:11145185@ezleagues.ezfacility.com
DTSTAMP:20260426T033828Z
CREATED:20260426T033828Z
DTSTART:20180324T000400Z
DTEND:20180324T005600Z
LOCATION:Field   ID 1
CONTACT:
SUMMARY:Drinking Team VS. SOS
DESCRIPTION:League Name: Winter Indoor 2018  Coed 40+  North\nGame Type: Re
 gular\nGame Status: Complete\nHome Team: Drinking Team\nAway Team: SOS\nHo
 me Score: 3\nAway Score: 3
END:VEVENT
END:VCALENDAR
