BEGIN:VCALENDAR
VERSION:2.0
PRODID:-//EZFacility.com, Inc.//EZL 2.5.5.28621
BEGIN:VEVENT
UID:11151508@ezleagues.ezfacility.com
DTSTAMP:20260420T053423Z
CREATED:20260420T053423Z
DTSTART:20180118T024500Z
DTEND:20180118T034000Z
LOCATION:PFFC Field House - B
CONTACT:
SUMMARY:Platinum Ponies VS. Trombadas
DESCRIPTION:League Name: MSL Soccer - W/T Men's Division #3\nGame Type: Reg
 ular\nGame Status: Complete\nHome Team: Platinum Ponies\nAway Team: Tromba
 das\nHome Score: 5\nAway Score: 4
END:VEVENT
BEGIN:VEVENT
UID:11151550@ezleagues.ezfacility.com
DTSTAMP:20260420T053423Z
CREATED:20260420T053423Z
DTSTART:20180125T015000Z
DTEND:20180125T024500Z
LOCATION:PFFC Field House - A
CONTACT:
SUMMARY:Rathburn Rivergrove Alliance VS. Trombadas
DESCRIPTION:League Name: MSL Soccer - W/T Men's Division #3\nGame Type: Reg
 ular\nGame Status: Complete\nHome Team: Rathburn Rivergrove Alliance\nAway
  Team: Trombadas\nHome Score: 5\nAway Score: 1
END:VEVENT
BEGIN:VEVENT
UID:11151592@ezleagues.ezfacility.com
DTSTAMP:20260420T053423Z
CREATED:20260420T053423Z
DTSTART:20180201T024500Z
DTEND:20180201T034000Z
LOCATION:PFFC Field House - B
CONTACT:
SUMMARY:Orange Crush FC VS. Trombadas
DESCRIPTION:League Name: MSL Soccer - W/T Men's Division #3\nGame Type: Reg
 ular\nGame Status: Complete\nHome Team: Orange Crush FC\nAway Team: Tromba
 das\nHome Score: 0\nAway Score: 1
END:VEVENT
BEGIN:VEVENT
UID:11151633@ezleagues.ezfacility.com
DTSTAMP:20260420T053423Z
CREATED:20260420T053423Z
DTSTART:20180209T005500Z
DTEND:20180209T015000Z
LOCATION:PFFC Field House - A
CONTACT:
SUMMARY:Trombadas VS. C4N
DESCRIPTION:League Name: MSL Soccer - W/T Men's Division #3\nGame Type: Reg
 ular\nGame Status: Complete\nHome Team: Trombadas\nAway Team: C4N\nHome Sc
 ore: 2\nAway Score: 3
END:VEVENT
BEGIN:VEVENT
UID:11151673@ezleagues.ezfacility.com
DTSTAMP:20260420T053423Z
CREATED:20260420T053423Z
DTSTART:20180215T034000Z
DTEND:20180215T043500Z
LOCATION:PFFC Field House - B
CONTACT:
SUMMARY:Trombadas VS. Bacalhau Boys
DESCRIPTION:League Name: MSL Soccer - W/T Men's Division #3\nGame Type: Reg
 ular\nGame Status: Complete\nHome Team: Trombadas\nAway Team: Bacalhau Boy
 s\nHome Score: 1\nAway Score: 5
END:VEVENT
BEGIN:VEVENT
UID:11151713@ezleagues.ezfacility.com
DTSTAMP:20260420T053423Z
CREATED:20260420T053423Z
DTSTART:20180222T040000Z
DTEND:20180222T045500Z
LOCATION:PFFC Dome - 2
CONTACT:
SUMMARY:416 Ultras VS. Trombadas
DESCRIPTION:League Name: MSL Soccer - W/T Men's Division #3\nGame Type: Reg
 ular\nGame Status: Complete\nHome Team: 416 Ultras\nAway Team: Trombadas\n
 Home Score: 7\nAway Score: 0
END:VEVENT
BEGIN:VEVENT
UID:11151753@ezleagues.ezfacility.com
DTSTAMP:20260420T053423Z
CREATED:20260420T053423Z
DTSTART:20180301T005500Z
DTEND:20180301T015000Z
LOCATION:PFFC Field House - C
CONTACT:
SUMMARY:Rusa FC VS. Trombadas
DESCRIPTION:League Name: MSL Soccer - W/T Men's Division #3\nGame Type: Reg
 ular\nGame Status: Complete\nHome Team: Rusa FC\nAway Team: Trombadas\nHom
 e Score: 5\nAway Score: 6
END:VEVENT
BEGIN:VEVENT
UID:11151793@ezleagues.ezfacility.com
DTSTAMP:20260420T053423Z
CREATED:20260420T053423Z
DTSTART:20180308T015000Z
DTEND:20180308T024500Z
LOCATION:PFFC Field House - D
CONTACT:
SUMMARY:Trombadas VS. Gilgamesh FC
DESCRIPTION:League Name: MSL Soccer - W/T Men's Division #3\nGame Type: Reg
 ular\nGame Status: Complete\nHome Team: Trombadas\nAway Team: Gilgamesh FC
 \nHome Score: 2\nAway Score: 3
END:VEVENT
BEGIN:VEVENT
UID:11151835@ezleagues.ezfacility.com
DTSTAMP:20260420T053423Z
CREATED:20260420T053423Z
DTSTART:20180315T024000Z
DTEND:20180315T033500Z
LOCATION:PFFC Field House - C
CONTACT:
SUMMARY:Trombadas VS. Tiki Taka
DESCRIPTION:League Name: MSL Soccer - W/T Men's Division #3\nGame Type: Reg
 ular\nGame Status: Complete\nHome Team: Trombadas\nAway Team: Tiki Taka\nH
 ome Score: 2\nAway Score: 4
END:VEVENT
BEGIN:VEVENT
UID:11151877@ezleagues.ezfacility.com
DTSTAMP:20260420T053423Z
CREATED:20260420T053423Z
DTSTART:20180322T220500Z
DTEND:20180322T230000Z
LOCATION:PFFC Field House - B
CONTACT:
SUMMARY:Trombadas VS. Platinum Ponies
DESCRIPTION:League Name: MSL Soccer - W/T Men's Division #3\nGame Type: Reg
 ular\nGame Status: Complete\nHome Team: Trombadas\nAway Team: Platinum Pon
 ies\nHome Score: 1\nAway Score: 5
END:VEVENT
BEGIN:VEVENT
UID:11151919@ezleagues.ezfacility.com
DTSTAMP:20260420T053423Z
CREATED:20260420T053423Z
DTSTART:20180329T005000Z
DTEND:20180329T014500Z
LOCATION:PFFC Field House - A
CONTACT:
SUMMARY:Trombadas VS. Rathburn Rivergrove Alliance
DESCRIPTION:League Name: MSL Soccer - W/T Men's Division #3\nGame Type: Reg
 ular\nGame Status: Complete\nHome Team: Trombadas\nAway Team: Rathburn Riv
 ergrove Alliance\nHome Score: 4\nAway Score: 5
END:VEVENT
BEGIN:VEVENT
UID:11151961@ezleagues.ezfacility.com
DTSTAMP:20260420T053423Z
CREATED:20260420T053423Z
DTSTART:20180404T235500Z
DTEND:20180405T005000Z
LOCATION:PFFC Field House - C
CONTACT:
SUMMARY:Trombadas VS. Orange Crush FC
DESCRIPTION:League Name: MSL Soccer - W/T Men's Division #3\nGame Type: Reg
 ular\nGame Status: Complete\nHome Team: Trombadas\nAway Team: Orange Crush
  FC\nHome Score: 2\nAway Score: 3
END:VEVENT
BEGIN:VEVENT
UID:11152002@ezleagues.ezfacility.com
DTSTAMP:20260420T053423Z
CREATED:20260420T053423Z
DTSTART:20180412T230000Z
DTEND:20180412T235500Z
LOCATION:PFFC Field House - B
CONTACT:
SUMMARY:C4N VS. Trombadas
DESCRIPTION:League Name: MSL Soccer - W/T Men's Division #3\nGame Type: Reg
 ular\nGame Status: Complete\nHome Team: C4N\nAway Team: Trombadas\nHome Sc
 ore: 5\nAway Score: 3
END:VEVENT
BEGIN:VEVENT
UID:11152042@ezleagues.ezfacility.com
DTSTAMP:20260420T053423Z
CREATED:20260420T053423Z
DTSTART:20180419T230000Z
DTEND:20180419T235500Z
LOCATION:PFFC Field House - A
CONTACT:
SUMMARY:Bacalhau Boys VS. Trombadas
DESCRIPTION:League Name: MSL Soccer - W/T Men's Division #3\nGame Type: Reg
 ular\nGame Status: Complete\nHome Team: Bacalhau Boys\nAway Team: Trombada
 s\nHome Score: 2\nAway Score: 5
END:VEVENT
BEGIN:VEVENT
UID:11361202@ezleagues.ezfacility.com
DTSTAMP:20260420T053423Z
CREATED:20260420T053423Z
DTSTART:20180425T235500Z
DTEND:20180426T004500Z
LOCATION:PFFC Field House - A
CONTACT:
SUMMARY:C4N VS. Trombadas
DESCRIPTION:League Name: MSL Soccer - W/T Men's Division #3\nGame Type: Pos
 tseason\nGame Status: Complete\nHome Team: C4N\nAway Team: Trombadas\nHome
  Score: 1\nAway Score: 2
END:VEVENT
BEGIN:VEVENT
UID:11361203@ezleagues.ezfacility.com
DTSTAMP:20260420T053423Z
CREATED:20260420T053423Z
DTSTART:20180426T230500Z
DTEND:20180426T235500Z
LOCATION:PFFC Field House - D
CONTACT:
SUMMARY:416 Ultras VS. Trombadas
DESCRIPTION:League Name: MSL Soccer - W/T Men's Division #3\nGame Type: Pos
 tseason\nGame Status: Complete\nHome Team: 416 Ultras\nAway Team: Trombada
 s\nHome Score: 2\nAway Score: 1
END:VEVENT
END:VCALENDAR
