BEGIN:VCALENDAR
VERSION:2.0
PRODID:-//EZFacility.com, Inc.//EZL 2.5.5.28621
BEGIN:VEVENT
UID:11151502@ezleagues.ezfacility.com
DTSTAMP:20260425T181240Z
CREATED:20260425T181240Z
DTSTART:20180118T230500Z
DTEND:20180119T000000Z
LOCATION:PFFC Field House - B
CONTACT:
SUMMARY:FC SMD  VS. SCFC
DESCRIPTION:League Name: MSL Soccer - W/T Men's Division #4 \nGame Type: Re
 gular\nGame Status: Complete\nHome Team: FC SMD \nAway Team: SCFC\nHome Sc
 ore: 3\nAway Score: 3
END:VEVENT
BEGIN:VEVENT
UID:11151544@ezleagues.ezfacility.com
DTSTAMP:20260425T181240Z
CREATED:20260425T181240Z
DTSTART:20180125T034000Z
DTEND:20180125T043500Z
LOCATION:PFFC Field House - A
CONTACT:
SUMMARY:RSC VS. SCFC
DESCRIPTION:League Name: MSL Soccer - W/T Men's Division #4 \nGame Type: Re
 gular\nGame Status: Complete\nHome Team: RSC\nAway Team: SCFC\nHome Score:
  5\nAway Score: 5
END:VEVENT
BEGIN:VEVENT
UID:11151586@ezleagues.ezfacility.com
DTSTAMP:20260425T181240Z
CREATED:20260425T181240Z
DTSTART:20180201T005500Z
DTEND:20180201T015000Z
LOCATION:PFFC Field House - A
CONTACT:
SUMMARY:SCFC VS. Iron Hammered
DESCRIPTION:League Name: MSL Soccer - W/T Men's Division #4 \nGame Type: Re
 gular\nGame Status: Complete\nHome Team: SCFC\nAway Team: Iron Hammered\nH
 ome Score: 7\nAway Score: 6
END:VEVENT
BEGIN:VEVENT
UID:11151628@ezleagues.ezfacility.com
DTSTAMP:20260425T181240Z
CREATED:20260425T181240Z
DTSTART:20180209T000000Z
DTEND:20180209T005500Z
LOCATION:PFFC Field House - B
CONTACT:
SUMMARY:Lostraccos FC VS. SCFC
DESCRIPTION:League Name: MSL Soccer - W/T Men's Division #4 \nGame Type: Re
 gular\nGame Status: Complete\nHome Team: Lostraccos FC\nAway Team: SCFC\nH
 ome Score: 2\nAway Score: 4
END:VEVENT
BEGIN:VEVENT
UID:11151669@ezleagues.ezfacility.com
DTSTAMP:20260425T181240Z
CREATED:20260425T181240Z
DTSTART:20180215T005500Z
DTEND:20180215T015000Z
LOCATION:PFFC Field House - A
CONTACT:
SUMMARY:SCFC VS. FC Revolution
DESCRIPTION:League Name: MSL Soccer - W/T Men's Division #4 \nGame Type: Re
 gular\nGame Status: Complete\nHome Team: SCFC\nAway Team: FC Revolution\nH
 ome Score: 6\nAway Score: 6
END:VEVENT
BEGIN:VEVENT
UID:11151709@ezleagues.ezfacility.com
DTSTAMP:20260425T181240Z
CREATED:20260425T181240Z
DTSTART:20180222T024500Z
DTEND:20180222T034000Z
LOCATION:PFFC Field House - C
CONTACT:
SUMMARY:Martyr's Rejects VS. SCFC
DESCRIPTION:League Name: MSL Soccer - W/T Men's Division #4 \nGame Type: Re
 gular\nGame Status: Complete\nHome Team: Martyr's Rejects\nAway Team: SCFC
 \nHome Score: 2\nAway Score: 4
END:VEVENT
BEGIN:VEVENT
UID:11151749@ezleagues.ezfacility.com
DTSTAMP:20260425T181240Z
CREATED:20260425T181240Z
DTSTART:20180301T015000Z
DTEND:20180301T024500Z
LOCATION:PFFC Field House - C
CONTACT:
SUMMARY:FCB VS. SCFC
DESCRIPTION:League Name: MSL Soccer - W/T Men's Division #4 \nGame Type: Re
 gular\nGame Status: Complete\nHome Team: FCB\nAway Team: SCFC\nHome Score:
  5\nAway Score: 5
END:VEVENT
BEGIN:VEVENT
UID:11151789@ezleagues.ezfacility.com
DTSTAMP:20260425T181240Z
CREATED:20260425T181240Z
DTSTART:20180308T005500Z
DTEND:20180308T015000Z
LOCATION:PFFC Field House - A
CONTACT:
SUMMARY:Chill Sea VS. SCFC
DESCRIPTION:League Name: MSL Soccer - W/T Men's Division #4 \nGame Type: Re
 gular\nGame Status: Complete\nHome Team: Chill Sea\nAway Team: SCFC\nHome 
 Score: 7\nAway Score: 2
END:VEVENT
BEGIN:VEVENT
UID:11151829@ezleagues.ezfacility.com
DTSTAMP:20260425T181240Z
CREATED:20260425T181240Z
DTSTART:20180315T005000Z
DTEND:20180315T014500Z
LOCATION:PFFC Field House - D
CONTACT:
SUMMARY:SCFC VS. Double Apple
DESCRIPTION:League Name: MSL Soccer - W/T Men's Division #4 \nGame Type: Re
 gular\nGame Status: Complete\nHome Team: SCFC\nAway Team: Double Apple\nHo
 me Score: 5\nAway Score: 3
END:VEVENT
BEGIN:VEVENT
UID:11151871@ezleagues.ezfacility.com
DTSTAMP:20260425T181240Z
CREATED:20260425T181240Z
DTSTART:20180321T014500Z
DTEND:20180321T024000Z
LOCATION:PFFC Field House - B
CONTACT:
SUMMARY:SCFC VS. FC SMD 
DESCRIPTION:League Name: MSL Soccer - W/T Men's Division #4 \nGame Type: Re
 gular\nGame Status: Complete\nHome Team: SCFC\nAway Team: FC SMD \nHome Sc
 ore: 4\nAway Score: 4
END:VEVENT
BEGIN:VEVENT
UID:11151913@ezleagues.ezfacility.com
DTSTAMP:20260425T181240Z
CREATED:20260425T181240Z
DTSTART:20180329T230000Z
DTEND:20180329T235500Z
LOCATION:PFFC Field House - A
CONTACT:
SUMMARY:SCFC VS. RSC
DESCRIPTION:League Name: MSL Soccer - W/T Men's Division #4 \nGame Type: Re
 gular\nGame Status: Complete\nHome Team: SCFC\nAway Team: RSC\nHome Score:
  4\nAway Score: 2
END:VEVENT
BEGIN:VEVENT
UID:11151955@ezleagues.ezfacility.com
DTSTAMP:20260425T181240Z
CREATED:20260425T181240Z
DTSTART:20180406T024000Z
DTEND:20180406T033500Z
LOCATION:PFFC Field House - A
CONTACT:
SUMMARY:SCFC VS. Iron Hammered
DESCRIPTION:League Name: MSL Soccer - W/T Men's Division #4 \nGame Type: Re
 gular\nGame Status: Complete\nHome Team: SCFC\nAway Team: Iron Hammered\nH
 ome Score: 5\nAway Score: 2
END:VEVENT
BEGIN:VEVENT
UID:11151997@ezleagues.ezfacility.com
DTSTAMP:20260425T181240Z
CREATED:20260425T181240Z
DTSTART:20180412T011000Z
DTEND:20180412T020500Z
LOCATION:PFFC Dome - 2
CONTACT:
SUMMARY:SCFC VS. Lostraccos FC
DESCRIPTION:League Name: MSL Soccer - W/T Men's Division #4 \nGame Type: Re
 gular\nGame Status: Complete\nHome Team: SCFC\nAway Team: Lostraccos FC\nH
 ome Score: 7\nAway Score: 5
END:VEVENT
BEGIN:VEVENT
UID:11152038@ezleagues.ezfacility.com
DTSTAMP:20260425T181240Z
CREATED:20260425T181240Z
DTSTART:20180419T024000Z
DTEND:20180419T033500Z
LOCATION:PFFC Field House - D
CONTACT:
SUMMARY:FC Revolution VS. SCFC
DESCRIPTION:League Name: MSL Soccer - W/T Men's Division #4 \nGame Type: Re
 gular\nGame Status: Complete\nHome Team: FC Revolution\nAway Team: SCFC\nH
 ome Score: 5\nAway Score: 6
END:VEVENT
BEGIN:VEVENT
UID:11361237@ezleagues.ezfacility.com
DTSTAMP:20260425T181240Z
CREATED:20260425T181240Z
DTSTART:20180426T235500Z
DTEND:20180427T004500Z
LOCATION:PFFC Field House - A
CONTACT:
SUMMARY:SCFC VS. RSC
DESCRIPTION:League Name: MSL Soccer - W/T Men's Division #4 \nGame Type: Po
 stseason\nGame Status: Complete\nHome Team: SCFC\nAway Team: RSC\nHome Sco
 re: 8\nAway Score: 0
END:VEVENT
BEGIN:VEVENT
UID:11361256@ezleagues.ezfacility.com
DTSTAMP:20260425T181240Z
CREATED:20260425T181240Z
DTSTART:20180502T235500Z
DTEND:20180503T004500Z
LOCATION:PFFC Field House - C
CONTACT:
SUMMARY:SCFC VS. Lostraccos FC
DESCRIPTION:League Name: MSL Soccer - W/T Men's Division #4 \nGame Type: Po
 stseason\nGame Status: Complete\nHome Team: SCFC\nAway Team: Lostraccos FC
 \nHome Score: 3\nAway Score: 2
END:VEVENT
END:VCALENDAR
