BEGIN:VCALENDAR
VERSION:2.0
PRODID:-//EZFacility.com, Inc.//EZL 2.5.5.28621
BEGIN:VEVENT
UID:11129177@ezleagues.ezfacility.com
DTSTAMP:20260421T045007Z
CREATED:20260421T045007Z
DTSTART:20180123T213000Z
DTEND:20180123T222200Z
LOCATION:_
CONTACT:
SUMMARY:Turf Turtles VS. Grass Kickers
DESCRIPTION:League Name: Winter Indoor 2018 High School Girls North\nGame T
 ype: Regular\nGame Status: Complete\nHome Team: Turf Turtles\nAway Team: G
 rass Kickers\nHome Score: 8\nAway Score: 7
END:VEVENT
BEGIN:VEVENT
UID:11148304@ezleagues.ezfacility.com
DTSTAMP:20260421T045007Z
CREATED:20260421T045007Z
DTSTART:20180204T141400Z
DTEND:20180204T150600Z
LOCATION:Field   ID 3
CONTACT:
SUMMARY:Hill/Dub Girls VS. Turf Turtles
DESCRIPTION:League Name: Winter Indoor 2018 High School Girls North\nGame T
 ype: Regular\nGame Status: Rescheduled\nHome Team: Hill/Dub Girls\nAway Te
 am: Turf Turtles\n
END:VEVENT
BEGIN:VEVENT
UID:11148306@ezleagues.ezfacility.com
DTSTAMP:20260421T045007Z
CREATED:20260421T045007Z
DTSTART:20180211T141400Z
DTEND:20180211T150600Z
LOCATION:_
CONTACT:
SUMMARY:Turf Turtles VS. HSGS Team
DESCRIPTION:League Name: Winter Indoor 2018 High School Girls North\nGame T
 ype: Regular\nGame Status: Complete\nHome Team: Turf Turtles\nAway Team: H
 SGS Team\nHome Score: 1\nAway Score: 6
END:VEVENT
BEGIN:VEVENT
UID:11148322@ezleagues.ezfacility.com
DTSTAMP:20260421T045007Z
CREATED:20260421T045007Z
DTSTART:20180213T213000Z
DTEND:20180213T222200Z
LOCATION:Field   ID 2
CONTACT:
SUMMARY:NWFC VS. Turf Turtles
DESCRIPTION:League Name: Winter Indoor 2018 High School Girls North\nGame T
 ype: Regular\nGame Status: Complete\nHome Team: NWFC\nAway Team: Turf Turt
 les\nHome Score: 1\nAway Score: 6
END:VEVENT
BEGIN:VEVENT
UID:11148323@ezleagues.ezfacility.com
DTSTAMP:20260421T045007Z
CREATED:20260421T045007Z
DTSTART:20180220T213000Z
DTEND:20180220T222200Z
LOCATION:Field   ID 1
CONTACT:
SUMMARY:Turf Turtles VS. Comet Elite
DESCRIPTION:League Name: Winter Indoor 2018 High School Girls North\nGame T
 ype: Regular\nGame Status: Complete\nHome Team: Turf Turtles\nAway Team: C
 omet Elite\nHome Score: 4\nAway Score: 0
END:VEVENT
BEGIN:VEVENT
UID:11203181@ezleagues.ezfacility.com
DTSTAMP:20260421T045007Z
CREATED:20260421T045007Z
DTSTART:20180222T213000Z
DTEND:20180222T222200Z
LOCATION:Field   ID 2
CONTACT:
SUMMARY:Hill/Dub Girls VS. Turf Turtles
DESCRIPTION:League Name: Winter Indoor 2018 High School Girls North\nGame T
 ype: Regular\nGame Status: Complete\nHome Team: Hill/Dub Girls\nAway Team:
  Turf Turtles\nHome Score: 4\nAway Score: 5
END:VEVENT
BEGIN:VEVENT
UID:11148314@ezleagues.ezfacility.com
DTSTAMP:20260421T045007Z
CREATED:20260421T045007Z
DTSTART:20180304T150600Z
DTEND:20180304T155800Z
LOCATION:Field   ID 2
CONTACT:
SUMMARY:Grass Kickers VS. Turf Turtles
DESCRIPTION:League Name: Winter Indoor 2018 High School Girls North\nGame T
 ype: Regular\nGame Status: Complete\nHome Team: Grass Kickers\nAway Team: 
 Turf Turtles\nHome Score: 5\nAway Score: 3
END:VEVENT
BEGIN:VEVENT
UID:11148325@ezleagues.ezfacility.com
DTSTAMP:20260421T045007Z
CREATED:20260421T045007Z
DTSTART:20180306T213000Z
DTEND:20180306T222200Z
LOCATION:Field   ID 1
CONTACT:
SUMMARY:Turf Turtles VS. Hill/Dub Girls
DESCRIPTION:League Name: Winter Indoor 2018 High School Girls North\nGame T
 ype: Regular\nGame Status: Complete\nHome Team: Turf Turtles\nAway Team: H
 ill/Dub Girls\nHome Score: 2\nAway Score: 4
END:VEVENT
BEGIN:VEVENT
UID:11148311@ezleagues.ezfacility.com
DTSTAMP:20260421T045007Z
CREATED:20260421T045007Z
DTSTART:20180318T122200Z
DTEND:20180318T131400Z
LOCATION:Field   ID 1
CONTACT:
SUMMARY:HSGS Team VS. Turf Turtles
DESCRIPTION:League Name: Winter Indoor 2018 High School Girls North\nGame T
 ype: Regular\nGame Status: Complete\nHome Team: HSGS Team\nAway Team: Turf
  Turtles\nHome Score: 4\nAway Score: 1
END:VEVENT
BEGIN:VEVENT
UID:11148328@ezleagues.ezfacility.com
DTSTAMP:20260421T045007Z
CREATED:20260421T045007Z
DTSTART:20180320T212700Z
DTEND:20180320T221900Z
LOCATION:Field   ID 3
CONTACT:
SUMMARY:Comet Elite VS. Turf Turtles
DESCRIPTION:League Name: Winter Indoor 2018 High School Girls North\nGame T
 ype: Regular\nGame Status: Complete\nHome Team: Comet Elite\nAway Team: Tu
 rf Turtles\nHome Score: 0\nAway Score: 3
END:VEVENT
END:VCALENDAR
